BEGIN:VCALENDAR
VERSION:2.0
PRODID:-//Kulturini - ECPv6.15.20//NONSGML v1.0//EN
CALSCALE:GREGORIAN
METHOD:PUBLISH
X-ORIGINAL-URL:https://kulturini.de
X-WR-CALDESC:Veranstaltungen für Kulturini
REFRESH-INTERVAL;VALUE=DURATION:PT1H
X-Robots-Tag:noindex
X-PUBLISHED-TTL:PT1H
BEGIN:VTIMEZONE
TZID:Europe/Berlin
BEGIN:DAYLIGHT
TZOFFSETFROM:+0100
TZOFFSETTO:+0200
TZNAME:CEST
DTSTART:20240331T010000
END:DAYLIGHT
BEGIN:STANDARD
TZOFFSETFROM:+0200
TZOFFSETTO:+0100
TZNAME:CET
DTSTART:20241027T010000
END:STANDARD
BEGIN:DAYLIGHT
TZOFFSETFROM:+0100
TZOFFSETTO:+0200
TZNAME:CEST
DTSTART:20250330T010000
END:DAYLIGHT
BEGIN:STANDARD
TZOFFSETFROM:+0200
TZOFFSETTO:+0100
TZNAME:CET
DTSTART:20251026T010000
END:STANDARD
BEGIN:DAYLIGHT
TZOFFSETFROM:+0100
TZOFFSETTO:+0200
TZNAME:CEST
DTSTART:20260329T010000
END:DAYLIGHT
BEGIN:STANDARD
TZOFFSETFROM:+0200
TZOFFSETTO:+0100
TZNAME:CET
DTSTART:20261025T010000
END:STANDARD
BEGIN:DAYLIGHT
TZOFFSETFROM:+0100
TZOFFSETTO:+0200
TZNAME:CEST
DTSTART:20270328T010000
END:DAYLIGHT
BEGIN:STANDARD
TZOFFSETFROM:+0200
TZOFFSETTO:+0100
TZNAME:CET
DTSTART:20271031T010000
END:STANDARD
END:VTIMEZONE
BEGIN:VEVENT
DTSTART;TZID=Europe/Berlin:20260410T153000
DTEND;TZID=Europe/Berlin:20260410T173000
DTSTAMP:20260422T124459
CREATED:20260219T193151Z
LAST-MODIFIED:20260219T193152Z
UID:10000814-1775835000-1775842200@kulturini.de
SUMMARY:Damals in Döhren\, Wülfel\, Seelhorst
DESCRIPTION:Wir treffen uns einmal im Monat zum Austausch über das Leben in diesen Stadtteilen während der letzten Jahrzehnte. Bereichern Sie unsere Arbeit und bringen Sie gern Fotos oder Schriftstücke mit. Vielleicht können wir gemeinsam kleine Stadtgeschichten erstellen.
URL:https://kulturini.de/event/damals-in-doehren-wuelfel-seelhorst-2/2026-04-10/
LOCATION:Quartierstreff\, Borgentrickstr. 13\, Hannover\, 30519\, Germany
CATEGORIES:Kultur Gestalten
ATTACH;FMTTYPE=image/jpeg:https://kulturini.de/wp-content/uploads/2026/01/Damals-in-Doehren.jpg
ORGANIZER;CN="Kulturinitiative D%C3%B6hren-W%C3%BClfel-Mittelfeld":MAILTO:ki@kulturini.de
END:VEVENT
BEGIN:VEVENT
DTSTART;TZID=Europe/Berlin:20260408T180000
DTEND;TZID=Europe/Berlin:20260408T193000
DTSTAMP:20260422T124459
CREATED:20250520T072555Z
LAST-MODIFIED:20251020T105709Z
UID:10000162-1775671200-1775676600@kulturini.de
SUMMARY:Klangmalerei – musikalische Improvisation
DESCRIPTION:Bei der „dirigierten Improvisation“ spielen wir keine Noten\, sondern erschaffen gemeinsam Sounds und Melodien\, die der Dirigent zu einem Musikstück formt. Jeder spielt\, was er kann und will. Neue Leute sind herzlich willkommen! \nMit Thomas Siebert (Oboist und Klarinettist). \n  \n 
URL:https://kulturini.de/event/klangmalerei-musikalische-improvisation/2026-04-08/
LOCATION:Quartierstreff\, Borgentrickstr. 13\, Hannover\, 30519\, Germany
CATEGORIES:Kultur Gestalten,Musik
ATTACH;FMTTYPE=image/png:https://kulturini.de/wp-content/uploads/2025/10/14.png
ORGANIZER;CN="Kulturinitiative D%C3%B6hren-W%C3%BClfel-Mittelfeld":MAILTO:ki@kulturini.de
END:VEVENT
BEGIN:VEVENT
DTSTART;TZID=Europe/Berlin:20260313T153000
DTEND;TZID=Europe/Berlin:20260313T173000
DTSTAMP:20260422T124459
CREATED:20260219T193151Z
LAST-MODIFIED:20260219T193152Z
UID:10000796-1773415800-1773423000@kulturini.de
SUMMARY:Damals in Döhren\, Wülfel\, Seelhorst
DESCRIPTION:Wir treffen uns einmal im Monat zum Austausch über das Leben in diesen Stadtteilen während der letzten Jahrzehnte. Bereichern Sie unsere Arbeit und bringen Sie gern Fotos oder Schriftstücke mit. Vielleicht können wir gemeinsam kleine Stadtgeschichten erstellen.
URL:https://kulturini.de/event/damals-in-doehren-wuelfel-seelhorst-2/2026-03-13/
LOCATION:Quartierstreff\, Borgentrickstr. 13\, Hannover\, 30519\, Germany
CATEGORIES:Kultur Gestalten
ATTACH;FMTTYPE=image/jpeg:https://kulturini.de/wp-content/uploads/2026/01/Damals-in-Doehren.jpg
ORGANIZER;CN="Kulturinitiative D%C3%B6hren-W%C3%BClfel-Mittelfeld":MAILTO:ki@kulturini.de
END:VEVENT
BEGIN:VEVENT
DTSTART;TZID=Europe/Berlin:20260311T180000
DTEND;TZID=Europe/Berlin:20260311T193000
DTSTAMP:20260422T124459
CREATED:20250520T072555Z
LAST-MODIFIED:20251020T105709Z
UID:10000161-1773252000-1773257400@kulturini.de
SUMMARY:Klangmalerei – musikalische Improvisation
DESCRIPTION:Bei der „dirigierten Improvisation“ spielen wir keine Noten\, sondern erschaffen gemeinsam Sounds und Melodien\, die der Dirigent zu einem Musikstück formt. Jeder spielt\, was er kann und will. Neue Leute sind herzlich willkommen! \nMit Thomas Siebert (Oboist und Klarinettist). \n  \n 
URL:https://kulturini.de/event/klangmalerei-musikalische-improvisation/2026-03-11/
LOCATION:Quartierstreff\, Borgentrickstr. 13\, Hannover\, 30519\, Germany
CATEGORIES:Kultur Gestalten,Musik
ATTACH;FMTTYPE=image/png:https://kulturini.de/wp-content/uploads/2025/10/14.png
ORGANIZER;CN="Kulturinitiative D%C3%B6hren-W%C3%BClfel-Mittelfeld":MAILTO:ki@kulturini.de
END:VEVENT
BEGIN:VEVENT
DTSTART;TZID=Europe/Berlin:20260213T153000
DTEND;TZID=Europe/Berlin:20260213T173000
DTSTAMP:20260422T124459
CREATED:20260120T112136Z
LAST-MODIFIED:20260120T112136Z
UID:10000761-1770996600-1771003800@kulturini.de
SUMMARY:Damals in Döhren\, Wülfel\, Seelhorst
DESCRIPTION:Wir treffen uns einmal im Monat zum Austausch über das Leben in diesen Stadtteilen während der letzten Jahrzehnte. Bereichern Sie unsere Arbeit und bringen Sie gern Fotos oder Schriftstücke mit. Vielleicht können wir gemeinsam kleine Stadtgeschichten erstellen.
URL:https://kulturini.de/event/damals-in-doehren-wuelfel-seelhorst/
LOCATION:Quartierstreff\, Borgentrickstr. 13\, Hannover\, 30519\, Germany
CATEGORIES:Kultur Gestalten
ATTACH;FMTTYPE=image/jpeg:https://kulturini.de/wp-content/uploads/2026/01/Damals-in-Doehren.jpg
ORGANIZER;CN="Kulturinitiative D%C3%B6hren-W%C3%BClfel-Mittelfeld":MAILTO:ki@kulturini.de
END:VEVENT
BEGIN:VEVENT
DTSTART;TZID=Europe/Berlin:20260211T180000
DTEND;TZID=Europe/Berlin:20260211T193000
DTSTAMP:20260422T124459
CREATED:20250520T072555Z
LAST-MODIFIED:20251020T105709Z
UID:10000160-1770832800-1770838200@kulturini.de
SUMMARY:Klangmalerei – musikalische Improvisation
DESCRIPTION:Bei der „dirigierten Improvisation“ spielen wir keine Noten\, sondern erschaffen gemeinsam Sounds und Melodien\, die der Dirigent zu einem Musikstück formt. Jeder spielt\, was er kann und will. Neue Leute sind herzlich willkommen! \nMit Thomas Siebert (Oboist und Klarinettist). \n  \n 
URL:https://kulturini.de/event/klangmalerei-musikalische-improvisation/2026-02-11/
LOCATION:Quartierstreff\, Borgentrickstr. 13\, Hannover\, 30519\, Germany
CATEGORIES:Kultur Gestalten,Musik
ATTACH;FMTTYPE=image/png:https://kulturini.de/wp-content/uploads/2025/10/14.png
ORGANIZER;CN="Kulturinitiative D%C3%B6hren-W%C3%BClfel-Mittelfeld":MAILTO:ki@kulturini.de
END:VEVENT
BEGIN:VEVENT
DTSTART;TZID=Europe/Berlin:20260130T180000
DTEND;TZID=Europe/Berlin:20260130T203000
DTSTAMP:20260422T124459
CREATED:20260112T152953Z
LAST-MODIFIED:20260113T104825Z
UID:10000758-1769796000-1769805000@kulturini.de
SUMMARY:Lesereihe Hannover Pur - Markus Thielemann: Von Norden rollt ein Donner
DESCRIPTION:Der Wolf ist zurück in der Lüneburger Heide. Und während Jannes – wie schon sein Vater und sein Großvater – täglich seine Schafe über die Heideflächen treibt\, kochen die Emotionen im Dorf hoch. Kann Heimatschutz Gewalt rechtfertigen? Wo es vordergründig um Wolfspolitik geht\, stößt er bald auf Hass\, völkische Ideologie – und auf ein tiefes Schweigen. „Von Norden rollt ein Donner“ ist eine Spurensuche in der westdeutschen Provinz\, die Geschichte eines brüchigen „urdeutschen“ Idylls.
URL:https://kulturini.de/event/lesereihe-hannover-pur-markus-thielemann-von-norden-rollt-ein-donner/
LOCATION:Quartierstreff\, Borgentrickstr. 13\, Hannover\, 30519\, Germany
CATEGORIES:Kultur Geniessen,Lesung
ATTACH;FMTTYPE=image/jpeg:https://kulturini.de/wp-content/uploads/2026/01/30_1_Markus-Thielemann.jpg
END:VEVENT
BEGIN:VEVENT
DTSTART;TZID=Europe/Berlin:20260114T180000
DTEND;TZID=Europe/Berlin:20260114T193000
DTSTAMP:20260422T124459
CREATED:20250520T072555Z
LAST-MODIFIED:20251020T105709Z
UID:10000159-1768413600-1768419000@kulturini.de
SUMMARY:Klangmalerei – musikalische Improvisation
DESCRIPTION:Bei der „dirigierten Improvisation“ spielen wir keine Noten\, sondern erschaffen gemeinsam Sounds und Melodien\, die der Dirigent zu einem Musikstück formt. Jeder spielt\, was er kann und will. Neue Leute sind herzlich willkommen! \nMit Thomas Siebert (Oboist und Klarinettist). \n  \n 
URL:https://kulturini.de/event/klangmalerei-musikalische-improvisation/2026-01-14/
LOCATION:Quartierstreff\, Borgentrickstr. 13\, Hannover\, 30519\, Germany
CATEGORIES:Kultur Gestalten,Musik
ATTACH;FMTTYPE=image/png:https://kulturini.de/wp-content/uploads/2025/10/14.png
ORGANIZER;CN="Kulturinitiative D%C3%B6hren-W%C3%BClfel-Mittelfeld":MAILTO:ki@kulturini.de
END:VEVENT
BEGIN:VEVENT
DTSTART;TZID=Europe/Berlin:20251210T180000
DTEND;TZID=Europe/Berlin:20251210T193000
DTSTAMP:20260422T124459
CREATED:20250520T072555Z
LAST-MODIFIED:20251020T105709Z
UID:10000158-1765389600-1765395000@kulturini.de
SUMMARY:Klangmalerei – musikalische Improvisation
DESCRIPTION:Bei der „dirigierten Improvisation“ spielen wir keine Noten\, sondern erschaffen gemeinsam Sounds und Melodien\, die der Dirigent zu einem Musikstück formt. Jeder spielt\, was er kann und will. Neue Leute sind herzlich willkommen! \nMit Thomas Siebert (Oboist und Klarinettist). \n  \n 
URL:https://kulturini.de/event/klangmalerei-musikalische-improvisation/2025-12-10/
LOCATION:Quartierstreff\, Borgentrickstr. 13\, Hannover\, 30519\, Germany
CATEGORIES:Kultur Gestalten,Musik
ATTACH;FMTTYPE=image/png:https://kulturini.de/wp-content/uploads/2025/10/14.png
ORGANIZER;CN="Kulturinitiative D%C3%B6hren-W%C3%BClfel-Mittelfeld":MAILTO:ki@kulturini.de
END:VEVENT
BEGIN:VEVENT
DTSTART;TZID=Europe/Berlin:20251121T180000
DTEND;TZID=Europe/Berlin:20251121T200000
DTSTAMP:20260422T124459
CREATED:20251020T104637Z
LAST-MODIFIED:20251020T104637Z
UID:10000748-1763748000-1763755200@kulturini.de
SUMMARY:Lesung: Selene Mariani: Ellis
DESCRIPTION:Als Ellis ein kleines Kind ist\, zerbricht die Ehe ihrer Eltern. Mit ihrer Mutter zieht sie von Italien nach Deutschland. Das Leben in der neuen Umgebung ist schwer\, die Kinder in der Schule grenzen sie aus. Eines Tages kommt ein neues Mädchen in die Schule\, Grace: Zu ihr entwickelt sich eine Freundschaft\, die Ellis Halt gibt\, ihr das fehlende Gefühl von Zugehörigkeit ersetzt. Bis Grace plötzlich die Seiten wechselt. Was bedeutet es\, sich weder in dem Land\, in dem man lebt\, zuhause zu fühlen\, noch in dem Land\, in dem man geboren wurde? Was hält Ellis und Grace zusammen? Und kann die Annäherung an Grace der Frage nach der eigenen kulturellen Identität eine Antwort geben? In einer zarten\, bildreichen Sprache geht Selene Marianis Roman episodenhaft diesen Fragen nach\, Rückblenden mit assoziativen Erinnerungen weben sich dabei immer wieder in die erzählte Jetzt-Zeit ein. \nSelene Mariani\nSelene Mariani\, geb. 1994\, wuchs in Verona und Dresden auf und lebt in Hannover. Sie studierte am Literaturinstitut Hildesheim und ist als Leiterin von Schreibwerkstätten sowie im Vorstand des Vereins Autor:innenzentrum Hannover aktiv. 2021 veröffentlichte sie ihren Erzählband »Miniaturen in Blau«. »Ellis« ist ihr Romandebüt. \n\n© Selene Mariani\n  \nVielen Dank für die Unterstützung an:
URL:https://kulturini.de/event/lesung-selene-mariani-ellis/
LOCATION:Quartierstreff\, Borgentrickstr. 13\, Hannover\, 30519\, Germany
CATEGORIES:Kultur Geniessen,Lesung
ATTACH;FMTTYPE=image/jpeg:https://kulturini.de/wp-content/uploads/2025/10/9783835351523.jpg
END:VEVENT
BEGIN:VEVENT
DTSTART;TZID=Europe/Berlin:20251112T180000
DTEND;TZID=Europe/Berlin:20251112T193000
DTSTAMP:20260422T124459
CREATED:20250520T072555Z
LAST-MODIFIED:20251020T105709Z
UID:10000157-1762970400-1762975800@kulturini.de
SUMMARY:Klangmalerei – musikalische Improvisation
DESCRIPTION:Bei der „dirigierten Improvisation“ spielen wir keine Noten\, sondern erschaffen gemeinsam Sounds und Melodien\, die der Dirigent zu einem Musikstück formt. Jeder spielt\, was er kann und will. Neue Leute sind herzlich willkommen! \nMit Thomas Siebert (Oboist und Klarinettist). \n  \n 
URL:https://kulturini.de/event/klangmalerei-musikalische-improvisation/2025-11-12/
LOCATION:Quartierstreff\, Borgentrickstr. 13\, Hannover\, 30519\, Germany
CATEGORIES:Kultur Gestalten,Musik
ATTACH;FMTTYPE=image/png:https://kulturini.de/wp-content/uploads/2025/10/14.png
ORGANIZER;CN="Kulturinitiative D%C3%B6hren-W%C3%BClfel-Mittelfeld":MAILTO:ki@kulturini.de
END:VEVENT
BEGIN:VEVENT
DTSTART;TZID=Europe/Berlin:20251008T180000
DTEND;TZID=Europe/Berlin:20251008T193000
DTSTAMP:20260422T124459
CREATED:20250520T072555Z
LAST-MODIFIED:20251020T105709Z
UID:10000156-1759946400-1759951800@kulturini.de
SUMMARY:Klangmalerei – musikalische Improvisation
DESCRIPTION:Bei der „dirigierten Improvisation“ spielen wir keine Noten\, sondern erschaffen gemeinsam Sounds und Melodien\, die der Dirigent zu einem Musikstück formt. Jeder spielt\, was er kann und will. Neue Leute sind herzlich willkommen! \nMit Thomas Siebert (Oboist und Klarinettist). \n  \n 
URL:https://kulturini.de/event/klangmalerei-musikalische-improvisation/2025-10-08/
LOCATION:Quartierstreff\, Borgentrickstr. 13\, Hannover\, 30519\, Germany
CATEGORIES:Kultur Gestalten,Musik
ATTACH;FMTTYPE=image/png:https://kulturini.de/wp-content/uploads/2025/10/14.png
ORGANIZER;CN="Kulturinitiative D%C3%B6hren-W%C3%BClfel-Mittelfeld":MAILTO:ki@kulturini.de
END:VEVENT
BEGIN:VEVENT
DTSTART;TZID=Europe/Berlin:20250910T180000
DTEND;TZID=Europe/Berlin:20250910T193000
DTSTAMP:20260422T124459
CREATED:20250520T072555Z
LAST-MODIFIED:20251020T105709Z
UID:10000155-1757527200-1757532600@kulturini.de
SUMMARY:Klangmalerei – musikalische Improvisation
DESCRIPTION:Bei der „dirigierten Improvisation“ spielen wir keine Noten\, sondern erschaffen gemeinsam Sounds und Melodien\, die der Dirigent zu einem Musikstück formt. Jeder spielt\, was er kann und will. Neue Leute sind herzlich willkommen! \nMit Thomas Siebert (Oboist und Klarinettist). \n  \n 
URL:https://kulturini.de/event/klangmalerei-musikalische-improvisation/2025-09-10/
LOCATION:Quartierstreff\, Borgentrickstr. 13\, Hannover\, 30519\, Germany
CATEGORIES:Kultur Gestalten,Musik
ATTACH;FMTTYPE=image/png:https://kulturini.de/wp-content/uploads/2025/10/14.png
ORGANIZER;CN="Kulturinitiative D%C3%B6hren-W%C3%BClfel-Mittelfeld":MAILTO:ki@kulturini.de
END:VEVENT
BEGIN:VEVENT
DTSTART;TZID=Europe/Berlin:20250813T180000
DTEND;TZID=Europe/Berlin:20250813T193000
DTSTAMP:20260422T124459
CREATED:20250520T072555Z
LAST-MODIFIED:20251020T105709Z
UID:10000154-1755108000-1755113400@kulturini.de
SUMMARY:Klangmalerei – musikalische Improvisation
DESCRIPTION:Bei der „dirigierten Improvisation“ spielen wir keine Noten\, sondern erschaffen gemeinsam Sounds und Melodien\, die der Dirigent zu einem Musikstück formt. Jeder spielt\, was er kann und will. Neue Leute sind herzlich willkommen! \nMit Thomas Siebert (Oboist und Klarinettist). \n  \n 
URL:https://kulturini.de/event/klangmalerei-musikalische-improvisation/2025-08-13/
LOCATION:Quartierstreff\, Borgentrickstr. 13\, Hannover\, 30519\, Germany
CATEGORIES:Kultur Gestalten,Musik
ATTACH;FMTTYPE=image/png:https://kulturini.de/wp-content/uploads/2025/10/14.png
ORGANIZER;CN="Kulturinitiative D%C3%B6hren-W%C3%BClfel-Mittelfeld":MAILTO:ki@kulturini.de
END:VEVENT
BEGIN:VEVENT
DTSTART;TZID=Europe/Berlin:20250709T180000
DTEND;TZID=Europe/Berlin:20250709T193000
DTSTAMP:20260422T124459
CREATED:20250520T072555Z
LAST-MODIFIED:20251020T105709Z
UID:10000153-1752084000-1752089400@kulturini.de
SUMMARY:Klangmalerei – musikalische Improvisation
DESCRIPTION:Bei der „dirigierten Improvisation“ spielen wir keine Noten\, sondern erschaffen gemeinsam Sounds und Melodien\, die der Dirigent zu einem Musikstück formt. Jeder spielt\, was er kann und will. Neue Leute sind herzlich willkommen! \nMit Thomas Siebert (Oboist und Klarinettist). \n  \n 
URL:https://kulturini.de/event/klangmalerei-musikalische-improvisation/2025-07-09/
LOCATION:Quartierstreff\, Borgentrickstr. 13\, Hannover\, 30519\, Germany
CATEGORIES:Kultur Gestalten,Musik
ATTACH;FMTTYPE=image/png:https://kulturini.de/wp-content/uploads/2025/10/14.png
ORGANIZER;CN="Kulturinitiative D%C3%B6hren-W%C3%BClfel-Mittelfeld":MAILTO:ki@kulturini.de
END:VEVENT
BEGIN:VEVENT
DTSTART;TZID=Europe/Berlin:20250611T180000
DTEND;TZID=Europe/Berlin:20250611T193000
DTSTAMP:20260422T124459
CREATED:20250520T072555Z
LAST-MODIFIED:20251020T105709Z
UID:10000152-1749664800-1749670200@kulturini.de
SUMMARY:Klangmalerei – musikalische Improvisation
DESCRIPTION:Bei der „dirigierten Improvisation“ spielen wir keine Noten\, sondern erschaffen gemeinsam Sounds und Melodien\, die der Dirigent zu einem Musikstück formt. Jeder spielt\, was er kann und will. Neue Leute sind herzlich willkommen! \nMit Thomas Siebert (Oboist und Klarinettist). \n  \n 
URL:https://kulturini.de/event/klangmalerei-musikalische-improvisation/2025-06-11/
LOCATION:Quartierstreff\, Borgentrickstr. 13\, Hannover\, 30519\, Germany
CATEGORIES:Kultur Gestalten,Musik
ATTACH;FMTTYPE=image/png:https://kulturini.de/wp-content/uploads/2025/10/14.png
ORGANIZER;CN="Kulturinitiative D%C3%B6hren-W%C3%BClfel-Mittelfeld":MAILTO:ki@kulturini.de
END:VEVENT
END:VCALENDAR