BEGIN:VCALENDAR
VERSION:2.0
PRODID:-//Kulturini - ECPv6.15.20//NONSGML v1.0//EN
CALSCALE:GREGORIAN
METHOD:PUBLISH
X-ORIGINAL-URL:https://kulturini.de
X-WR-CALDESC:Veranstaltungen für Kulturini
REFRESH-INTERVAL;VALUE=DURATION:PT1H
X-Robots-Tag:noindex
X-PUBLISHED-TTL:PT1H
BEGIN:VTIMEZONE
TZID:Europe/Berlin
BEGIN:DAYLIGHT
TZOFFSETFROM:+0100
TZOFFSETTO:+0200
TZNAME:CEST
DTSTART:20240331T010000
END:DAYLIGHT
BEGIN:STANDARD
TZOFFSETFROM:+0200
TZOFFSETTO:+0100
TZNAME:CET
DTSTART:20241027T010000
END:STANDARD
BEGIN:DAYLIGHT
TZOFFSETFROM:+0100
TZOFFSETTO:+0200
TZNAME:CEST
DTSTART:20250330T010000
END:DAYLIGHT
BEGIN:STANDARD
TZOFFSETFROM:+0200
TZOFFSETTO:+0100
TZNAME:CET
DTSTART:20251026T010000
END:STANDARD
BEGIN:DAYLIGHT
TZOFFSETFROM:+0100
TZOFFSETTO:+0200
TZNAME:CEST
DTSTART:20260329T010000
END:DAYLIGHT
BEGIN:STANDARD
TZOFFSETFROM:+0200
TZOFFSETTO:+0100
TZNAME:CET
DTSTART:20261025T010000
END:STANDARD
END:VTIMEZONE
BEGIN:VEVENT
DTSTART;TZID=Europe/Berlin:20250607T110000
DTEND;TZID=Europe/Berlin:20250607T130000
DTSTAMP:20260422T140709
CREATED:20250520T071816Z
LAST-MODIFIED:20250603T130818Z
UID:10000006-1749294000-1749301200@kulturini.de
SUMMARY:Gemeinsamer Besuch des Küchenmuseums
DESCRIPTION:Die World of Kitchen (WOK) zeigt die Küche als Herzstück des Hauses mit liebevoll gestalteten Szenen aus verschiedenen Epochen\, vom Mittelalter bis zur Gegenwart. Wir gehen auf eine Zeitreise in Küchenräume aus längst vergangenen Dekaden und werfen einen Blick in die Speisekammern anderer Länder und Kulturen.
URL:https://kulturini.de/event/gemeinsamer-besuch-des-kuechenmuseums/
LOCATION:Küchenmuseum\, Spichernstraße 22\, Hannover\, 30161\, Germany
CATEGORIES:Ausflüge,Kultur Geniessen
ATTACH;FMTTYPE=image/jpeg:https://kulturini.de/wp-content/uploads/2025/05/26.4.-©-kuechenmuseum.jpg
ORGANIZER;CN="Kulturinitiative D%C3%B6hren-W%C3%BClfel-Mittelfeld":MAILTO:ki@kulturini.de
END:VEVENT
END:VCALENDAR