BEGIN:VCALENDAR
VERSION:2.0
PRODID:-//Kulturini - ECPv6.15.20//NONSGML v1.0//EN
CALSCALE:GREGORIAN
METHOD:PUBLISH
X-ORIGINAL-URL:https://kulturini.de
X-WR-CALDESC:Veranstaltungen für Kulturini
REFRESH-INTERVAL;VALUE=DURATION:PT1H
X-Robots-Tag:noindex
X-PUBLISHED-TTL:PT1H
BEGIN:VTIMEZONE
TZID:Europe/Berlin
BEGIN:DAYLIGHT
TZOFFSETFROM:+0100
TZOFFSETTO:+0200
TZNAME:CEST
DTSTART:20260329T010000
END:DAYLIGHT
BEGIN:STANDARD
TZOFFSETFROM:+0200
TZOFFSETTO:+0100
TZNAME:CET
DTSTART:20261025T010000
END:STANDARD
BEGIN:DAYLIGHT
TZOFFSETFROM:+0100
TZOFFSETTO:+0200
TZNAME:CEST
DTSTART:20270328T010000
END:DAYLIGHT
BEGIN:STANDARD
TZOFFSETFROM:+0200
TZOFFSETTO:+0100
TZNAME:CET
DTSTART:20271031T010000
END:STANDARD
BEGIN:DAYLIGHT
TZOFFSETFROM:+0100
TZOFFSETTO:+0200
TZNAME:CEST
DTSTART:20280326T010000
END:DAYLIGHT
BEGIN:STANDARD
TZOFFSETFROM:+0200
TZOFFSETTO:+0100
TZNAME:CET
DTSTART:20281029T010000
END:STANDARD
BEGIN:DAYLIGHT
TZOFFSETFROM:+0100
TZOFFSETTO:+0200
TZNAME:CEST
DTSTART:20290325T010000
END:DAYLIGHT
BEGIN:STANDARD
TZOFFSETFROM:+0200
TZOFFSETTO:+0100
TZNAME:CET
DTSTART:20291028T010000
END:STANDARD
END:VTIMEZONE
BEGIN:VEVENT
DTSTART;TZID=Europe/Berlin:20270622T140000
DTEND;TZID=Europe/Berlin:20270622T160000
DTSTAMP:20260422T193217
CREATED:20250722T075513Z
LAST-MODIFIED:20251020T094621Z
UID:10000573-1813672800-1813680000@kulturini.de
SUMMARY:Boule am Dienstag
DESCRIPTION:Wir treffen uns in lockerer Runde zum gemeinsamen Boulespielen. Eine vorherige Anmeldung ist nicht nötig\, Sie können einfach dazu kommen. Die Boule-Gruppe trifft sich jeden Dienstag. \nMit Hubertus Süllow.
URL:https://kulturini.de/event/boule-am-dienstag/2027-06-22/
LOCATION:Hannover\, Fiedelerplatz\, Fiedelerplatz\, Hannover\, 30519\, Germany
CATEGORIES:Kultur Gestalten,Spiele
ATTACH;FMTTYPE=image/jpeg:https://kulturini.de/wp-content/uploads/2025/10/iStock-1479287040-scaled.jpg
ORGANIZER;CN="Kulturinitiative D%C3%B6hren-W%C3%BClfel-Mittelfeld":MAILTO:ki@kulturini.de
END:VEVENT
BEGIN:VEVENT
DTSTART;TZID=Europe/Berlin:20270629T140000
DTEND;TZID=Europe/Berlin:20270629T160000
DTSTAMP:20260422T193217
CREATED:20250722T075513Z
LAST-MODIFIED:20251020T094621Z
UID:10000574-1814277600-1814284800@kulturini.de
SUMMARY:Boule am Dienstag
DESCRIPTION:Wir treffen uns in lockerer Runde zum gemeinsamen Boulespielen. Eine vorherige Anmeldung ist nicht nötig\, Sie können einfach dazu kommen. Die Boule-Gruppe trifft sich jeden Dienstag. \nMit Hubertus Süllow.
URL:https://kulturini.de/event/boule-am-dienstag/2027-06-29/
LOCATION:Hannover\, Fiedelerplatz\, Fiedelerplatz\, Hannover\, 30519\, Germany
CATEGORIES:Kultur Gestalten,Spiele
ATTACH;FMTTYPE=image/jpeg:https://kulturini.de/wp-content/uploads/2025/10/iStock-1479287040-scaled.jpg
ORGANIZER;CN="Kulturinitiative D%C3%B6hren-W%C3%BClfel-Mittelfeld":MAILTO:ki@kulturini.de
END:VEVENT
BEGIN:VEVENT
DTSTART;TZID=Europe/Berlin:20270706T140000
DTEND;TZID=Europe/Berlin:20270706T160000
DTSTAMP:20260422T193217
CREATED:20250722T075513Z
LAST-MODIFIED:20251020T094621Z
UID:10000575-1814882400-1814889600@kulturini.de
SUMMARY:Boule am Dienstag
DESCRIPTION:Wir treffen uns in lockerer Runde zum gemeinsamen Boulespielen. Eine vorherige Anmeldung ist nicht nötig\, Sie können einfach dazu kommen. Die Boule-Gruppe trifft sich jeden Dienstag. \nMit Hubertus Süllow.
URL:https://kulturini.de/event/boule-am-dienstag/2027-07-06/
LOCATION:Hannover\, Fiedelerplatz\, Fiedelerplatz\, Hannover\, 30519\, Germany
CATEGORIES:Kultur Gestalten,Spiele
ATTACH;FMTTYPE=image/jpeg:https://kulturini.de/wp-content/uploads/2025/10/iStock-1479287040-scaled.jpg
ORGANIZER;CN="Kulturinitiative D%C3%B6hren-W%C3%BClfel-Mittelfeld":MAILTO:ki@kulturini.de
END:VEVENT
BEGIN:VEVENT
DTSTART;TZID=Europe/Berlin:20270713T140000
DTEND;TZID=Europe/Berlin:20270713T160000
DTSTAMP:20260422T193217
CREATED:20250722T075513Z
LAST-MODIFIED:20251020T094621Z
UID:10000576-1815487200-1815494400@kulturini.de
SUMMARY:Boule am Dienstag
DESCRIPTION:Wir treffen uns in lockerer Runde zum gemeinsamen Boulespielen. Eine vorherige Anmeldung ist nicht nötig\, Sie können einfach dazu kommen. Die Boule-Gruppe trifft sich jeden Dienstag. \nMit Hubertus Süllow.
URL:https://kulturini.de/event/boule-am-dienstag/2027-07-13/
LOCATION:Hannover\, Fiedelerplatz\, Fiedelerplatz\, Hannover\, 30519\, Germany
CATEGORIES:Kultur Gestalten,Spiele
ATTACH;FMTTYPE=image/jpeg:https://kulturini.de/wp-content/uploads/2025/10/iStock-1479287040-scaled.jpg
ORGANIZER;CN="Kulturinitiative D%C3%B6hren-W%C3%BClfel-Mittelfeld":MAILTO:ki@kulturini.de
END:VEVENT
BEGIN:VEVENT
DTSTART;TZID=Europe/Berlin:20270720T140000
DTEND;TZID=Europe/Berlin:20270720T160000
DTSTAMP:20260422T193217
CREATED:20250722T075513Z
LAST-MODIFIED:20251020T094621Z
UID:10000577-1816092000-1816099200@kulturini.de
SUMMARY:Boule am Dienstag
DESCRIPTION:Wir treffen uns in lockerer Runde zum gemeinsamen Boulespielen. Eine vorherige Anmeldung ist nicht nötig\, Sie können einfach dazu kommen. Die Boule-Gruppe trifft sich jeden Dienstag. \nMit Hubertus Süllow.
URL:https://kulturini.de/event/boule-am-dienstag/2027-07-20/
LOCATION:Hannover\, Fiedelerplatz\, Fiedelerplatz\, Hannover\, 30519\, Germany
CATEGORIES:Kultur Gestalten,Spiele
ATTACH;FMTTYPE=image/jpeg:https://kulturini.de/wp-content/uploads/2025/10/iStock-1479287040-scaled.jpg
ORGANIZER;CN="Kulturinitiative D%C3%B6hren-W%C3%BClfel-Mittelfeld":MAILTO:ki@kulturini.de
END:VEVENT
BEGIN:VEVENT
DTSTART;TZID=Europe/Berlin:20270727T140000
DTEND;TZID=Europe/Berlin:20270727T160000
DTSTAMP:20260422T193217
CREATED:20250722T075513Z
LAST-MODIFIED:20251020T094621Z
UID:10000578-1816696800-1816704000@kulturini.de
SUMMARY:Boule am Dienstag
DESCRIPTION:Wir treffen uns in lockerer Runde zum gemeinsamen Boulespielen. Eine vorherige Anmeldung ist nicht nötig\, Sie können einfach dazu kommen. Die Boule-Gruppe trifft sich jeden Dienstag. \nMit Hubertus Süllow.
URL:https://kulturini.de/event/boule-am-dienstag/2027-07-27/
LOCATION:Hannover\, Fiedelerplatz\, Fiedelerplatz\, Hannover\, 30519\, Germany
CATEGORIES:Kultur Gestalten,Spiele
ATTACH;FMTTYPE=image/jpeg:https://kulturini.de/wp-content/uploads/2025/10/iStock-1479287040-scaled.jpg
ORGANIZER;CN="Kulturinitiative D%C3%B6hren-W%C3%BClfel-Mittelfeld":MAILTO:ki@kulturini.de
END:VEVENT
BEGIN:VEVENT
DTSTART;TZID=Europe/Berlin:20270803T140000
DTEND;TZID=Europe/Berlin:20270803T160000
DTSTAMP:20260422T193217
CREATED:20250722T075513Z
LAST-MODIFIED:20251020T094621Z
UID:10000579-1817301600-1817308800@kulturini.de
SUMMARY:Boule am Dienstag
DESCRIPTION:Wir treffen uns in lockerer Runde zum gemeinsamen Boulespielen. Eine vorherige Anmeldung ist nicht nötig\, Sie können einfach dazu kommen. Die Boule-Gruppe trifft sich jeden Dienstag. \nMit Hubertus Süllow.
URL:https://kulturini.de/event/boule-am-dienstag/2027-08-03/
LOCATION:Hannover\, Fiedelerplatz\, Fiedelerplatz\, Hannover\, 30519\, Germany
CATEGORIES:Kultur Gestalten,Spiele
ATTACH;FMTTYPE=image/jpeg:https://kulturini.de/wp-content/uploads/2025/10/iStock-1479287040-scaled.jpg
ORGANIZER;CN="Kulturinitiative D%C3%B6hren-W%C3%BClfel-Mittelfeld":MAILTO:ki@kulturini.de
END:VEVENT
BEGIN:VEVENT
DTSTART;TZID=Europe/Berlin:20270810T140000
DTEND;TZID=Europe/Berlin:20270810T160000
DTSTAMP:20260422T193217
CREATED:20250722T075513Z
LAST-MODIFIED:20251020T094621Z
UID:10000580-1817906400-1817913600@kulturini.de
SUMMARY:Boule am Dienstag
DESCRIPTION:Wir treffen uns in lockerer Runde zum gemeinsamen Boulespielen. Eine vorherige Anmeldung ist nicht nötig\, Sie können einfach dazu kommen. Die Boule-Gruppe trifft sich jeden Dienstag. \nMit Hubertus Süllow.
URL:https://kulturini.de/event/boule-am-dienstag/2027-08-10/
LOCATION:Hannover\, Fiedelerplatz\, Fiedelerplatz\, Hannover\, 30519\, Germany
CATEGORIES:Kultur Gestalten,Spiele
ATTACH;FMTTYPE=image/jpeg:https://kulturini.de/wp-content/uploads/2025/10/iStock-1479287040-scaled.jpg
ORGANIZER;CN="Kulturinitiative D%C3%B6hren-W%C3%BClfel-Mittelfeld":MAILTO:ki@kulturini.de
END:VEVENT
BEGIN:VEVENT
DTSTART;TZID=Europe/Berlin:20270817T140000
DTEND;TZID=Europe/Berlin:20270817T160000
DTSTAMP:20260422T193217
CREATED:20250722T075513Z
LAST-MODIFIED:20251020T094621Z
UID:10000581-1818511200-1818518400@kulturini.de
SUMMARY:Boule am Dienstag
DESCRIPTION:Wir treffen uns in lockerer Runde zum gemeinsamen Boulespielen. Eine vorherige Anmeldung ist nicht nötig\, Sie können einfach dazu kommen. Die Boule-Gruppe trifft sich jeden Dienstag. \nMit Hubertus Süllow.
URL:https://kulturini.de/event/boule-am-dienstag/2027-08-17/
LOCATION:Hannover\, Fiedelerplatz\, Fiedelerplatz\, Hannover\, 30519\, Germany
CATEGORIES:Kultur Gestalten,Spiele
ATTACH;FMTTYPE=image/jpeg:https://kulturini.de/wp-content/uploads/2025/10/iStock-1479287040-scaled.jpg
ORGANIZER;CN="Kulturinitiative D%C3%B6hren-W%C3%BClfel-Mittelfeld":MAILTO:ki@kulturini.de
END:VEVENT
BEGIN:VEVENT
DTSTART;TZID=Europe/Berlin:20270824T140000
DTEND;TZID=Europe/Berlin:20270824T160000
DTSTAMP:20260422T193217
CREATED:20250722T075513Z
LAST-MODIFIED:20251020T094621Z
UID:10000582-1819116000-1819123200@kulturini.de
SUMMARY:Boule am Dienstag
DESCRIPTION:Wir treffen uns in lockerer Runde zum gemeinsamen Boulespielen. Eine vorherige Anmeldung ist nicht nötig\, Sie können einfach dazu kommen. Die Boule-Gruppe trifft sich jeden Dienstag. \nMit Hubertus Süllow.
URL:https://kulturini.de/event/boule-am-dienstag/2027-08-24/
LOCATION:Hannover\, Fiedelerplatz\, Fiedelerplatz\, Hannover\, 30519\, Germany
CATEGORIES:Kultur Gestalten,Spiele
ATTACH;FMTTYPE=image/jpeg:https://kulturini.de/wp-content/uploads/2025/10/iStock-1479287040-scaled.jpg
ORGANIZER;CN="Kulturinitiative D%C3%B6hren-W%C3%BClfel-Mittelfeld":MAILTO:ki@kulturini.de
END:VEVENT
BEGIN:VEVENT
DTSTART;TZID=Europe/Berlin:20270831T140000
DTEND;TZID=Europe/Berlin:20270831T160000
DTSTAMP:20260422T193217
CREATED:20250722T075513Z
LAST-MODIFIED:20251020T094621Z
UID:10000583-1819720800-1819728000@kulturini.de
SUMMARY:Boule am Dienstag
DESCRIPTION:Wir treffen uns in lockerer Runde zum gemeinsamen Boulespielen. Eine vorherige Anmeldung ist nicht nötig\, Sie können einfach dazu kommen. Die Boule-Gruppe trifft sich jeden Dienstag. \nMit Hubertus Süllow.
URL:https://kulturini.de/event/boule-am-dienstag/2027-08-31/
LOCATION:Hannover\, Fiedelerplatz\, Fiedelerplatz\, Hannover\, 30519\, Germany
CATEGORIES:Kultur Gestalten,Spiele
ATTACH;FMTTYPE=image/jpeg:https://kulturini.de/wp-content/uploads/2025/10/iStock-1479287040-scaled.jpg
ORGANIZER;CN="Kulturinitiative D%C3%B6hren-W%C3%BClfel-Mittelfeld":MAILTO:ki@kulturini.de
END:VEVENT
BEGIN:VEVENT
DTSTART;TZID=Europe/Berlin:20270907T140000
DTEND;TZID=Europe/Berlin:20270907T160000
DTSTAMP:20260422T193217
CREATED:20250722T075513Z
LAST-MODIFIED:20251020T094621Z
UID:10000584-1820325600-1820332800@kulturini.de
SUMMARY:Boule am Dienstag
DESCRIPTION:Wir treffen uns in lockerer Runde zum gemeinsamen Boulespielen. Eine vorherige Anmeldung ist nicht nötig\, Sie können einfach dazu kommen. Die Boule-Gruppe trifft sich jeden Dienstag. \nMit Hubertus Süllow.
URL:https://kulturini.de/event/boule-am-dienstag/2027-09-07/
LOCATION:Hannover\, Fiedelerplatz\, Fiedelerplatz\, Hannover\, 30519\, Germany
CATEGORIES:Kultur Gestalten,Spiele
ATTACH;FMTTYPE=image/jpeg:https://kulturini.de/wp-content/uploads/2025/10/iStock-1479287040-scaled.jpg
ORGANIZER;CN="Kulturinitiative D%C3%B6hren-W%C3%BClfel-Mittelfeld":MAILTO:ki@kulturini.de
END:VEVENT
BEGIN:VEVENT
DTSTART;TZID=Europe/Berlin:20270914T140000
DTEND;TZID=Europe/Berlin:20270914T160000
DTSTAMP:20260422T193217
CREATED:20250722T075513Z
LAST-MODIFIED:20251020T094621Z
UID:10000585-1820930400-1820937600@kulturini.de
SUMMARY:Boule am Dienstag
DESCRIPTION:Wir treffen uns in lockerer Runde zum gemeinsamen Boulespielen. Eine vorherige Anmeldung ist nicht nötig\, Sie können einfach dazu kommen. Die Boule-Gruppe trifft sich jeden Dienstag. \nMit Hubertus Süllow.
URL:https://kulturini.de/event/boule-am-dienstag/2027-09-14/
LOCATION:Hannover\, Fiedelerplatz\, Fiedelerplatz\, Hannover\, 30519\, Germany
CATEGORIES:Kultur Gestalten,Spiele
ATTACH;FMTTYPE=image/jpeg:https://kulturini.de/wp-content/uploads/2025/10/iStock-1479287040-scaled.jpg
ORGANIZER;CN="Kulturinitiative D%C3%B6hren-W%C3%BClfel-Mittelfeld":MAILTO:ki@kulturini.de
END:VEVENT
BEGIN:VEVENT
DTSTART;TZID=Europe/Berlin:20270921T140000
DTEND;TZID=Europe/Berlin:20270921T160000
DTSTAMP:20260422T193217
CREATED:20250722T075513Z
LAST-MODIFIED:20251020T094621Z
UID:10000586-1821535200-1821542400@kulturini.de
SUMMARY:Boule am Dienstag
DESCRIPTION:Wir treffen uns in lockerer Runde zum gemeinsamen Boulespielen. Eine vorherige Anmeldung ist nicht nötig\, Sie können einfach dazu kommen. Die Boule-Gruppe trifft sich jeden Dienstag. \nMit Hubertus Süllow.
URL:https://kulturini.de/event/boule-am-dienstag/2027-09-21/
LOCATION:Hannover\, Fiedelerplatz\, Fiedelerplatz\, Hannover\, 30519\, Germany
CATEGORIES:Kultur Gestalten,Spiele
ATTACH;FMTTYPE=image/jpeg:https://kulturini.de/wp-content/uploads/2025/10/iStock-1479287040-scaled.jpg
ORGANIZER;CN="Kulturinitiative D%C3%B6hren-W%C3%BClfel-Mittelfeld":MAILTO:ki@kulturini.de
END:VEVENT
BEGIN:VEVENT
DTSTART;TZID=Europe/Berlin:20270928T140000
DTEND;TZID=Europe/Berlin:20270928T160000
DTSTAMP:20260422T193217
CREATED:20250722T075513Z
LAST-MODIFIED:20251020T094621Z
UID:10000587-1822140000-1822147200@kulturini.de
SUMMARY:Boule am Dienstag
DESCRIPTION:Wir treffen uns in lockerer Runde zum gemeinsamen Boulespielen. Eine vorherige Anmeldung ist nicht nötig\, Sie können einfach dazu kommen. Die Boule-Gruppe trifft sich jeden Dienstag. \nMit Hubertus Süllow.
URL:https://kulturini.de/event/boule-am-dienstag/2027-09-28/
LOCATION:Hannover\, Fiedelerplatz\, Fiedelerplatz\, Hannover\, 30519\, Germany
CATEGORIES:Kultur Gestalten,Spiele
ATTACH;FMTTYPE=image/jpeg:https://kulturini.de/wp-content/uploads/2025/10/iStock-1479287040-scaled.jpg
ORGANIZER;CN="Kulturinitiative D%C3%B6hren-W%C3%BClfel-Mittelfeld":MAILTO:ki@kulturini.de
END:VEVENT
BEGIN:VEVENT
DTSTART;TZID=Europe/Berlin:20271005T140000
DTEND;TZID=Europe/Berlin:20271005T160000
DTSTAMP:20260422T193217
CREATED:20250722T075513Z
LAST-MODIFIED:20251020T094621Z
UID:10000588-1822744800-1822752000@kulturini.de
SUMMARY:Boule am Dienstag
DESCRIPTION:Wir treffen uns in lockerer Runde zum gemeinsamen Boulespielen. Eine vorherige Anmeldung ist nicht nötig\, Sie können einfach dazu kommen. Die Boule-Gruppe trifft sich jeden Dienstag. \nMit Hubertus Süllow.
URL:https://kulturini.de/event/boule-am-dienstag/2027-10-05/
LOCATION:Hannover\, Fiedelerplatz\, Fiedelerplatz\, Hannover\, 30519\, Germany
CATEGORIES:Kultur Gestalten,Spiele
ATTACH;FMTTYPE=image/jpeg:https://kulturini.de/wp-content/uploads/2025/10/iStock-1479287040-scaled.jpg
ORGANIZER;CN="Kulturinitiative D%C3%B6hren-W%C3%BClfel-Mittelfeld":MAILTO:ki@kulturini.de
END:VEVENT
BEGIN:VEVENT
DTSTART;TZID=Europe/Berlin:20271012T140000
DTEND;TZID=Europe/Berlin:20271012T160000
DTSTAMP:20260422T193217
CREATED:20250722T075513Z
LAST-MODIFIED:20251020T094621Z
UID:10000589-1823349600-1823356800@kulturini.de
SUMMARY:Boule am Dienstag
DESCRIPTION:Wir treffen uns in lockerer Runde zum gemeinsamen Boulespielen. Eine vorherige Anmeldung ist nicht nötig\, Sie können einfach dazu kommen. Die Boule-Gruppe trifft sich jeden Dienstag. \nMit Hubertus Süllow.
URL:https://kulturini.de/event/boule-am-dienstag/2027-10-12/
LOCATION:Hannover\, Fiedelerplatz\, Fiedelerplatz\, Hannover\, 30519\, Germany
CATEGORIES:Kultur Gestalten,Spiele
ATTACH;FMTTYPE=image/jpeg:https://kulturini.de/wp-content/uploads/2025/10/iStock-1479287040-scaled.jpg
ORGANIZER;CN="Kulturinitiative D%C3%B6hren-W%C3%BClfel-Mittelfeld":MAILTO:ki@kulturini.de
END:VEVENT
BEGIN:VEVENT
DTSTART;TZID=Europe/Berlin:20271019T140000
DTEND;TZID=Europe/Berlin:20271019T160000
DTSTAMP:20260422T193217
CREATED:20250722T075513Z
LAST-MODIFIED:20251020T094621Z
UID:10000590-1823954400-1823961600@kulturini.de
SUMMARY:Boule am Dienstag
DESCRIPTION:Wir treffen uns in lockerer Runde zum gemeinsamen Boulespielen. Eine vorherige Anmeldung ist nicht nötig\, Sie können einfach dazu kommen. Die Boule-Gruppe trifft sich jeden Dienstag. \nMit Hubertus Süllow.
URL:https://kulturini.de/event/boule-am-dienstag/2027-10-19/
LOCATION:Hannover\, Fiedelerplatz\, Fiedelerplatz\, Hannover\, 30519\, Germany
CATEGORIES:Kultur Gestalten,Spiele
ATTACH;FMTTYPE=image/jpeg:https://kulturini.de/wp-content/uploads/2025/10/iStock-1479287040-scaled.jpg
ORGANIZER;CN="Kulturinitiative D%C3%B6hren-W%C3%BClfel-Mittelfeld":MAILTO:ki@kulturini.de
END:VEVENT
BEGIN:VEVENT
DTSTART;TZID=Europe/Berlin:20271026T140000
DTEND;TZID=Europe/Berlin:20271026T160000
DTSTAMP:20260422T193217
CREATED:20250722T075513Z
LAST-MODIFIED:20251020T094621Z
UID:10000591-1824559200-1824566400@kulturini.de
SUMMARY:Boule am Dienstag
DESCRIPTION:Wir treffen uns in lockerer Runde zum gemeinsamen Boulespielen. Eine vorherige Anmeldung ist nicht nötig\, Sie können einfach dazu kommen. Die Boule-Gruppe trifft sich jeden Dienstag. \nMit Hubertus Süllow.
URL:https://kulturini.de/event/boule-am-dienstag/2027-10-26/
LOCATION:Hannover\, Fiedelerplatz\, Fiedelerplatz\, Hannover\, 30519\, Germany
CATEGORIES:Kultur Gestalten,Spiele
ATTACH;FMTTYPE=image/jpeg:https://kulturini.de/wp-content/uploads/2025/10/iStock-1479287040-scaled.jpg
ORGANIZER;CN="Kulturinitiative D%C3%B6hren-W%C3%BClfel-Mittelfeld":MAILTO:ki@kulturini.de
END:VEVENT
BEGIN:VEVENT
DTSTART;TZID=Europe/Berlin:20271102T140000
DTEND;TZID=Europe/Berlin:20271102T160000
DTSTAMP:20260422T193217
CREATED:20250722T075513Z
LAST-MODIFIED:20251020T094621Z
UID:10000592-1825164000-1825171200@kulturini.de
SUMMARY:Boule am Dienstag
DESCRIPTION:Wir treffen uns in lockerer Runde zum gemeinsamen Boulespielen. Eine vorherige Anmeldung ist nicht nötig\, Sie können einfach dazu kommen. Die Boule-Gruppe trifft sich jeden Dienstag. \nMit Hubertus Süllow.
URL:https://kulturini.de/event/boule-am-dienstag/2027-11-02/
LOCATION:Hannover\, Fiedelerplatz\, Fiedelerplatz\, Hannover\, 30519\, Germany
CATEGORIES:Kultur Gestalten,Spiele
ATTACH;FMTTYPE=image/jpeg:https://kulturini.de/wp-content/uploads/2025/10/iStock-1479287040-scaled.jpg
ORGANIZER;CN="Kulturinitiative D%C3%B6hren-W%C3%BClfel-Mittelfeld":MAILTO:ki@kulturini.de
END:VEVENT
BEGIN:VEVENT
DTSTART;TZID=Europe/Berlin:20271109T140000
DTEND;TZID=Europe/Berlin:20271109T160000
DTSTAMP:20260422T193217
CREATED:20250722T075513Z
LAST-MODIFIED:20251020T094621Z
UID:10000593-1825768800-1825776000@kulturini.de
SUMMARY:Boule am Dienstag
DESCRIPTION:Wir treffen uns in lockerer Runde zum gemeinsamen Boulespielen. Eine vorherige Anmeldung ist nicht nötig\, Sie können einfach dazu kommen. Die Boule-Gruppe trifft sich jeden Dienstag. \nMit Hubertus Süllow.
URL:https://kulturini.de/event/boule-am-dienstag/2027-11-09/
LOCATION:Hannover\, Fiedelerplatz\, Fiedelerplatz\, Hannover\, 30519\, Germany
CATEGORIES:Kultur Gestalten,Spiele
ATTACH;FMTTYPE=image/jpeg:https://kulturini.de/wp-content/uploads/2025/10/iStock-1479287040-scaled.jpg
ORGANIZER;CN="Kulturinitiative D%C3%B6hren-W%C3%BClfel-Mittelfeld":MAILTO:ki@kulturini.de
END:VEVENT
BEGIN:VEVENT
DTSTART;TZID=Europe/Berlin:20271116T140000
DTEND;TZID=Europe/Berlin:20271116T160000
DTSTAMP:20260422T193217
CREATED:20250722T075513Z
LAST-MODIFIED:20251020T094621Z
UID:10000594-1826373600-1826380800@kulturini.de
SUMMARY:Boule am Dienstag
DESCRIPTION:Wir treffen uns in lockerer Runde zum gemeinsamen Boulespielen. Eine vorherige Anmeldung ist nicht nötig\, Sie können einfach dazu kommen. Die Boule-Gruppe trifft sich jeden Dienstag. \nMit Hubertus Süllow.
URL:https://kulturini.de/event/boule-am-dienstag/2027-11-16/
LOCATION:Hannover\, Fiedelerplatz\, Fiedelerplatz\, Hannover\, 30519\, Germany
CATEGORIES:Kultur Gestalten,Spiele
ATTACH;FMTTYPE=image/jpeg:https://kulturini.de/wp-content/uploads/2025/10/iStock-1479287040-scaled.jpg
ORGANIZER;CN="Kulturinitiative D%C3%B6hren-W%C3%BClfel-Mittelfeld":MAILTO:ki@kulturini.de
END:VEVENT
BEGIN:VEVENT
DTSTART;TZID=Europe/Berlin:20271123T140000
DTEND;TZID=Europe/Berlin:20271123T160000
DTSTAMP:20260422T193217
CREATED:20250722T075513Z
LAST-MODIFIED:20251020T094621Z
UID:10000595-1826978400-1826985600@kulturini.de
SUMMARY:Boule am Dienstag
DESCRIPTION:Wir treffen uns in lockerer Runde zum gemeinsamen Boulespielen. Eine vorherige Anmeldung ist nicht nötig\, Sie können einfach dazu kommen. Die Boule-Gruppe trifft sich jeden Dienstag. \nMit Hubertus Süllow.
URL:https://kulturini.de/event/boule-am-dienstag/2027-11-23/
LOCATION:Hannover\, Fiedelerplatz\, Fiedelerplatz\, Hannover\, 30519\, Germany
CATEGORIES:Kultur Gestalten,Spiele
ATTACH;FMTTYPE=image/jpeg:https://kulturini.de/wp-content/uploads/2025/10/iStock-1479287040-scaled.jpg
ORGANIZER;CN="Kulturinitiative D%C3%B6hren-W%C3%BClfel-Mittelfeld":MAILTO:ki@kulturini.de
END:VEVENT
BEGIN:VEVENT
DTSTART;TZID=Europe/Berlin:20271130T140000
DTEND;TZID=Europe/Berlin:20271130T160000
DTSTAMP:20260422T193217
CREATED:20250722T075513Z
LAST-MODIFIED:20251020T094621Z
UID:10000596-1827583200-1827590400@kulturini.de
SUMMARY:Boule am Dienstag
DESCRIPTION:Wir treffen uns in lockerer Runde zum gemeinsamen Boulespielen. Eine vorherige Anmeldung ist nicht nötig\, Sie können einfach dazu kommen. Die Boule-Gruppe trifft sich jeden Dienstag. \nMit Hubertus Süllow.
URL:https://kulturini.de/event/boule-am-dienstag/2027-11-30/
LOCATION:Hannover\, Fiedelerplatz\, Fiedelerplatz\, Hannover\, 30519\, Germany
CATEGORIES:Kultur Gestalten,Spiele
ATTACH;FMTTYPE=image/jpeg:https://kulturini.de/wp-content/uploads/2025/10/iStock-1479287040-scaled.jpg
ORGANIZER;CN="Kulturinitiative D%C3%B6hren-W%C3%BClfel-Mittelfeld":MAILTO:ki@kulturini.de
END:VEVENT
BEGIN:VEVENT
DTSTART;TZID=Europe/Berlin:20271207T140000
DTEND;TZID=Europe/Berlin:20271207T160000
DTSTAMP:20260422T193217
CREATED:20250722T075513Z
LAST-MODIFIED:20251020T094621Z
UID:10000597-1828188000-1828195200@kulturini.de
SUMMARY:Boule am Dienstag
DESCRIPTION:Wir treffen uns in lockerer Runde zum gemeinsamen Boulespielen. Eine vorherige Anmeldung ist nicht nötig\, Sie können einfach dazu kommen. Die Boule-Gruppe trifft sich jeden Dienstag. \nMit Hubertus Süllow.
URL:https://kulturini.de/event/boule-am-dienstag/2027-12-07/
LOCATION:Hannover\, Fiedelerplatz\, Fiedelerplatz\, Hannover\, 30519\, Germany
CATEGORIES:Kultur Gestalten,Spiele
ATTACH;FMTTYPE=image/jpeg:https://kulturini.de/wp-content/uploads/2025/10/iStock-1479287040-scaled.jpg
ORGANIZER;CN="Kulturinitiative D%C3%B6hren-W%C3%BClfel-Mittelfeld":MAILTO:ki@kulturini.de
END:VEVENT
BEGIN:VEVENT
DTSTART;TZID=Europe/Berlin:20271214T140000
DTEND;TZID=Europe/Berlin:20271214T160000
DTSTAMP:20260422T193217
CREATED:20250722T075513Z
LAST-MODIFIED:20251020T094621Z
UID:10000598-1828792800-1828800000@kulturini.de
SUMMARY:Boule am Dienstag
DESCRIPTION:Wir treffen uns in lockerer Runde zum gemeinsamen Boulespielen. Eine vorherige Anmeldung ist nicht nötig\, Sie können einfach dazu kommen. Die Boule-Gruppe trifft sich jeden Dienstag. \nMit Hubertus Süllow.
URL:https://kulturini.de/event/boule-am-dienstag/2027-12-14/
LOCATION:Hannover\, Fiedelerplatz\, Fiedelerplatz\, Hannover\, 30519\, Germany
CATEGORIES:Kultur Gestalten,Spiele
ATTACH;FMTTYPE=image/jpeg:https://kulturini.de/wp-content/uploads/2025/10/iStock-1479287040-scaled.jpg
ORGANIZER;CN="Kulturinitiative D%C3%B6hren-W%C3%BClfel-Mittelfeld":MAILTO:ki@kulturini.de
END:VEVENT
BEGIN:VEVENT
DTSTART;TZID=Europe/Berlin:20271221T140000
DTEND;TZID=Europe/Berlin:20271221T160000
DTSTAMP:20260422T193217
CREATED:20250722T075513Z
LAST-MODIFIED:20251020T094621Z
UID:10000599-1829397600-1829404800@kulturini.de
SUMMARY:Boule am Dienstag
DESCRIPTION:Wir treffen uns in lockerer Runde zum gemeinsamen Boulespielen. Eine vorherige Anmeldung ist nicht nötig\, Sie können einfach dazu kommen. Die Boule-Gruppe trifft sich jeden Dienstag. \nMit Hubertus Süllow.
URL:https://kulturini.de/event/boule-am-dienstag/2027-12-21/
LOCATION:Hannover\, Fiedelerplatz\, Fiedelerplatz\, Hannover\, 30519\, Germany
CATEGORIES:Kultur Gestalten,Spiele
ATTACH;FMTTYPE=image/jpeg:https://kulturini.de/wp-content/uploads/2025/10/iStock-1479287040-scaled.jpg
ORGANIZER;CN="Kulturinitiative D%C3%B6hren-W%C3%BClfel-Mittelfeld":MAILTO:ki@kulturini.de
END:VEVENT
BEGIN:VEVENT
DTSTART;TZID=Europe/Berlin:20271228T140000
DTEND;TZID=Europe/Berlin:20271228T160000
DTSTAMP:20260422T193217
CREATED:20250722T075513Z
LAST-MODIFIED:20251020T094621Z
UID:10000600-1830002400-1830009600@kulturini.de
SUMMARY:Boule am Dienstag
DESCRIPTION:Wir treffen uns in lockerer Runde zum gemeinsamen Boulespielen. Eine vorherige Anmeldung ist nicht nötig\, Sie können einfach dazu kommen. Die Boule-Gruppe trifft sich jeden Dienstag. \nMit Hubertus Süllow.
URL:https://kulturini.de/event/boule-am-dienstag/2027-12-28/
LOCATION:Hannover\, Fiedelerplatz\, Fiedelerplatz\, Hannover\, 30519\, Germany
CATEGORIES:Kultur Gestalten,Spiele
ATTACH;FMTTYPE=image/jpeg:https://kulturini.de/wp-content/uploads/2025/10/iStock-1479287040-scaled.jpg
ORGANIZER;CN="Kulturinitiative D%C3%B6hren-W%C3%BClfel-Mittelfeld":MAILTO:ki@kulturini.de
END:VEVENT
BEGIN:VEVENT
DTSTART;TZID=Europe/Berlin:20280104T140000
DTEND;TZID=Europe/Berlin:20280104T160000
DTSTAMP:20260422T193217
CREATED:20250722T075513Z
LAST-MODIFIED:20251020T094621Z
UID:10000601-1830607200-1830614400@kulturini.de
SUMMARY:Boule am Dienstag
DESCRIPTION:Wir treffen uns in lockerer Runde zum gemeinsamen Boulespielen. Eine vorherige Anmeldung ist nicht nötig\, Sie können einfach dazu kommen. Die Boule-Gruppe trifft sich jeden Dienstag. \nMit Hubertus Süllow.
URL:https://kulturini.de/event/boule-am-dienstag/2028-01-04/
LOCATION:Hannover\, Fiedelerplatz\, Fiedelerplatz\, Hannover\, 30519\, Germany
CATEGORIES:Kultur Gestalten,Spiele
ATTACH;FMTTYPE=image/jpeg:https://kulturini.de/wp-content/uploads/2025/10/iStock-1479287040-scaled.jpg
ORGANIZER;CN="Kulturinitiative D%C3%B6hren-W%C3%BClfel-Mittelfeld":MAILTO:ki@kulturini.de
END:VEVENT
BEGIN:VEVENT
DTSTART;TZID=Europe/Berlin:20280111T140000
DTEND;TZID=Europe/Berlin:20280111T160000
DTSTAMP:20260422T193217
CREATED:20250722T075513Z
LAST-MODIFIED:20251020T094621Z
UID:10000602-1831212000-1831219200@kulturini.de
SUMMARY:Boule am Dienstag
DESCRIPTION:Wir treffen uns in lockerer Runde zum gemeinsamen Boulespielen. Eine vorherige Anmeldung ist nicht nötig\, Sie können einfach dazu kommen. Die Boule-Gruppe trifft sich jeden Dienstag. \nMit Hubertus Süllow.
URL:https://kulturini.de/event/boule-am-dienstag/2028-01-11/
LOCATION:Hannover\, Fiedelerplatz\, Fiedelerplatz\, Hannover\, 30519\, Germany
CATEGORIES:Kultur Gestalten,Spiele
ATTACH;FMTTYPE=image/jpeg:https://kulturini.de/wp-content/uploads/2025/10/iStock-1479287040-scaled.jpg
ORGANIZER;CN="Kulturinitiative D%C3%B6hren-W%C3%BClfel-Mittelfeld":MAILTO:ki@kulturini.de
END:VEVENT
END:VCALENDAR