BEGIN:VCALENDAR
VERSION:2.0
PRODID:-//Kulturini - ECPv6.15.20//NONSGML v1.0//EN
CALSCALE:GREGORIAN
METHOD:PUBLISH
X-WR-CALNAME:Kulturini
X-ORIGINAL-URL:https://kulturini.de
X-WR-CALDESC:Veranstaltungen für Kulturini
REFRESH-INTERVAL;VALUE=DURATION:PT1H
X-Robots-Tag:noindex
X-PUBLISHED-TTL:PT1H
BEGIN:VTIMEZONE
TZID:Europe/Berlin
BEGIN:DAYLIGHT
TZOFFSETFROM:+0100
TZOFFSETTO:+0200
TZNAME:CEST
DTSTART:20280326T010000
END:DAYLIGHT
BEGIN:STANDARD
TZOFFSETFROM:+0200
TZOFFSETTO:+0100
TZNAME:CET
DTSTART:20281029T010000
END:STANDARD
BEGIN:DAYLIGHT
TZOFFSETFROM:+0100
TZOFFSETTO:+0200
TZNAME:CEST
DTSTART:20290325T010000
END:DAYLIGHT
BEGIN:STANDARD
TZOFFSETFROM:+0200
TZOFFSETTO:+0100
TZNAME:CET
DTSTART:20291028T010000
END:STANDARD
BEGIN:DAYLIGHT
TZOFFSETFROM:+0100
TZOFFSETTO:+0200
TZNAME:CEST
DTSTART:20300331T010000
END:DAYLIGHT
BEGIN:STANDARD
TZOFFSETFROM:+0200
TZOFFSETTO:+0100
TZNAME:CET
DTSTART:20301027T010000
END:STANDARD
END:VTIMEZONE
BEGIN:VEVENT
DTSTART;TZID=Europe/Berlin:20290424T140000
DTEND;TZID=Europe/Berlin:20290424T160000
DTSTAMP:20260424T222903
CREATED:20250722T075513Z
LAST-MODIFIED:20251020T094621Z
UID:10000669-1871733600-1871740800@kulturini.de
SUMMARY:Boule am Dienstag
DESCRIPTION:Wir treffen uns in lockerer Runde zum gemeinsamen Boulespielen. Eine vorherige Anmeldung ist nicht nötig\, Sie können einfach dazu kommen. Die Boule-Gruppe trifft sich jeden Dienstag. \nMit Hubertus Süllow.
URL:https://kulturini.de/event/boule-am-dienstag/2029-04-24/
LOCATION:Hannover\, Fiedelerplatz\, Fiedelerplatz\, Hannover\, 30519\, Germany
CATEGORIES:Kultur Gestalten,Spiele
ATTACH;FMTTYPE=image/jpeg:https://kulturini.de/wp-content/uploads/2025/10/iStock-1479287040-scaled.jpg
ORGANIZER;CN="Kulturinitiative D%C3%B6hren-W%C3%BClfel-Mittelfeld":MAILTO:ki@kulturini.de
END:VEVENT
BEGIN:VEVENT
DTSTART;TZID=Europe/Berlin:20290501T140000
DTEND;TZID=Europe/Berlin:20290501T160000
DTSTAMP:20260424T222903
CREATED:20250722T075513Z
LAST-MODIFIED:20251020T094621Z
UID:10000670-1872338400-1872345600@kulturini.de
SUMMARY:Boule am Dienstag
DESCRIPTION:Wir treffen uns in lockerer Runde zum gemeinsamen Boulespielen. Eine vorherige Anmeldung ist nicht nötig\, Sie können einfach dazu kommen. Die Boule-Gruppe trifft sich jeden Dienstag. \nMit Hubertus Süllow.
URL:https://kulturini.de/event/boule-am-dienstag/2029-05-01/
LOCATION:Hannover\, Fiedelerplatz\, Fiedelerplatz\, Hannover\, 30519\, Germany
CATEGORIES:Kultur Gestalten,Spiele
ATTACH;FMTTYPE=image/jpeg:https://kulturini.de/wp-content/uploads/2025/10/iStock-1479287040-scaled.jpg
ORGANIZER;CN="Kulturinitiative D%C3%B6hren-W%C3%BClfel-Mittelfeld":MAILTO:ki@kulturini.de
END:VEVENT
BEGIN:VEVENT
DTSTART;TZID=Europe/Berlin:20290508T140000
DTEND;TZID=Europe/Berlin:20290508T160000
DTSTAMP:20260424T222903
CREATED:20250722T075513Z
LAST-MODIFIED:20251020T094621Z
UID:10000671-1872943200-1872950400@kulturini.de
SUMMARY:Boule am Dienstag
DESCRIPTION:Wir treffen uns in lockerer Runde zum gemeinsamen Boulespielen. Eine vorherige Anmeldung ist nicht nötig\, Sie können einfach dazu kommen. Die Boule-Gruppe trifft sich jeden Dienstag. \nMit Hubertus Süllow.
URL:https://kulturini.de/event/boule-am-dienstag/2029-05-08/
LOCATION:Hannover\, Fiedelerplatz\, Fiedelerplatz\, Hannover\, 30519\, Germany
CATEGORIES:Kultur Gestalten,Spiele
ATTACH;FMTTYPE=image/jpeg:https://kulturini.de/wp-content/uploads/2025/10/iStock-1479287040-scaled.jpg
ORGANIZER;CN="Kulturinitiative D%C3%B6hren-W%C3%BClfel-Mittelfeld":MAILTO:ki@kulturini.de
END:VEVENT
BEGIN:VEVENT
DTSTART;TZID=Europe/Berlin:20290515T140000
DTEND;TZID=Europe/Berlin:20290515T160000
DTSTAMP:20260424T222903
CREATED:20250722T075513Z
LAST-MODIFIED:20251020T094621Z
UID:10000672-1873548000-1873555200@kulturini.de
SUMMARY:Boule am Dienstag
DESCRIPTION:Wir treffen uns in lockerer Runde zum gemeinsamen Boulespielen. Eine vorherige Anmeldung ist nicht nötig\, Sie können einfach dazu kommen. Die Boule-Gruppe trifft sich jeden Dienstag. \nMit Hubertus Süllow.
URL:https://kulturini.de/event/boule-am-dienstag/2029-05-15/
LOCATION:Hannover\, Fiedelerplatz\, Fiedelerplatz\, Hannover\, 30519\, Germany
CATEGORIES:Kultur Gestalten,Spiele
ATTACH;FMTTYPE=image/jpeg:https://kulturini.de/wp-content/uploads/2025/10/iStock-1479287040-scaled.jpg
ORGANIZER;CN="Kulturinitiative D%C3%B6hren-W%C3%BClfel-Mittelfeld":MAILTO:ki@kulturini.de
END:VEVENT
BEGIN:VEVENT
DTSTART;TZID=Europe/Berlin:20290522T140000
DTEND;TZID=Europe/Berlin:20290522T160000
DTSTAMP:20260424T222903
CREATED:20250722T075513Z
LAST-MODIFIED:20251020T094621Z
UID:10000673-1874152800-1874160000@kulturini.de
SUMMARY:Boule am Dienstag
DESCRIPTION:Wir treffen uns in lockerer Runde zum gemeinsamen Boulespielen. Eine vorherige Anmeldung ist nicht nötig\, Sie können einfach dazu kommen. Die Boule-Gruppe trifft sich jeden Dienstag. \nMit Hubertus Süllow.
URL:https://kulturini.de/event/boule-am-dienstag/2029-05-22/
LOCATION:Hannover\, Fiedelerplatz\, Fiedelerplatz\, Hannover\, 30519\, Germany
CATEGORIES:Kultur Gestalten,Spiele
ATTACH;FMTTYPE=image/jpeg:https://kulturini.de/wp-content/uploads/2025/10/iStock-1479287040-scaled.jpg
ORGANIZER;CN="Kulturinitiative D%C3%B6hren-W%C3%BClfel-Mittelfeld":MAILTO:ki@kulturini.de
END:VEVENT
BEGIN:VEVENT
DTSTART;TZID=Europe/Berlin:20290529T140000
DTEND;TZID=Europe/Berlin:20290529T160000
DTSTAMP:20260424T222903
CREATED:20250722T075513Z
LAST-MODIFIED:20251020T094621Z
UID:10000674-1874757600-1874764800@kulturini.de
SUMMARY:Boule am Dienstag
DESCRIPTION:Wir treffen uns in lockerer Runde zum gemeinsamen Boulespielen. Eine vorherige Anmeldung ist nicht nötig\, Sie können einfach dazu kommen. Die Boule-Gruppe trifft sich jeden Dienstag. \nMit Hubertus Süllow.
URL:https://kulturini.de/event/boule-am-dienstag/2029-05-29/
LOCATION:Hannover\, Fiedelerplatz\, Fiedelerplatz\, Hannover\, 30519\, Germany
CATEGORIES:Kultur Gestalten,Spiele
ATTACH;FMTTYPE=image/jpeg:https://kulturini.de/wp-content/uploads/2025/10/iStock-1479287040-scaled.jpg
ORGANIZER;CN="Kulturinitiative D%C3%B6hren-W%C3%BClfel-Mittelfeld":MAILTO:ki@kulturini.de
END:VEVENT
BEGIN:VEVENT
DTSTART;TZID=Europe/Berlin:20290605T140000
DTEND;TZID=Europe/Berlin:20290605T160000
DTSTAMP:20260424T222903
CREATED:20250722T075513Z
LAST-MODIFIED:20251020T094621Z
UID:10000675-1875362400-1875369600@kulturini.de
SUMMARY:Boule am Dienstag
DESCRIPTION:Wir treffen uns in lockerer Runde zum gemeinsamen Boulespielen. Eine vorherige Anmeldung ist nicht nötig\, Sie können einfach dazu kommen. Die Boule-Gruppe trifft sich jeden Dienstag. \nMit Hubertus Süllow.
URL:https://kulturini.de/event/boule-am-dienstag/2029-06-05/
LOCATION:Hannover\, Fiedelerplatz\, Fiedelerplatz\, Hannover\, 30519\, Germany
CATEGORIES:Kultur Gestalten,Spiele
ATTACH;FMTTYPE=image/jpeg:https://kulturini.de/wp-content/uploads/2025/10/iStock-1479287040-scaled.jpg
ORGANIZER;CN="Kulturinitiative D%C3%B6hren-W%C3%BClfel-Mittelfeld":MAILTO:ki@kulturini.de
END:VEVENT
BEGIN:VEVENT
DTSTART;TZID=Europe/Berlin:20290612T140000
DTEND;TZID=Europe/Berlin:20290612T160000
DTSTAMP:20260424T222903
CREATED:20250722T075513Z
LAST-MODIFIED:20251020T094621Z
UID:10000676-1875967200-1875974400@kulturini.de
SUMMARY:Boule am Dienstag
DESCRIPTION:Wir treffen uns in lockerer Runde zum gemeinsamen Boulespielen. Eine vorherige Anmeldung ist nicht nötig\, Sie können einfach dazu kommen. Die Boule-Gruppe trifft sich jeden Dienstag. \nMit Hubertus Süllow.
URL:https://kulturini.de/event/boule-am-dienstag/2029-06-12/
LOCATION:Hannover\, Fiedelerplatz\, Fiedelerplatz\, Hannover\, 30519\, Germany
CATEGORIES:Kultur Gestalten,Spiele
ATTACH;FMTTYPE=image/jpeg:https://kulturini.de/wp-content/uploads/2025/10/iStock-1479287040-scaled.jpg
ORGANIZER;CN="Kulturinitiative D%C3%B6hren-W%C3%BClfel-Mittelfeld":MAILTO:ki@kulturini.de
END:VEVENT
BEGIN:VEVENT
DTSTART;TZID=Europe/Berlin:20290619T140000
DTEND;TZID=Europe/Berlin:20290619T160000
DTSTAMP:20260424T222903
CREATED:20250722T075513Z
LAST-MODIFIED:20251020T094621Z
UID:10000677-1876572000-1876579200@kulturini.de
SUMMARY:Boule am Dienstag
DESCRIPTION:Wir treffen uns in lockerer Runde zum gemeinsamen Boulespielen. Eine vorherige Anmeldung ist nicht nötig\, Sie können einfach dazu kommen. Die Boule-Gruppe trifft sich jeden Dienstag. \nMit Hubertus Süllow.
URL:https://kulturini.de/event/boule-am-dienstag/2029-06-19/
LOCATION:Hannover\, Fiedelerplatz\, Fiedelerplatz\, Hannover\, 30519\, Germany
CATEGORIES:Kultur Gestalten,Spiele
ATTACH;FMTTYPE=image/jpeg:https://kulturini.de/wp-content/uploads/2025/10/iStock-1479287040-scaled.jpg
ORGANIZER;CN="Kulturinitiative D%C3%B6hren-W%C3%BClfel-Mittelfeld":MAILTO:ki@kulturini.de
END:VEVENT
BEGIN:VEVENT
DTSTART;TZID=Europe/Berlin:20290626T140000
DTEND;TZID=Europe/Berlin:20290626T160000
DTSTAMP:20260424T222903
CREATED:20250722T075513Z
LAST-MODIFIED:20251020T094621Z
UID:10000678-1877176800-1877184000@kulturini.de
SUMMARY:Boule am Dienstag
DESCRIPTION:Wir treffen uns in lockerer Runde zum gemeinsamen Boulespielen. Eine vorherige Anmeldung ist nicht nötig\, Sie können einfach dazu kommen. Die Boule-Gruppe trifft sich jeden Dienstag. \nMit Hubertus Süllow.
URL:https://kulturini.de/event/boule-am-dienstag/2029-06-26/
LOCATION:Hannover\, Fiedelerplatz\, Fiedelerplatz\, Hannover\, 30519\, Germany
CATEGORIES:Kultur Gestalten,Spiele
ATTACH;FMTTYPE=image/jpeg:https://kulturini.de/wp-content/uploads/2025/10/iStock-1479287040-scaled.jpg
ORGANIZER;CN="Kulturinitiative D%C3%B6hren-W%C3%BClfel-Mittelfeld":MAILTO:ki@kulturini.de
END:VEVENT
BEGIN:VEVENT
DTSTART;TZID=Europe/Berlin:20290703T140000
DTEND;TZID=Europe/Berlin:20290703T160000
DTSTAMP:20260424T222903
CREATED:20250722T075513Z
LAST-MODIFIED:20251020T094621Z
UID:10000679-1877781600-1877788800@kulturini.de
SUMMARY:Boule am Dienstag
DESCRIPTION:Wir treffen uns in lockerer Runde zum gemeinsamen Boulespielen. Eine vorherige Anmeldung ist nicht nötig\, Sie können einfach dazu kommen. Die Boule-Gruppe trifft sich jeden Dienstag. \nMit Hubertus Süllow.
URL:https://kulturini.de/event/boule-am-dienstag/2029-07-03/
LOCATION:Hannover\, Fiedelerplatz\, Fiedelerplatz\, Hannover\, 30519\, Germany
CATEGORIES:Kultur Gestalten,Spiele
ATTACH;FMTTYPE=image/jpeg:https://kulturini.de/wp-content/uploads/2025/10/iStock-1479287040-scaled.jpg
ORGANIZER;CN="Kulturinitiative D%C3%B6hren-W%C3%BClfel-Mittelfeld":MAILTO:ki@kulturini.de
END:VEVENT
BEGIN:VEVENT
DTSTART;TZID=Europe/Berlin:20290710T140000
DTEND;TZID=Europe/Berlin:20290710T160000
DTSTAMP:20260424T222903
CREATED:20250722T075513Z
LAST-MODIFIED:20251020T094621Z
UID:10000680-1878386400-1878393600@kulturini.de
SUMMARY:Boule am Dienstag
DESCRIPTION:Wir treffen uns in lockerer Runde zum gemeinsamen Boulespielen. Eine vorherige Anmeldung ist nicht nötig\, Sie können einfach dazu kommen. Die Boule-Gruppe trifft sich jeden Dienstag. \nMit Hubertus Süllow.
URL:https://kulturini.de/event/boule-am-dienstag/2029-07-10/
LOCATION:Hannover\, Fiedelerplatz\, Fiedelerplatz\, Hannover\, 30519\, Germany
CATEGORIES:Kultur Gestalten,Spiele
ATTACH;FMTTYPE=image/jpeg:https://kulturini.de/wp-content/uploads/2025/10/iStock-1479287040-scaled.jpg
ORGANIZER;CN="Kulturinitiative D%C3%B6hren-W%C3%BClfel-Mittelfeld":MAILTO:ki@kulturini.de
END:VEVENT
BEGIN:VEVENT
DTSTART;TZID=Europe/Berlin:20290717T140000
DTEND;TZID=Europe/Berlin:20290717T160000
DTSTAMP:20260424T222903
CREATED:20250722T075513Z
LAST-MODIFIED:20251020T094621Z
UID:10000681-1878991200-1878998400@kulturini.de
SUMMARY:Boule am Dienstag
DESCRIPTION:Wir treffen uns in lockerer Runde zum gemeinsamen Boulespielen. Eine vorherige Anmeldung ist nicht nötig\, Sie können einfach dazu kommen. Die Boule-Gruppe trifft sich jeden Dienstag. \nMit Hubertus Süllow.
URL:https://kulturini.de/event/boule-am-dienstag/2029-07-17/
LOCATION:Hannover\, Fiedelerplatz\, Fiedelerplatz\, Hannover\, 30519\, Germany
CATEGORIES:Kultur Gestalten,Spiele
ATTACH;FMTTYPE=image/jpeg:https://kulturini.de/wp-content/uploads/2025/10/iStock-1479287040-scaled.jpg
ORGANIZER;CN="Kulturinitiative D%C3%B6hren-W%C3%BClfel-Mittelfeld":MAILTO:ki@kulturini.de
END:VEVENT
BEGIN:VEVENT
DTSTART;TZID=Europe/Berlin:20290724T140000
DTEND;TZID=Europe/Berlin:20290724T160000
DTSTAMP:20260424T222903
CREATED:20250722T075513Z
LAST-MODIFIED:20251020T094621Z
UID:10000682-1879596000-1879603200@kulturini.de
SUMMARY:Boule am Dienstag
DESCRIPTION:Wir treffen uns in lockerer Runde zum gemeinsamen Boulespielen. Eine vorherige Anmeldung ist nicht nötig\, Sie können einfach dazu kommen. Die Boule-Gruppe trifft sich jeden Dienstag. \nMit Hubertus Süllow.
URL:https://kulturini.de/event/boule-am-dienstag/2029-07-24/
LOCATION:Hannover\, Fiedelerplatz\, Fiedelerplatz\, Hannover\, 30519\, Germany
CATEGORIES:Kultur Gestalten,Spiele
ATTACH;FMTTYPE=image/jpeg:https://kulturini.de/wp-content/uploads/2025/10/iStock-1479287040-scaled.jpg
ORGANIZER;CN="Kulturinitiative D%C3%B6hren-W%C3%BClfel-Mittelfeld":MAILTO:ki@kulturini.de
END:VEVENT
BEGIN:VEVENT
DTSTART;TZID=Europe/Berlin:20290731T140000
DTEND;TZID=Europe/Berlin:20290731T160000
DTSTAMP:20260424T222903
CREATED:20250722T075513Z
LAST-MODIFIED:20251020T094621Z
UID:10000683-1880200800-1880208000@kulturini.de
SUMMARY:Boule am Dienstag
DESCRIPTION:Wir treffen uns in lockerer Runde zum gemeinsamen Boulespielen. Eine vorherige Anmeldung ist nicht nötig\, Sie können einfach dazu kommen. Die Boule-Gruppe trifft sich jeden Dienstag. \nMit Hubertus Süllow.
URL:https://kulturini.de/event/boule-am-dienstag/2029-07-31/
LOCATION:Hannover\, Fiedelerplatz\, Fiedelerplatz\, Hannover\, 30519\, Germany
CATEGORIES:Kultur Gestalten,Spiele
ATTACH;FMTTYPE=image/jpeg:https://kulturini.de/wp-content/uploads/2025/10/iStock-1479287040-scaled.jpg
ORGANIZER;CN="Kulturinitiative D%C3%B6hren-W%C3%BClfel-Mittelfeld":MAILTO:ki@kulturini.de
END:VEVENT
BEGIN:VEVENT
DTSTART;TZID=Europe/Berlin:20290807T140000
DTEND;TZID=Europe/Berlin:20290807T160000
DTSTAMP:20260424T222903
CREATED:20250722T075513Z
LAST-MODIFIED:20251020T094621Z
UID:10000684-1880805600-1880812800@kulturini.de
SUMMARY:Boule am Dienstag
DESCRIPTION:Wir treffen uns in lockerer Runde zum gemeinsamen Boulespielen. Eine vorherige Anmeldung ist nicht nötig\, Sie können einfach dazu kommen. Die Boule-Gruppe trifft sich jeden Dienstag. \nMit Hubertus Süllow.
URL:https://kulturini.de/event/boule-am-dienstag/2029-08-07/
LOCATION:Hannover\, Fiedelerplatz\, Fiedelerplatz\, Hannover\, 30519\, Germany
CATEGORIES:Kultur Gestalten,Spiele
ATTACH;FMTTYPE=image/jpeg:https://kulturini.de/wp-content/uploads/2025/10/iStock-1479287040-scaled.jpg
ORGANIZER;CN="Kulturinitiative D%C3%B6hren-W%C3%BClfel-Mittelfeld":MAILTO:ki@kulturini.de
END:VEVENT
BEGIN:VEVENT
DTSTART;TZID=Europe/Berlin:20290814T140000
DTEND;TZID=Europe/Berlin:20290814T160000
DTSTAMP:20260424T222903
CREATED:20250722T075513Z
LAST-MODIFIED:20251020T094621Z
UID:10000685-1881410400-1881417600@kulturini.de
SUMMARY:Boule am Dienstag
DESCRIPTION:Wir treffen uns in lockerer Runde zum gemeinsamen Boulespielen. Eine vorherige Anmeldung ist nicht nötig\, Sie können einfach dazu kommen. Die Boule-Gruppe trifft sich jeden Dienstag. \nMit Hubertus Süllow.
URL:https://kulturini.de/event/boule-am-dienstag/2029-08-14/
LOCATION:Hannover\, Fiedelerplatz\, Fiedelerplatz\, Hannover\, 30519\, Germany
CATEGORIES:Kultur Gestalten,Spiele
ATTACH;FMTTYPE=image/jpeg:https://kulturini.de/wp-content/uploads/2025/10/iStock-1479287040-scaled.jpg
ORGANIZER;CN="Kulturinitiative D%C3%B6hren-W%C3%BClfel-Mittelfeld":MAILTO:ki@kulturini.de
END:VEVENT
BEGIN:VEVENT
DTSTART;TZID=Europe/Berlin:20290821T140000
DTEND;TZID=Europe/Berlin:20290821T160000
DTSTAMP:20260424T222903
CREATED:20250722T075513Z
LAST-MODIFIED:20251020T094621Z
UID:10000686-1882015200-1882022400@kulturini.de
SUMMARY:Boule am Dienstag
DESCRIPTION:Wir treffen uns in lockerer Runde zum gemeinsamen Boulespielen. Eine vorherige Anmeldung ist nicht nötig\, Sie können einfach dazu kommen. Die Boule-Gruppe trifft sich jeden Dienstag. \nMit Hubertus Süllow.
URL:https://kulturini.de/event/boule-am-dienstag/2029-08-21/
LOCATION:Hannover\, Fiedelerplatz\, Fiedelerplatz\, Hannover\, 30519\, Germany
CATEGORIES:Kultur Gestalten,Spiele
ATTACH;FMTTYPE=image/jpeg:https://kulturini.de/wp-content/uploads/2025/10/iStock-1479287040-scaled.jpg
ORGANIZER;CN="Kulturinitiative D%C3%B6hren-W%C3%BClfel-Mittelfeld":MAILTO:ki@kulturini.de
END:VEVENT
BEGIN:VEVENT
DTSTART;TZID=Europe/Berlin:20290828T140000
DTEND;TZID=Europe/Berlin:20290828T160000
DTSTAMP:20260424T222903
CREATED:20250722T075513Z
LAST-MODIFIED:20251020T094621Z
UID:10000687-1882620000-1882627200@kulturini.de
SUMMARY:Boule am Dienstag
DESCRIPTION:Wir treffen uns in lockerer Runde zum gemeinsamen Boulespielen. Eine vorherige Anmeldung ist nicht nötig\, Sie können einfach dazu kommen. Die Boule-Gruppe trifft sich jeden Dienstag. \nMit Hubertus Süllow.
URL:https://kulturini.de/event/boule-am-dienstag/2029-08-28/
LOCATION:Hannover\, Fiedelerplatz\, Fiedelerplatz\, Hannover\, 30519\, Germany
CATEGORIES:Kultur Gestalten,Spiele
ATTACH;FMTTYPE=image/jpeg:https://kulturini.de/wp-content/uploads/2025/10/iStock-1479287040-scaled.jpg
ORGANIZER;CN="Kulturinitiative D%C3%B6hren-W%C3%BClfel-Mittelfeld":MAILTO:ki@kulturini.de
END:VEVENT
BEGIN:VEVENT
DTSTART;TZID=Europe/Berlin:20290904T140000
DTEND;TZID=Europe/Berlin:20290904T160000
DTSTAMP:20260424T222903
CREATED:20250722T075513Z
LAST-MODIFIED:20251020T094621Z
UID:10000688-1883224800-1883232000@kulturini.de
SUMMARY:Boule am Dienstag
DESCRIPTION:Wir treffen uns in lockerer Runde zum gemeinsamen Boulespielen. Eine vorherige Anmeldung ist nicht nötig\, Sie können einfach dazu kommen. Die Boule-Gruppe trifft sich jeden Dienstag. \nMit Hubertus Süllow.
URL:https://kulturini.de/event/boule-am-dienstag/2029-09-04/
LOCATION:Hannover\, Fiedelerplatz\, Fiedelerplatz\, Hannover\, 30519\, Germany
CATEGORIES:Kultur Gestalten,Spiele
ATTACH;FMTTYPE=image/jpeg:https://kulturini.de/wp-content/uploads/2025/10/iStock-1479287040-scaled.jpg
ORGANIZER;CN="Kulturinitiative D%C3%B6hren-W%C3%BClfel-Mittelfeld":MAILTO:ki@kulturini.de
END:VEVENT
BEGIN:VEVENT
DTSTART;TZID=Europe/Berlin:20290911T140000
DTEND;TZID=Europe/Berlin:20290911T160000
DTSTAMP:20260424T222903
CREATED:20250722T075513Z
LAST-MODIFIED:20251020T094621Z
UID:10000689-1883829600-1883836800@kulturini.de
SUMMARY:Boule am Dienstag
DESCRIPTION:Wir treffen uns in lockerer Runde zum gemeinsamen Boulespielen. Eine vorherige Anmeldung ist nicht nötig\, Sie können einfach dazu kommen. Die Boule-Gruppe trifft sich jeden Dienstag. \nMit Hubertus Süllow.
URL:https://kulturini.de/event/boule-am-dienstag/2029-09-11/
LOCATION:Hannover\, Fiedelerplatz\, Fiedelerplatz\, Hannover\, 30519\, Germany
CATEGORIES:Kultur Gestalten,Spiele
ATTACH;FMTTYPE=image/jpeg:https://kulturini.de/wp-content/uploads/2025/10/iStock-1479287040-scaled.jpg
ORGANIZER;CN="Kulturinitiative D%C3%B6hren-W%C3%BClfel-Mittelfeld":MAILTO:ki@kulturini.de
END:VEVENT
BEGIN:VEVENT
DTSTART;TZID=Europe/Berlin:20290918T140000
DTEND;TZID=Europe/Berlin:20290918T160000
DTSTAMP:20260424T222903
CREATED:20250722T075513Z
LAST-MODIFIED:20251020T094621Z
UID:10000690-1884434400-1884441600@kulturini.de
SUMMARY:Boule am Dienstag
DESCRIPTION:Wir treffen uns in lockerer Runde zum gemeinsamen Boulespielen. Eine vorherige Anmeldung ist nicht nötig\, Sie können einfach dazu kommen. Die Boule-Gruppe trifft sich jeden Dienstag. \nMit Hubertus Süllow.
URL:https://kulturini.de/event/boule-am-dienstag/2029-09-18/
LOCATION:Hannover\, Fiedelerplatz\, Fiedelerplatz\, Hannover\, 30519\, Germany
CATEGORIES:Kultur Gestalten,Spiele
ATTACH;FMTTYPE=image/jpeg:https://kulturini.de/wp-content/uploads/2025/10/iStock-1479287040-scaled.jpg
ORGANIZER;CN="Kulturinitiative D%C3%B6hren-W%C3%BClfel-Mittelfeld":MAILTO:ki@kulturini.de
END:VEVENT
BEGIN:VEVENT
DTSTART;TZID=Europe/Berlin:20290925T140000
DTEND;TZID=Europe/Berlin:20290925T160000
DTSTAMP:20260424T222903
CREATED:20250722T075513Z
LAST-MODIFIED:20251020T094621Z
UID:10000691-1885039200-1885046400@kulturini.de
SUMMARY:Boule am Dienstag
DESCRIPTION:Wir treffen uns in lockerer Runde zum gemeinsamen Boulespielen. Eine vorherige Anmeldung ist nicht nötig\, Sie können einfach dazu kommen. Die Boule-Gruppe trifft sich jeden Dienstag. \nMit Hubertus Süllow.
URL:https://kulturini.de/event/boule-am-dienstag/2029-09-25/
LOCATION:Hannover\, Fiedelerplatz\, Fiedelerplatz\, Hannover\, 30519\, Germany
CATEGORIES:Kultur Gestalten,Spiele
ATTACH;FMTTYPE=image/jpeg:https://kulturini.de/wp-content/uploads/2025/10/iStock-1479287040-scaled.jpg
ORGANIZER;CN="Kulturinitiative D%C3%B6hren-W%C3%BClfel-Mittelfeld":MAILTO:ki@kulturini.de
END:VEVENT
BEGIN:VEVENT
DTSTART;TZID=Europe/Berlin:20291002T140000
DTEND;TZID=Europe/Berlin:20291002T160000
DTSTAMP:20260424T222903
CREATED:20250722T075513Z
LAST-MODIFIED:20251020T094621Z
UID:10000692-1885644000-1885651200@kulturini.de
SUMMARY:Boule am Dienstag
DESCRIPTION:Wir treffen uns in lockerer Runde zum gemeinsamen Boulespielen. Eine vorherige Anmeldung ist nicht nötig\, Sie können einfach dazu kommen. Die Boule-Gruppe trifft sich jeden Dienstag. \nMit Hubertus Süllow.
URL:https://kulturini.de/event/boule-am-dienstag/2029-10-02/
LOCATION:Hannover\, Fiedelerplatz\, Fiedelerplatz\, Hannover\, 30519\, Germany
CATEGORIES:Kultur Gestalten,Spiele
ATTACH;FMTTYPE=image/jpeg:https://kulturini.de/wp-content/uploads/2025/10/iStock-1479287040-scaled.jpg
ORGANIZER;CN="Kulturinitiative D%C3%B6hren-W%C3%BClfel-Mittelfeld":MAILTO:ki@kulturini.de
END:VEVENT
BEGIN:VEVENT
DTSTART;TZID=Europe/Berlin:20291009T140000
DTEND;TZID=Europe/Berlin:20291009T160000
DTSTAMP:20260424T222903
CREATED:20250722T075513Z
LAST-MODIFIED:20251020T094621Z
UID:10000693-1886248800-1886256000@kulturini.de
SUMMARY:Boule am Dienstag
DESCRIPTION:Wir treffen uns in lockerer Runde zum gemeinsamen Boulespielen. Eine vorherige Anmeldung ist nicht nötig\, Sie können einfach dazu kommen. Die Boule-Gruppe trifft sich jeden Dienstag. \nMit Hubertus Süllow.
URL:https://kulturini.de/event/boule-am-dienstag/2029-10-09/
LOCATION:Hannover\, Fiedelerplatz\, Fiedelerplatz\, Hannover\, 30519\, Germany
CATEGORIES:Kultur Gestalten,Spiele
ATTACH;FMTTYPE=image/jpeg:https://kulturini.de/wp-content/uploads/2025/10/iStock-1479287040-scaled.jpg
ORGANIZER;CN="Kulturinitiative D%C3%B6hren-W%C3%BClfel-Mittelfeld":MAILTO:ki@kulturini.de
END:VEVENT
BEGIN:VEVENT
DTSTART;TZID=Europe/Berlin:20291016T140000
DTEND;TZID=Europe/Berlin:20291016T160000
DTSTAMP:20260424T222903
CREATED:20250722T075513Z
LAST-MODIFIED:20251020T094621Z
UID:10000694-1886853600-1886860800@kulturini.de
SUMMARY:Boule am Dienstag
DESCRIPTION:Wir treffen uns in lockerer Runde zum gemeinsamen Boulespielen. Eine vorherige Anmeldung ist nicht nötig\, Sie können einfach dazu kommen. Die Boule-Gruppe trifft sich jeden Dienstag. \nMit Hubertus Süllow.
URL:https://kulturini.de/event/boule-am-dienstag/2029-10-16/
LOCATION:Hannover\, Fiedelerplatz\, Fiedelerplatz\, Hannover\, 30519\, Germany
CATEGORIES:Kultur Gestalten,Spiele
ATTACH;FMTTYPE=image/jpeg:https://kulturini.de/wp-content/uploads/2025/10/iStock-1479287040-scaled.jpg
ORGANIZER;CN="Kulturinitiative D%C3%B6hren-W%C3%BClfel-Mittelfeld":MAILTO:ki@kulturini.de
END:VEVENT
BEGIN:VEVENT
DTSTART;TZID=Europe/Berlin:20291023T140000
DTEND;TZID=Europe/Berlin:20291023T160000
DTSTAMP:20260424T222903
CREATED:20250722T075513Z
LAST-MODIFIED:20251020T094621Z
UID:10000695-1887458400-1887465600@kulturini.de
SUMMARY:Boule am Dienstag
DESCRIPTION:Wir treffen uns in lockerer Runde zum gemeinsamen Boulespielen. Eine vorherige Anmeldung ist nicht nötig\, Sie können einfach dazu kommen. Die Boule-Gruppe trifft sich jeden Dienstag. \nMit Hubertus Süllow.
URL:https://kulturini.de/event/boule-am-dienstag/2029-10-23/
LOCATION:Hannover\, Fiedelerplatz\, Fiedelerplatz\, Hannover\, 30519\, Germany
CATEGORIES:Kultur Gestalten,Spiele
ATTACH;FMTTYPE=image/jpeg:https://kulturini.de/wp-content/uploads/2025/10/iStock-1479287040-scaled.jpg
ORGANIZER;CN="Kulturinitiative D%C3%B6hren-W%C3%BClfel-Mittelfeld":MAILTO:ki@kulturini.de
END:VEVENT
BEGIN:VEVENT
DTSTART;TZID=Europe/Berlin:20291030T140000
DTEND;TZID=Europe/Berlin:20291030T160000
DTSTAMP:20260424T222904
CREATED:20250722T075513Z
LAST-MODIFIED:20251020T094621Z
UID:10000696-1888063200-1888070400@kulturini.de
SUMMARY:Boule am Dienstag
DESCRIPTION:Wir treffen uns in lockerer Runde zum gemeinsamen Boulespielen. Eine vorherige Anmeldung ist nicht nötig\, Sie können einfach dazu kommen. Die Boule-Gruppe trifft sich jeden Dienstag. \nMit Hubertus Süllow.
URL:https://kulturini.de/event/boule-am-dienstag/2029-10-30/
LOCATION:Hannover\, Fiedelerplatz\, Fiedelerplatz\, Hannover\, 30519\, Germany
CATEGORIES:Kultur Gestalten,Spiele
ATTACH;FMTTYPE=image/jpeg:https://kulturini.de/wp-content/uploads/2025/10/iStock-1479287040-scaled.jpg
ORGANIZER;CN="Kulturinitiative D%C3%B6hren-W%C3%BClfel-Mittelfeld":MAILTO:ki@kulturini.de
END:VEVENT
BEGIN:VEVENT
DTSTART;TZID=Europe/Berlin:20291106T140000
DTEND;TZID=Europe/Berlin:20291106T160000
DTSTAMP:20260424T222904
CREATED:20250722T075513Z
LAST-MODIFIED:20251020T094621Z
UID:10000697-1888668000-1888675200@kulturini.de
SUMMARY:Boule am Dienstag
DESCRIPTION:Wir treffen uns in lockerer Runde zum gemeinsamen Boulespielen. Eine vorherige Anmeldung ist nicht nötig\, Sie können einfach dazu kommen. Die Boule-Gruppe trifft sich jeden Dienstag. \nMit Hubertus Süllow.
URL:https://kulturini.de/event/boule-am-dienstag/2029-11-06/
LOCATION:Hannover\, Fiedelerplatz\, Fiedelerplatz\, Hannover\, 30519\, Germany
CATEGORIES:Kultur Gestalten,Spiele
ATTACH;FMTTYPE=image/jpeg:https://kulturini.de/wp-content/uploads/2025/10/iStock-1479287040-scaled.jpg
ORGANIZER;CN="Kulturinitiative D%C3%B6hren-W%C3%BClfel-Mittelfeld":MAILTO:ki@kulturini.de
END:VEVENT
BEGIN:VEVENT
DTSTART;TZID=Europe/Berlin:20291113T140000
DTEND;TZID=Europe/Berlin:20291113T160000
DTSTAMP:20260424T222904
CREATED:20250722T075513Z
LAST-MODIFIED:20251020T094621Z
UID:10000698-1889272800-1889280000@kulturini.de
SUMMARY:Boule am Dienstag
DESCRIPTION:Wir treffen uns in lockerer Runde zum gemeinsamen Boulespielen. Eine vorherige Anmeldung ist nicht nötig\, Sie können einfach dazu kommen. Die Boule-Gruppe trifft sich jeden Dienstag. \nMit Hubertus Süllow.
URL:https://kulturini.de/event/boule-am-dienstag/2029-11-13/
LOCATION:Hannover\, Fiedelerplatz\, Fiedelerplatz\, Hannover\, 30519\, Germany
CATEGORIES:Kultur Gestalten,Spiele
ATTACH;FMTTYPE=image/jpeg:https://kulturini.de/wp-content/uploads/2025/10/iStock-1479287040-scaled.jpg
ORGANIZER;CN="Kulturinitiative D%C3%B6hren-W%C3%BClfel-Mittelfeld":MAILTO:ki@kulturini.de
END:VEVENT
END:VCALENDAR