BEGIN:VCALENDAR
VERSION:2.0
PRODID:-//Kulturini - ECPv6.15.20//NONSGML v1.0//EN
CALSCALE:GREGORIAN
METHOD:PUBLISH
X-ORIGINAL-URL:https://kulturini.de
X-WR-CALDESC:Veranstaltungen für Kulturini
REFRESH-INTERVAL;VALUE=DURATION:PT1H
X-Robots-Tag:noindex
X-PUBLISHED-TTL:PT1H
BEGIN:VTIMEZONE
TZID:Europe/Berlin
BEGIN:DAYLIGHT
TZOFFSETFROM:+0100
TZOFFSETTO:+0200
TZNAME:CEST
DTSTART:20250330T010000
END:DAYLIGHT
BEGIN:STANDARD
TZOFFSETFROM:+0200
TZOFFSETTO:+0100
TZNAME:CET
DTSTART:20251026T010000
END:STANDARD
BEGIN:DAYLIGHT
TZOFFSETFROM:+0100
TZOFFSETTO:+0200
TZNAME:CEST
DTSTART:20260329T010000
END:DAYLIGHT
BEGIN:STANDARD
TZOFFSETFROM:+0200
TZOFFSETTO:+0100
TZNAME:CET
DTSTART:20261025T010000
END:STANDARD
BEGIN:DAYLIGHT
TZOFFSETFROM:+0100
TZOFFSETTO:+0200
TZNAME:CEST
DTSTART:20270328T010000
END:DAYLIGHT
BEGIN:STANDARD
TZOFFSETFROM:+0200
TZOFFSETTO:+0100
TZNAME:CET
DTSTART:20271031T010000
END:STANDARD
END:VTIMEZONE
BEGIN:VEVENT
DTSTART;TZID=Europe/Berlin:20260714T140000
DTEND;TZID=Europe/Berlin:20260714T160000
DTSTAMP:20260422T124801
CREATED:20250722T075513Z
LAST-MODIFIED:20251020T094621Z
UID:10000524-1784037600-1784044800@kulturini.de
SUMMARY:Boule am Dienstag
DESCRIPTION:Wir treffen uns in lockerer Runde zum gemeinsamen Boulespielen. Eine vorherige Anmeldung ist nicht nötig\, Sie können einfach dazu kommen. Die Boule-Gruppe trifft sich jeden Dienstag. \nMit Hubertus Süllow.
URL:https://kulturini.de/event/boule-am-dienstag/2026-07-14/
LOCATION:Hannover\, Fiedelerplatz\, Fiedelerplatz\, Hannover\, 30519\, Germany
CATEGORIES:Kultur Gestalten,Spiele
ATTACH;FMTTYPE=image/jpeg:https://kulturini.de/wp-content/uploads/2025/10/iStock-1479287040-scaled.jpg
ORGANIZER;CN="Kulturinitiative D%C3%B6hren-W%C3%BClfel-Mittelfeld":MAILTO:ki@kulturini.de
END:VEVENT
BEGIN:VEVENT
DTSTART;TZID=Europe/Berlin:20260721T140000
DTEND;TZID=Europe/Berlin:20260721T160000
DTSTAMP:20260422T124801
CREATED:20250722T075513Z
LAST-MODIFIED:20251020T094621Z
UID:10000525-1784642400-1784649600@kulturini.de
SUMMARY:Boule am Dienstag
DESCRIPTION:Wir treffen uns in lockerer Runde zum gemeinsamen Boulespielen. Eine vorherige Anmeldung ist nicht nötig\, Sie können einfach dazu kommen. Die Boule-Gruppe trifft sich jeden Dienstag. \nMit Hubertus Süllow.
URL:https://kulturini.de/event/boule-am-dienstag/2026-07-21/
LOCATION:Hannover\, Fiedelerplatz\, Fiedelerplatz\, Hannover\, 30519\, Germany
CATEGORIES:Kultur Gestalten,Spiele
ATTACH;FMTTYPE=image/jpeg:https://kulturini.de/wp-content/uploads/2025/10/iStock-1479287040-scaled.jpg
ORGANIZER;CN="Kulturinitiative D%C3%B6hren-W%C3%BClfel-Mittelfeld":MAILTO:ki@kulturini.de
END:VEVENT
BEGIN:VEVENT
DTSTART;TZID=Europe/Berlin:20260728T140000
DTEND;TZID=Europe/Berlin:20260728T160000
DTSTAMP:20260422T124801
CREATED:20250722T075513Z
LAST-MODIFIED:20251020T094621Z
UID:10000526-1785247200-1785254400@kulturini.de
SUMMARY:Boule am Dienstag
DESCRIPTION:Wir treffen uns in lockerer Runde zum gemeinsamen Boulespielen. Eine vorherige Anmeldung ist nicht nötig\, Sie können einfach dazu kommen. Die Boule-Gruppe trifft sich jeden Dienstag. \nMit Hubertus Süllow.
URL:https://kulturini.de/event/boule-am-dienstag/2026-07-28/
LOCATION:Hannover\, Fiedelerplatz\, Fiedelerplatz\, Hannover\, 30519\, Germany
CATEGORIES:Kultur Gestalten,Spiele
ATTACH;FMTTYPE=image/jpeg:https://kulturini.de/wp-content/uploads/2025/10/iStock-1479287040-scaled.jpg
ORGANIZER;CN="Kulturinitiative D%C3%B6hren-W%C3%BClfel-Mittelfeld":MAILTO:ki@kulturini.de
END:VEVENT
BEGIN:VEVENT
DTSTART;TZID=Europe/Berlin:20260804T140000
DTEND;TZID=Europe/Berlin:20260804T160000
DTSTAMP:20260422T124801
CREATED:20250722T075513Z
LAST-MODIFIED:20251020T094621Z
UID:10000527-1785852000-1785859200@kulturini.de
SUMMARY:Boule am Dienstag
DESCRIPTION:Wir treffen uns in lockerer Runde zum gemeinsamen Boulespielen. Eine vorherige Anmeldung ist nicht nötig\, Sie können einfach dazu kommen. Die Boule-Gruppe trifft sich jeden Dienstag. \nMit Hubertus Süllow.
URL:https://kulturini.de/event/boule-am-dienstag/2026-08-04/
LOCATION:Hannover\, Fiedelerplatz\, Fiedelerplatz\, Hannover\, 30519\, Germany
CATEGORIES:Kultur Gestalten,Spiele
ATTACH;FMTTYPE=image/jpeg:https://kulturini.de/wp-content/uploads/2025/10/iStock-1479287040-scaled.jpg
ORGANIZER;CN="Kulturinitiative D%C3%B6hren-W%C3%BClfel-Mittelfeld":MAILTO:ki@kulturini.de
END:VEVENT
BEGIN:VEVENT
DTSTART;TZID=Europe/Berlin:20260811T140000
DTEND;TZID=Europe/Berlin:20260811T160000
DTSTAMP:20260422T124801
CREATED:20250722T075513Z
LAST-MODIFIED:20251020T094621Z
UID:10000528-1786456800-1786464000@kulturini.de
SUMMARY:Boule am Dienstag
DESCRIPTION:Wir treffen uns in lockerer Runde zum gemeinsamen Boulespielen. Eine vorherige Anmeldung ist nicht nötig\, Sie können einfach dazu kommen. Die Boule-Gruppe trifft sich jeden Dienstag. \nMit Hubertus Süllow.
URL:https://kulturini.de/event/boule-am-dienstag/2026-08-11/
LOCATION:Hannover\, Fiedelerplatz\, Fiedelerplatz\, Hannover\, 30519\, Germany
CATEGORIES:Kultur Gestalten,Spiele
ATTACH;FMTTYPE=image/jpeg:https://kulturini.de/wp-content/uploads/2025/10/iStock-1479287040-scaled.jpg
ORGANIZER;CN="Kulturinitiative D%C3%B6hren-W%C3%BClfel-Mittelfeld":MAILTO:ki@kulturini.de
END:VEVENT
BEGIN:VEVENT
DTSTART;TZID=Europe/Berlin:20260812T180000
DTEND;TZID=Europe/Berlin:20260812T193000
DTSTAMP:20260422T124801
CREATED:20250520T072555Z
LAST-MODIFIED:20251020T105709Z
UID:10000166-1786557600-1786563000@kulturini.de
SUMMARY:Klangmalerei – musikalische Improvisation
DESCRIPTION:Bei der „dirigierten Improvisation“ spielen wir keine Noten\, sondern erschaffen gemeinsam Sounds und Melodien\, die der Dirigent zu einem Musikstück formt. Jeder spielt\, was er kann und will. Neue Leute sind herzlich willkommen! \nMit Thomas Siebert (Oboist und Klarinettist). \n  \n 
URL:https://kulturini.de/event/klangmalerei-musikalische-improvisation/2026-08-12/
LOCATION:Quartierstreff\, Borgentrickstr. 13\, Hannover\, 30519\, Germany
CATEGORIES:Kultur Gestalten,Musik
ATTACH;FMTTYPE=image/png:https://kulturini.de/wp-content/uploads/2025/10/14.png
ORGANIZER;CN="Kulturinitiative D%C3%B6hren-W%C3%BClfel-Mittelfeld":MAILTO:ki@kulturini.de
END:VEVENT
BEGIN:VEVENT
DTSTART;TZID=Europe/Berlin:20260814T153000
DTEND;TZID=Europe/Berlin:20260814T173000
DTSTAMP:20260422T124801
CREATED:20260219T193151Z
LAST-MODIFIED:20260219T193152Z
UID:10000818-1786721400-1786728600@kulturini.de
SUMMARY:Damals in Döhren\, Wülfel\, Seelhorst
DESCRIPTION:Wir treffen uns einmal im Monat zum Austausch über das Leben in diesen Stadtteilen während der letzten Jahrzehnte. Bereichern Sie unsere Arbeit und bringen Sie gern Fotos oder Schriftstücke mit. Vielleicht können wir gemeinsam kleine Stadtgeschichten erstellen.
URL:https://kulturini.de/event/damals-in-doehren-wuelfel-seelhorst-2/2026-08-14/
LOCATION:Quartierstreff\, Borgentrickstr. 13\, Hannover\, 30519\, Germany
CATEGORIES:Kultur Gestalten
ATTACH;FMTTYPE=image/jpeg:https://kulturini.de/wp-content/uploads/2026/01/Damals-in-Doehren.jpg
ORGANIZER;CN="Kulturinitiative D%C3%B6hren-W%C3%BClfel-Mittelfeld":MAILTO:ki@kulturini.de
END:VEVENT
BEGIN:VEVENT
DTSTART;TZID=Europe/Berlin:20260818T140000
DTEND;TZID=Europe/Berlin:20260818T160000
DTSTAMP:20260422T124801
CREATED:20250722T075513Z
LAST-MODIFIED:20251020T094621Z
UID:10000529-1787061600-1787068800@kulturini.de
SUMMARY:Boule am Dienstag
DESCRIPTION:Wir treffen uns in lockerer Runde zum gemeinsamen Boulespielen. Eine vorherige Anmeldung ist nicht nötig\, Sie können einfach dazu kommen. Die Boule-Gruppe trifft sich jeden Dienstag. \nMit Hubertus Süllow.
URL:https://kulturini.de/event/boule-am-dienstag/2026-08-18/
LOCATION:Hannover\, Fiedelerplatz\, Fiedelerplatz\, Hannover\, 30519\, Germany
CATEGORIES:Kultur Gestalten,Spiele
ATTACH;FMTTYPE=image/jpeg:https://kulturini.de/wp-content/uploads/2025/10/iStock-1479287040-scaled.jpg
ORGANIZER;CN="Kulturinitiative D%C3%B6hren-W%C3%BClfel-Mittelfeld":MAILTO:ki@kulturini.de
END:VEVENT
BEGIN:VEVENT
DTSTART;TZID=Europe/Berlin:20260825T140000
DTEND;TZID=Europe/Berlin:20260825T160000
DTSTAMP:20260422T124801
CREATED:20250722T075513Z
LAST-MODIFIED:20251020T094621Z
UID:10000530-1787666400-1787673600@kulturini.de
SUMMARY:Boule am Dienstag
DESCRIPTION:Wir treffen uns in lockerer Runde zum gemeinsamen Boulespielen. Eine vorherige Anmeldung ist nicht nötig\, Sie können einfach dazu kommen. Die Boule-Gruppe trifft sich jeden Dienstag. \nMit Hubertus Süllow.
URL:https://kulturini.de/event/boule-am-dienstag/2026-08-25/
LOCATION:Hannover\, Fiedelerplatz\, Fiedelerplatz\, Hannover\, 30519\, Germany
CATEGORIES:Kultur Gestalten,Spiele
ATTACH;FMTTYPE=image/jpeg:https://kulturini.de/wp-content/uploads/2025/10/iStock-1479287040-scaled.jpg
ORGANIZER;CN="Kulturinitiative D%C3%B6hren-W%C3%BClfel-Mittelfeld":MAILTO:ki@kulturini.de
END:VEVENT
BEGIN:VEVENT
DTSTART;TZID=Europe/Berlin:20260901T140000
DTEND;TZID=Europe/Berlin:20260901T160000
DTSTAMP:20260422T124801
CREATED:20250722T075513Z
LAST-MODIFIED:20251020T094621Z
UID:10000531-1788271200-1788278400@kulturini.de
SUMMARY:Boule am Dienstag
DESCRIPTION:Wir treffen uns in lockerer Runde zum gemeinsamen Boulespielen. Eine vorherige Anmeldung ist nicht nötig\, Sie können einfach dazu kommen. Die Boule-Gruppe trifft sich jeden Dienstag. \nMit Hubertus Süllow.
URL:https://kulturini.de/event/boule-am-dienstag/2026-09-01/
LOCATION:Hannover\, Fiedelerplatz\, Fiedelerplatz\, Hannover\, 30519\, Germany
CATEGORIES:Kultur Gestalten,Spiele
ATTACH;FMTTYPE=image/jpeg:https://kulturini.de/wp-content/uploads/2025/10/iStock-1479287040-scaled.jpg
ORGANIZER;CN="Kulturinitiative D%C3%B6hren-W%C3%BClfel-Mittelfeld":MAILTO:ki@kulturini.de
END:VEVENT
BEGIN:VEVENT
DTSTART;TZID=Europe/Berlin:20260908T140000
DTEND;TZID=Europe/Berlin:20260908T160000
DTSTAMP:20260422T124801
CREATED:20250722T075513Z
LAST-MODIFIED:20251020T094621Z
UID:10000532-1788876000-1788883200@kulturini.de
SUMMARY:Boule am Dienstag
DESCRIPTION:Wir treffen uns in lockerer Runde zum gemeinsamen Boulespielen. Eine vorherige Anmeldung ist nicht nötig\, Sie können einfach dazu kommen. Die Boule-Gruppe trifft sich jeden Dienstag. \nMit Hubertus Süllow.
URL:https://kulturini.de/event/boule-am-dienstag/2026-09-08/
LOCATION:Hannover\, Fiedelerplatz\, Fiedelerplatz\, Hannover\, 30519\, Germany
CATEGORIES:Kultur Gestalten,Spiele
ATTACH;FMTTYPE=image/jpeg:https://kulturini.de/wp-content/uploads/2025/10/iStock-1479287040-scaled.jpg
ORGANIZER;CN="Kulturinitiative D%C3%B6hren-W%C3%BClfel-Mittelfeld":MAILTO:ki@kulturini.de
END:VEVENT
BEGIN:VEVENT
DTSTART;TZID=Europe/Berlin:20260909T180000
DTEND;TZID=Europe/Berlin:20260909T193000
DTSTAMP:20260422T124801
CREATED:20250520T072555Z
LAST-MODIFIED:20251020T105709Z
UID:10000167-1788976800-1788982200@kulturini.de
SUMMARY:Klangmalerei – musikalische Improvisation
DESCRIPTION:Bei der „dirigierten Improvisation“ spielen wir keine Noten\, sondern erschaffen gemeinsam Sounds und Melodien\, die der Dirigent zu einem Musikstück formt. Jeder spielt\, was er kann und will. Neue Leute sind herzlich willkommen! \nMit Thomas Siebert (Oboist und Klarinettist). \n  \n 
URL:https://kulturini.de/event/klangmalerei-musikalische-improvisation/2026-09-09/
LOCATION:Quartierstreff\, Borgentrickstr. 13\, Hannover\, 30519\, Germany
CATEGORIES:Kultur Gestalten,Musik
ATTACH;FMTTYPE=image/png:https://kulturini.de/wp-content/uploads/2025/10/14.png
ORGANIZER;CN="Kulturinitiative D%C3%B6hren-W%C3%BClfel-Mittelfeld":MAILTO:ki@kulturini.de
END:VEVENT
BEGIN:VEVENT
DTSTART;TZID=Europe/Berlin:20260911T153000
DTEND;TZID=Europe/Berlin:20260911T173000
DTSTAMP:20260422T124801
CREATED:20260219T193151Z
LAST-MODIFIED:20260219T193152Z
UID:10000819-1789140600-1789147800@kulturini.de
SUMMARY:Damals in Döhren\, Wülfel\, Seelhorst
DESCRIPTION:Wir treffen uns einmal im Monat zum Austausch über das Leben in diesen Stadtteilen während der letzten Jahrzehnte. Bereichern Sie unsere Arbeit und bringen Sie gern Fotos oder Schriftstücke mit. Vielleicht können wir gemeinsam kleine Stadtgeschichten erstellen.
URL:https://kulturini.de/event/damals-in-doehren-wuelfel-seelhorst-2/2026-09-11/
LOCATION:Quartierstreff\, Borgentrickstr. 13\, Hannover\, 30519\, Germany
CATEGORIES:Kultur Gestalten
ATTACH;FMTTYPE=image/jpeg:https://kulturini.de/wp-content/uploads/2026/01/Damals-in-Doehren.jpg
ORGANIZER;CN="Kulturinitiative D%C3%B6hren-W%C3%BClfel-Mittelfeld":MAILTO:ki@kulturini.de
END:VEVENT
BEGIN:VEVENT
DTSTART;TZID=Europe/Berlin:20260915T140000
DTEND;TZID=Europe/Berlin:20260915T160000
DTSTAMP:20260422T124801
CREATED:20250722T075513Z
LAST-MODIFIED:20251020T094621Z
UID:10000533-1789480800-1789488000@kulturini.de
SUMMARY:Boule am Dienstag
DESCRIPTION:Wir treffen uns in lockerer Runde zum gemeinsamen Boulespielen. Eine vorherige Anmeldung ist nicht nötig\, Sie können einfach dazu kommen. Die Boule-Gruppe trifft sich jeden Dienstag. \nMit Hubertus Süllow.
URL:https://kulturini.de/event/boule-am-dienstag/2026-09-15/
LOCATION:Hannover\, Fiedelerplatz\, Fiedelerplatz\, Hannover\, 30519\, Germany
CATEGORIES:Kultur Gestalten,Spiele
ATTACH;FMTTYPE=image/jpeg:https://kulturini.de/wp-content/uploads/2025/10/iStock-1479287040-scaled.jpg
ORGANIZER;CN="Kulturinitiative D%C3%B6hren-W%C3%BClfel-Mittelfeld":MAILTO:ki@kulturini.de
END:VEVENT
BEGIN:VEVENT
DTSTART;TZID=Europe/Berlin:20260922T140000
DTEND;TZID=Europe/Berlin:20260922T160000
DTSTAMP:20260422T124801
CREATED:20250722T075513Z
LAST-MODIFIED:20251020T094621Z
UID:10000534-1790085600-1790092800@kulturini.de
SUMMARY:Boule am Dienstag
DESCRIPTION:Wir treffen uns in lockerer Runde zum gemeinsamen Boulespielen. Eine vorherige Anmeldung ist nicht nötig\, Sie können einfach dazu kommen. Die Boule-Gruppe trifft sich jeden Dienstag. \nMit Hubertus Süllow.
URL:https://kulturini.de/event/boule-am-dienstag/2026-09-22/
LOCATION:Hannover\, Fiedelerplatz\, Fiedelerplatz\, Hannover\, 30519\, Germany
CATEGORIES:Kultur Gestalten,Spiele
ATTACH;FMTTYPE=image/jpeg:https://kulturini.de/wp-content/uploads/2025/10/iStock-1479287040-scaled.jpg
ORGANIZER;CN="Kulturinitiative D%C3%B6hren-W%C3%BClfel-Mittelfeld":MAILTO:ki@kulturini.de
END:VEVENT
BEGIN:VEVENT
DTSTART;TZID=Europe/Berlin:20260929T140000
DTEND;TZID=Europe/Berlin:20260929T160000
DTSTAMP:20260422T124801
CREATED:20250722T075513Z
LAST-MODIFIED:20251020T094621Z
UID:10000535-1790690400-1790697600@kulturini.de
SUMMARY:Boule am Dienstag
DESCRIPTION:Wir treffen uns in lockerer Runde zum gemeinsamen Boulespielen. Eine vorherige Anmeldung ist nicht nötig\, Sie können einfach dazu kommen. Die Boule-Gruppe trifft sich jeden Dienstag. \nMit Hubertus Süllow.
URL:https://kulturini.de/event/boule-am-dienstag/2026-09-29/
LOCATION:Hannover\, Fiedelerplatz\, Fiedelerplatz\, Hannover\, 30519\, Germany
CATEGORIES:Kultur Gestalten,Spiele
ATTACH;FMTTYPE=image/jpeg:https://kulturini.de/wp-content/uploads/2025/10/iStock-1479287040-scaled.jpg
ORGANIZER;CN="Kulturinitiative D%C3%B6hren-W%C3%BClfel-Mittelfeld":MAILTO:ki@kulturini.de
END:VEVENT
BEGIN:VEVENT
DTSTART;TZID=Europe/Berlin:20261006T140000
DTEND;TZID=Europe/Berlin:20261006T160000
DTSTAMP:20260422T124801
CREATED:20250722T075513Z
LAST-MODIFIED:20251020T094621Z
UID:10000536-1791295200-1791302400@kulturini.de
SUMMARY:Boule am Dienstag
DESCRIPTION:Wir treffen uns in lockerer Runde zum gemeinsamen Boulespielen. Eine vorherige Anmeldung ist nicht nötig\, Sie können einfach dazu kommen. Die Boule-Gruppe trifft sich jeden Dienstag. \nMit Hubertus Süllow.
URL:https://kulturini.de/event/boule-am-dienstag/2026-10-06/
LOCATION:Hannover\, Fiedelerplatz\, Fiedelerplatz\, Hannover\, 30519\, Germany
CATEGORIES:Kultur Gestalten,Spiele
ATTACH;FMTTYPE=image/jpeg:https://kulturini.de/wp-content/uploads/2025/10/iStock-1479287040-scaled.jpg
ORGANIZER;CN="Kulturinitiative D%C3%B6hren-W%C3%BClfel-Mittelfeld":MAILTO:ki@kulturini.de
END:VEVENT
BEGIN:VEVENT
DTSTART;TZID=Europe/Berlin:20261009T153000
DTEND;TZID=Europe/Berlin:20261009T173000
DTSTAMP:20260422T124801
CREATED:20260219T193151Z
LAST-MODIFIED:20260219T193152Z
UID:10000820-1791559800-1791567000@kulturini.de
SUMMARY:Damals in Döhren\, Wülfel\, Seelhorst
DESCRIPTION:Wir treffen uns einmal im Monat zum Austausch über das Leben in diesen Stadtteilen während der letzten Jahrzehnte. Bereichern Sie unsere Arbeit und bringen Sie gern Fotos oder Schriftstücke mit. Vielleicht können wir gemeinsam kleine Stadtgeschichten erstellen.
URL:https://kulturini.de/event/damals-in-doehren-wuelfel-seelhorst-2/2026-10-09/
LOCATION:Quartierstreff\, Borgentrickstr. 13\, Hannover\, 30519\, Germany
CATEGORIES:Kultur Gestalten
ATTACH;FMTTYPE=image/jpeg:https://kulturini.de/wp-content/uploads/2026/01/Damals-in-Doehren.jpg
ORGANIZER;CN="Kulturinitiative D%C3%B6hren-W%C3%BClfel-Mittelfeld":MAILTO:ki@kulturini.de
END:VEVENT
BEGIN:VEVENT
DTSTART;TZID=Europe/Berlin:20261013T140000
DTEND;TZID=Europe/Berlin:20261013T160000
DTSTAMP:20260422T124801
CREATED:20250722T075513Z
LAST-MODIFIED:20251020T094621Z
UID:10000537-1791900000-1791907200@kulturini.de
SUMMARY:Boule am Dienstag
DESCRIPTION:Wir treffen uns in lockerer Runde zum gemeinsamen Boulespielen. Eine vorherige Anmeldung ist nicht nötig\, Sie können einfach dazu kommen. Die Boule-Gruppe trifft sich jeden Dienstag. \nMit Hubertus Süllow.
URL:https://kulturini.de/event/boule-am-dienstag/2026-10-13/
LOCATION:Hannover\, Fiedelerplatz\, Fiedelerplatz\, Hannover\, 30519\, Germany
CATEGORIES:Kultur Gestalten,Spiele
ATTACH;FMTTYPE=image/jpeg:https://kulturini.de/wp-content/uploads/2025/10/iStock-1479287040-scaled.jpg
ORGANIZER;CN="Kulturinitiative D%C3%B6hren-W%C3%BClfel-Mittelfeld":MAILTO:ki@kulturini.de
END:VEVENT
BEGIN:VEVENT
DTSTART;TZID=Europe/Berlin:20261014T180000
DTEND;TZID=Europe/Berlin:20261014T193000
DTSTAMP:20260422T124801
CREATED:20250520T072555Z
LAST-MODIFIED:20251020T105709Z
UID:10000168-1792000800-1792006200@kulturini.de
SUMMARY:Klangmalerei – musikalische Improvisation
DESCRIPTION:Bei der „dirigierten Improvisation“ spielen wir keine Noten\, sondern erschaffen gemeinsam Sounds und Melodien\, die der Dirigent zu einem Musikstück formt. Jeder spielt\, was er kann und will. Neue Leute sind herzlich willkommen! \nMit Thomas Siebert (Oboist und Klarinettist). \n  \n 
URL:https://kulturini.de/event/klangmalerei-musikalische-improvisation/2026-10-14/
LOCATION:Quartierstreff\, Borgentrickstr. 13\, Hannover\, 30519\, Germany
CATEGORIES:Kultur Gestalten,Musik
ATTACH;FMTTYPE=image/png:https://kulturini.de/wp-content/uploads/2025/10/14.png
ORGANIZER;CN="Kulturinitiative D%C3%B6hren-W%C3%BClfel-Mittelfeld":MAILTO:ki@kulturini.de
END:VEVENT
BEGIN:VEVENT
DTSTART;TZID=Europe/Berlin:20261020T140000
DTEND;TZID=Europe/Berlin:20261020T160000
DTSTAMP:20260422T124801
CREATED:20250722T075513Z
LAST-MODIFIED:20251020T094621Z
UID:10000538-1792504800-1792512000@kulturini.de
SUMMARY:Boule am Dienstag
DESCRIPTION:Wir treffen uns in lockerer Runde zum gemeinsamen Boulespielen. Eine vorherige Anmeldung ist nicht nötig\, Sie können einfach dazu kommen. Die Boule-Gruppe trifft sich jeden Dienstag. \nMit Hubertus Süllow.
URL:https://kulturini.de/event/boule-am-dienstag/2026-10-20/
LOCATION:Hannover\, Fiedelerplatz\, Fiedelerplatz\, Hannover\, 30519\, Germany
CATEGORIES:Kultur Gestalten,Spiele
ATTACH;FMTTYPE=image/jpeg:https://kulturini.de/wp-content/uploads/2025/10/iStock-1479287040-scaled.jpg
ORGANIZER;CN="Kulturinitiative D%C3%B6hren-W%C3%BClfel-Mittelfeld":MAILTO:ki@kulturini.de
END:VEVENT
BEGIN:VEVENT
DTSTART;TZID=Europe/Berlin:20261027T140000
DTEND;TZID=Europe/Berlin:20261027T160000
DTSTAMP:20260422T124801
CREATED:20250722T075513Z
LAST-MODIFIED:20251020T094621Z
UID:10000539-1793109600-1793116800@kulturini.de
SUMMARY:Boule am Dienstag
DESCRIPTION:Wir treffen uns in lockerer Runde zum gemeinsamen Boulespielen. Eine vorherige Anmeldung ist nicht nötig\, Sie können einfach dazu kommen. Die Boule-Gruppe trifft sich jeden Dienstag. \nMit Hubertus Süllow.
URL:https://kulturini.de/event/boule-am-dienstag/2026-10-27/
LOCATION:Hannover\, Fiedelerplatz\, Fiedelerplatz\, Hannover\, 30519\, Germany
CATEGORIES:Kultur Gestalten,Spiele
ATTACH;FMTTYPE=image/jpeg:https://kulturini.de/wp-content/uploads/2025/10/iStock-1479287040-scaled.jpg
ORGANIZER;CN="Kulturinitiative D%C3%B6hren-W%C3%BClfel-Mittelfeld":MAILTO:ki@kulturini.de
END:VEVENT
BEGIN:VEVENT
DTSTART;TZID=Europe/Berlin:20261103T140000
DTEND;TZID=Europe/Berlin:20261103T160000
DTSTAMP:20260422T124801
CREATED:20250722T075513Z
LAST-MODIFIED:20251020T094621Z
UID:10000540-1793714400-1793721600@kulturini.de
SUMMARY:Boule am Dienstag
DESCRIPTION:Wir treffen uns in lockerer Runde zum gemeinsamen Boulespielen. Eine vorherige Anmeldung ist nicht nötig\, Sie können einfach dazu kommen. Die Boule-Gruppe trifft sich jeden Dienstag. \nMit Hubertus Süllow.
URL:https://kulturini.de/event/boule-am-dienstag/2026-11-03/
LOCATION:Hannover\, Fiedelerplatz\, Fiedelerplatz\, Hannover\, 30519\, Germany
CATEGORIES:Kultur Gestalten,Spiele
ATTACH;FMTTYPE=image/jpeg:https://kulturini.de/wp-content/uploads/2025/10/iStock-1479287040-scaled.jpg
ORGANIZER;CN="Kulturinitiative D%C3%B6hren-W%C3%BClfel-Mittelfeld":MAILTO:ki@kulturini.de
END:VEVENT
BEGIN:VEVENT
DTSTART;TZID=Europe/Berlin:20261110T140000
DTEND;TZID=Europe/Berlin:20261110T160000
DTSTAMP:20260422T124801
CREATED:20250722T075513Z
LAST-MODIFIED:20251020T094621Z
UID:10000541-1794319200-1794326400@kulturini.de
SUMMARY:Boule am Dienstag
DESCRIPTION:Wir treffen uns in lockerer Runde zum gemeinsamen Boulespielen. Eine vorherige Anmeldung ist nicht nötig\, Sie können einfach dazu kommen. Die Boule-Gruppe trifft sich jeden Dienstag. \nMit Hubertus Süllow.
URL:https://kulturini.de/event/boule-am-dienstag/2026-11-10/
LOCATION:Hannover\, Fiedelerplatz\, Fiedelerplatz\, Hannover\, 30519\, Germany
CATEGORIES:Kultur Gestalten,Spiele
ATTACH;FMTTYPE=image/jpeg:https://kulturini.de/wp-content/uploads/2025/10/iStock-1479287040-scaled.jpg
ORGANIZER;CN="Kulturinitiative D%C3%B6hren-W%C3%BClfel-Mittelfeld":MAILTO:ki@kulturini.de
END:VEVENT
BEGIN:VEVENT
DTSTART;TZID=Europe/Berlin:20261111T180000
DTEND;TZID=Europe/Berlin:20261111T193000
DTSTAMP:20260422T124801
CREATED:20250520T072555Z
LAST-MODIFIED:20251020T105709Z
UID:10000169-1794420000-1794425400@kulturini.de
SUMMARY:Klangmalerei – musikalische Improvisation
DESCRIPTION:Bei der „dirigierten Improvisation“ spielen wir keine Noten\, sondern erschaffen gemeinsam Sounds und Melodien\, die der Dirigent zu einem Musikstück formt. Jeder spielt\, was er kann und will. Neue Leute sind herzlich willkommen! \nMit Thomas Siebert (Oboist und Klarinettist). \n  \n 
URL:https://kulturini.de/event/klangmalerei-musikalische-improvisation/2026-11-11/
LOCATION:Quartierstreff\, Borgentrickstr. 13\, Hannover\, 30519\, Germany
CATEGORIES:Kultur Gestalten,Musik
ATTACH;FMTTYPE=image/png:https://kulturini.de/wp-content/uploads/2025/10/14.png
ORGANIZER;CN="Kulturinitiative D%C3%B6hren-W%C3%BClfel-Mittelfeld":MAILTO:ki@kulturini.de
END:VEVENT
BEGIN:VEVENT
DTSTART;TZID=Europe/Berlin:20261113T153000
DTEND;TZID=Europe/Berlin:20261113T173000
DTSTAMP:20260422T124801
CREATED:20260219T193151Z
LAST-MODIFIED:20260219T193152Z
UID:10000821-1794583800-1794591000@kulturini.de
SUMMARY:Damals in Döhren\, Wülfel\, Seelhorst
DESCRIPTION:Wir treffen uns einmal im Monat zum Austausch über das Leben in diesen Stadtteilen während der letzten Jahrzehnte. Bereichern Sie unsere Arbeit und bringen Sie gern Fotos oder Schriftstücke mit. Vielleicht können wir gemeinsam kleine Stadtgeschichten erstellen.
URL:https://kulturini.de/event/damals-in-doehren-wuelfel-seelhorst-2/2026-11-13/
LOCATION:Quartierstreff\, Borgentrickstr. 13\, Hannover\, 30519\, Germany
CATEGORIES:Kultur Gestalten
ATTACH;FMTTYPE=image/jpeg:https://kulturini.de/wp-content/uploads/2026/01/Damals-in-Doehren.jpg
ORGANIZER;CN="Kulturinitiative D%C3%B6hren-W%C3%BClfel-Mittelfeld":MAILTO:ki@kulturini.de
END:VEVENT
BEGIN:VEVENT
DTSTART;TZID=Europe/Berlin:20261117T140000
DTEND;TZID=Europe/Berlin:20261117T160000
DTSTAMP:20260422T124801
CREATED:20250722T075513Z
LAST-MODIFIED:20251020T094621Z
UID:10000542-1794924000-1794931200@kulturini.de
SUMMARY:Boule am Dienstag
DESCRIPTION:Wir treffen uns in lockerer Runde zum gemeinsamen Boulespielen. Eine vorherige Anmeldung ist nicht nötig\, Sie können einfach dazu kommen. Die Boule-Gruppe trifft sich jeden Dienstag. \nMit Hubertus Süllow.
URL:https://kulturini.de/event/boule-am-dienstag/2026-11-17/
LOCATION:Hannover\, Fiedelerplatz\, Fiedelerplatz\, Hannover\, 30519\, Germany
CATEGORIES:Kultur Gestalten,Spiele
ATTACH;FMTTYPE=image/jpeg:https://kulturini.de/wp-content/uploads/2025/10/iStock-1479287040-scaled.jpg
ORGANIZER;CN="Kulturinitiative D%C3%B6hren-W%C3%BClfel-Mittelfeld":MAILTO:ki@kulturini.de
END:VEVENT
BEGIN:VEVENT
DTSTART;TZID=Europe/Berlin:20261124T140000
DTEND;TZID=Europe/Berlin:20261124T160000
DTSTAMP:20260422T124801
CREATED:20250722T075513Z
LAST-MODIFIED:20251020T094621Z
UID:10000543-1795528800-1795536000@kulturini.de
SUMMARY:Boule am Dienstag
DESCRIPTION:Wir treffen uns in lockerer Runde zum gemeinsamen Boulespielen. Eine vorherige Anmeldung ist nicht nötig\, Sie können einfach dazu kommen. Die Boule-Gruppe trifft sich jeden Dienstag. \nMit Hubertus Süllow.
URL:https://kulturini.de/event/boule-am-dienstag/2026-11-24/
LOCATION:Hannover\, Fiedelerplatz\, Fiedelerplatz\, Hannover\, 30519\, Germany
CATEGORIES:Kultur Gestalten,Spiele
ATTACH;FMTTYPE=image/jpeg:https://kulturini.de/wp-content/uploads/2025/10/iStock-1479287040-scaled.jpg
ORGANIZER;CN="Kulturinitiative D%C3%B6hren-W%C3%BClfel-Mittelfeld":MAILTO:ki@kulturini.de
END:VEVENT
BEGIN:VEVENT
DTSTART;TZID=Europe/Berlin:20261201T140000
DTEND;TZID=Europe/Berlin:20261201T160000
DTSTAMP:20260422T124801
CREATED:20250722T075513Z
LAST-MODIFIED:20251020T094621Z
UID:10000544-1796133600-1796140800@kulturini.de
SUMMARY:Boule am Dienstag
DESCRIPTION:Wir treffen uns in lockerer Runde zum gemeinsamen Boulespielen. Eine vorherige Anmeldung ist nicht nötig\, Sie können einfach dazu kommen. Die Boule-Gruppe trifft sich jeden Dienstag. \nMit Hubertus Süllow.
URL:https://kulturini.de/event/boule-am-dienstag/2026-12-01/
LOCATION:Hannover\, Fiedelerplatz\, Fiedelerplatz\, Hannover\, 30519\, Germany
CATEGORIES:Kultur Gestalten,Spiele
ATTACH;FMTTYPE=image/jpeg:https://kulturini.de/wp-content/uploads/2025/10/iStock-1479287040-scaled.jpg
ORGANIZER;CN="Kulturinitiative D%C3%B6hren-W%C3%BClfel-Mittelfeld":MAILTO:ki@kulturini.de
END:VEVENT
BEGIN:VEVENT
DTSTART;TZID=Europe/Berlin:20261208T140000
DTEND;TZID=Europe/Berlin:20261208T160000
DTSTAMP:20260422T124801
CREATED:20250722T075513Z
LAST-MODIFIED:20251020T094621Z
UID:10000545-1796738400-1796745600@kulturini.de
SUMMARY:Boule am Dienstag
DESCRIPTION:Wir treffen uns in lockerer Runde zum gemeinsamen Boulespielen. Eine vorherige Anmeldung ist nicht nötig\, Sie können einfach dazu kommen. Die Boule-Gruppe trifft sich jeden Dienstag. \nMit Hubertus Süllow.
URL:https://kulturini.de/event/boule-am-dienstag/2026-12-08/
LOCATION:Hannover\, Fiedelerplatz\, Fiedelerplatz\, Hannover\, 30519\, Germany
CATEGORIES:Kultur Gestalten,Spiele
ATTACH;FMTTYPE=image/jpeg:https://kulturini.de/wp-content/uploads/2025/10/iStock-1479287040-scaled.jpg
ORGANIZER;CN="Kulturinitiative D%C3%B6hren-W%C3%BClfel-Mittelfeld":MAILTO:ki@kulturini.de
END:VEVENT
END:VCALENDAR