BEGIN:VCALENDAR
VERSION:2.0
PRODID:-//Kulturini - ECPv6.15.20//NONSGML v1.0//EN
CALSCALE:GREGORIAN
METHOD:PUBLISH
X-WR-CALNAME:Kulturini
X-ORIGINAL-URL:https://kulturini.de
X-WR-CALDESC:Veranstaltungen für Kulturini
REFRESH-INTERVAL;VALUE=DURATION:PT1H
X-Robots-Tag:noindex
X-PUBLISHED-TTL:PT1H
BEGIN:VTIMEZONE
TZID:Europe/Berlin
BEGIN:DAYLIGHT
TZOFFSETFROM:+0100
TZOFFSETTO:+0200
TZNAME:CEST
DTSTART:20240331T010000
END:DAYLIGHT
BEGIN:STANDARD
TZOFFSETFROM:+0200
TZOFFSETTO:+0100
TZNAME:CET
DTSTART:20241027T010000
END:STANDARD
BEGIN:DAYLIGHT
TZOFFSETFROM:+0100
TZOFFSETTO:+0200
TZNAME:CEST
DTSTART:20250330T010000
END:DAYLIGHT
BEGIN:STANDARD
TZOFFSETFROM:+0200
TZOFFSETTO:+0100
TZNAME:CET
DTSTART:20251026T010000
END:STANDARD
BEGIN:DAYLIGHT
TZOFFSETFROM:+0100
TZOFFSETTO:+0200
TZNAME:CEST
DTSTART:20260329T010000
END:DAYLIGHT
BEGIN:STANDARD
TZOFFSETFROM:+0200
TZOFFSETTO:+0100
TZNAME:CET
DTSTART:20261025T010000
END:STANDARD
END:VTIMEZONE
BEGIN:VEVENT
DTSTART;TZID=Europe/Berlin:20251101T100000
DTEND;TZID=Europe/Berlin:20251101T150000
DTSTAMP:20260422T123103
CREATED:20251020T083526Z
LAST-MODIFIED:20251020T083526Z
UID:10000217-1761991200-1762009200@kulturini.de
SUMMARY:Upcycling: Knopf ab?
DESCRIPTION:Wir zeigen\, wie du aus alten\, unbrauchbaren Kleidungsstücken neue Lieblingsstücke kreieren kannst. Unter Anleitung der Bühnen-Schneiderin und Künstlerin Miriam Ebbing erlernst du praktische Techniken und kannst deine eigenen Ideen entwickeln. Es stehen Nähmaschinen zur Verfügung. Bitte bring Textilien mit\, die du verwandeln möchtest.
URL:https://kulturini.de/event/upcycling-knopf-ab/
LOCATION:Initiative Farbe Bekennen\, Peiner Str. 7b\, Hannover\, 30519
CATEGORIES:Kultur Gestalten,Upcycling
ATTACH;FMTTYPE=image/jpeg:https://kulturini.de/wp-content/uploads/2025/10/20250531_111559-scaled.jpg
END:VEVENT
BEGIN:VEVENT
DTSTART;TZID=Europe/Berlin:20251103T180000
DTEND;TZID=Europe/Berlin:20251103T193000
DTSTAMP:20260422T123103
CREATED:20251020T091959Z
LAST-MODIFIED:20251020T112806Z
UID:10000218-1762192800-1762198200@kulturini.de
SUMMARY:Einführung & Ausstellung: Christopher Balassa: Transfigura - Die Verklärung des Bildes
DESCRIPTION:Heute beschäftigen wir uns mit der Lindner Galerie metavier\, in der ein Bestattungsunternehmer Kunst präsentiert\, die Tod\, Vergänglichkeit und Transzendenz reflektiert. Es ist eine ungewöhnliche und spannende Auseinandersetzung mit diesen Themen in Hannovers Galerieszene. Die Ausstellung zeigt Kunstwerke von Christopher Balassa\, in denen er die spirituelle Kraft von Bildern und die Erleuchtung des Augenblicks beschwört. Kunsthistoriker Dr. Christian Vogel führt in das Werk ein. \nAm Sonntag\, dem 9.11.25 um 15 Uhr erfolgt der gemeinsame Ausstellungsbesuch.  \n\n 
URL:https://kulturini.de/event/einfuehrung-ausstellung-christopher-balassa-transfigura-die-verklaerung-des-bildes/
LOCATION:Gemeindesaal Auferstehungskirche\, Helmstedter Str. 59\, Hannover\, 30519
CATEGORIES:Ausstellungen,Kultur Geniessen
ATTACH;FMTTYPE=image/png:https://kulturini.de/wp-content/uploads/2025/10/Facebook-November-Dezember-Januar-1920-x-1080-px2-1.png
END:VEVENT
BEGIN:VEVENT
DTSTART;TZID=Europe/Berlin:20251104T140000
DTEND;TZID=Europe/Berlin:20251104T160000
DTSTAMP:20260422T123103
CREATED:20250722T075513Z
LAST-MODIFIED:20251020T094621Z
UID:10000488-1762264800-1762272000@kulturini.de
SUMMARY:Boule am Dienstag
DESCRIPTION:Wir treffen uns in lockerer Runde zum gemeinsamen Boulespielen. Eine vorherige Anmeldung ist nicht nötig\, Sie können einfach dazu kommen. Die Boule-Gruppe trifft sich jeden Dienstag. \nMit Hubertus Süllow.
URL:https://kulturini.de/event/boule-am-dienstag/2025-11-04/
LOCATION:Hannover\, Fiedelerplatz\, Fiedelerplatz\, Hannover\, 30519\, Germany
CATEGORIES:Kultur Gestalten,Spiele
ATTACH;FMTTYPE=image/jpeg:https://kulturini.de/wp-content/uploads/2025/10/iStock-1479287040-scaled.jpg
ORGANIZER;CN="Kulturinitiative D%C3%B6hren-W%C3%BClfel-Mittelfeld":MAILTO:ki@kulturini.de
END:VEVENT
BEGIN:VEVENT
DTSTART;TZID=Europe/Berlin:20251111T140000
DTEND;TZID=Europe/Berlin:20251111T160000
DTSTAMP:20260422T123103
CREATED:20250722T075513Z
LAST-MODIFIED:20251020T094621Z
UID:10000489-1762869600-1762876800@kulturini.de
SUMMARY:Boule am Dienstag
DESCRIPTION:Wir treffen uns in lockerer Runde zum gemeinsamen Boulespielen. Eine vorherige Anmeldung ist nicht nötig\, Sie können einfach dazu kommen. Die Boule-Gruppe trifft sich jeden Dienstag. \nMit Hubertus Süllow.
URL:https://kulturini.de/event/boule-am-dienstag/2025-11-11/
LOCATION:Hannover\, Fiedelerplatz\, Fiedelerplatz\, Hannover\, 30519\, Germany
CATEGORIES:Kultur Gestalten,Spiele
ATTACH;FMTTYPE=image/jpeg:https://kulturini.de/wp-content/uploads/2025/10/iStock-1479287040-scaled.jpg
ORGANIZER;CN="Kulturinitiative D%C3%B6hren-W%C3%BClfel-Mittelfeld":MAILTO:ki@kulturini.de
END:VEVENT
BEGIN:VEVENT
DTSTART;TZID=Europe/Berlin:20251112T180000
DTEND;TZID=Europe/Berlin:20251112T193000
DTSTAMP:20260422T123103
CREATED:20250520T072555Z
LAST-MODIFIED:20251020T105709Z
UID:10000157-1762970400-1762975800@kulturini.de
SUMMARY:Klangmalerei – musikalische Improvisation
DESCRIPTION:Bei der „dirigierten Improvisation“ spielen wir keine Noten\, sondern erschaffen gemeinsam Sounds und Melodien\, die der Dirigent zu einem Musikstück formt. Jeder spielt\, was er kann und will. Neue Leute sind herzlich willkommen! \nMit Thomas Siebert (Oboist und Klarinettist). \n  \n 
URL:https://kulturini.de/event/klangmalerei-musikalische-improvisation/2025-11-12/
LOCATION:Quartierstreff\, Borgentrickstr. 13\, Hannover\, 30519\, Germany
CATEGORIES:Kultur Gestalten,Musik
ATTACH;FMTTYPE=image/png:https://kulturini.de/wp-content/uploads/2025/10/14.png
ORGANIZER;CN="Kulturinitiative D%C3%B6hren-W%C3%BClfel-Mittelfeld":MAILTO:ki@kulturini.de
END:VEVENT
BEGIN:VEVENT
DTSTART;TZID=Europe/Berlin:20251118T140000
DTEND;TZID=Europe/Berlin:20251118T160000
DTSTAMP:20260422T123103
CREATED:20250722T075513Z
LAST-MODIFIED:20251020T094621Z
UID:10000490-1763474400-1763481600@kulturini.de
SUMMARY:Boule am Dienstag
DESCRIPTION:Wir treffen uns in lockerer Runde zum gemeinsamen Boulespielen. Eine vorherige Anmeldung ist nicht nötig\, Sie können einfach dazu kommen. Die Boule-Gruppe trifft sich jeden Dienstag. \nMit Hubertus Süllow.
URL:https://kulturini.de/event/boule-am-dienstag/2025-11-18/
LOCATION:Hannover\, Fiedelerplatz\, Fiedelerplatz\, Hannover\, 30519\, Germany
CATEGORIES:Kultur Gestalten,Spiele
ATTACH;FMTTYPE=image/jpeg:https://kulturini.de/wp-content/uploads/2025/10/iStock-1479287040-scaled.jpg
ORGANIZER;CN="Kulturinitiative D%C3%B6hren-W%C3%BClfel-Mittelfeld":MAILTO:ki@kulturini.de
END:VEVENT
BEGIN:VEVENT
DTSTART;TZID=Europe/Berlin:20251118T163000
DTEND;TZID=Europe/Berlin:20251118T183000
DTSTAMP:20260422T123103
CREATED:20251020T105123Z
LAST-MODIFIED:20251020T105123Z
UID:10000749-1763483400-1763490600@kulturini.de
SUMMARY:Oh Tannenbaum
DESCRIPTION:Wir basteln den Weihnachtsschmuck für den Tannenbaum auf dem Fiedelerplatz. Kommt einfach dazu und seid mit uns gemeinsam kreativ. Unsere Werke werden im Dezember am Weihnachtsbaum im Wohnzimmer Döhrens zu bestaunen sein. \nMit Kathrin Lippel.
URL:https://kulturini.de/event/oh-tannenbaum-2/
LOCATION:Gemeindesaal St. Petri\, Am Lindenhofe 18\, Hannover\, 30519\, Germany
CATEGORIES:Kinderkultur
ATTACH;FMTTYPE=image/png:https://kulturini.de/wp-content/uploads/2025/10/15.png
END:VEVENT
BEGIN:VEVENT
DTSTART;TZID=Europe/Berlin:20251120T153000
DTEND;TZID=Europe/Berlin:20251120T183000
DTSTAMP:20260422T123103
CREATED:20251020T102140Z
LAST-MODIFIED:20251020T102140Z
UID:10000747-1763652600-1763663400@kulturini.de
SUMMARY:1. Bastelbasar
DESCRIPTION:An mehreren Tischen gibt es Basteleien  aus verschiedenen Materialien zum Ausprobieren. Mitmachen ist jederzeit möglich – solange der Vorrat reicht und Sitzplätze verfügbar sind. Außerdem am Stand der Kulturinitiative allerlei weihnachtliches zum Mitnehmen gegen Spende. \nMit Kathrin Lippel\, Ursula Klein und Christine Braune
URL:https://kulturini.de/event/1-bastelbasar/
LOCATION:Freizeitheim Döhren\, An der Wollebahn 1\, Hannover\, 30519\, Germany
CATEGORIES:Basteln,Kultur Gestalten
ATTACH;FMTTYPE=image/png:https://kulturini.de/wp-content/uploads/2025/10/16.png
END:VEVENT
BEGIN:VEVENT
DTSTART;TZID=Europe/Berlin:20251121T180000
DTEND;TZID=Europe/Berlin:20251121T200000
DTSTAMP:20260422T123103
CREATED:20251020T104637Z
LAST-MODIFIED:20251020T104637Z
UID:10000748-1763748000-1763755200@kulturini.de
SUMMARY:Lesung: Selene Mariani: Ellis
DESCRIPTION:Als Ellis ein kleines Kind ist\, zerbricht die Ehe ihrer Eltern. Mit ihrer Mutter zieht sie von Italien nach Deutschland. Das Leben in der neuen Umgebung ist schwer\, die Kinder in der Schule grenzen sie aus. Eines Tages kommt ein neues Mädchen in die Schule\, Grace: Zu ihr entwickelt sich eine Freundschaft\, die Ellis Halt gibt\, ihr das fehlende Gefühl von Zugehörigkeit ersetzt. Bis Grace plötzlich die Seiten wechselt. Was bedeutet es\, sich weder in dem Land\, in dem man lebt\, zuhause zu fühlen\, noch in dem Land\, in dem man geboren wurde? Was hält Ellis und Grace zusammen? Und kann die Annäherung an Grace der Frage nach der eigenen kulturellen Identität eine Antwort geben? In einer zarten\, bildreichen Sprache geht Selene Marianis Roman episodenhaft diesen Fragen nach\, Rückblenden mit assoziativen Erinnerungen weben sich dabei immer wieder in die erzählte Jetzt-Zeit ein. \nSelene Mariani\nSelene Mariani\, geb. 1994\, wuchs in Verona und Dresden auf und lebt in Hannover. Sie studierte am Literaturinstitut Hildesheim und ist als Leiterin von Schreibwerkstätten sowie im Vorstand des Vereins Autor:innenzentrum Hannover aktiv. 2021 veröffentlichte sie ihren Erzählband »Miniaturen in Blau«. »Ellis« ist ihr Romandebüt. \n\n© Selene Mariani\n  \nVielen Dank für die Unterstützung an:
URL:https://kulturini.de/event/lesung-selene-mariani-ellis/
LOCATION:Quartierstreff\, Borgentrickstr. 13\, Hannover\, 30519\, Germany
CATEGORIES:Kultur Geniessen,Lesung
ATTACH;FMTTYPE=image/jpeg:https://kulturini.de/wp-content/uploads/2025/10/9783835351523.jpg
END:VEVENT
BEGIN:VEVENT
DTSTART;TZID=Europe/Berlin:20251125T140000
DTEND;TZID=Europe/Berlin:20251125T160000
DTSTAMP:20260422T123103
CREATED:20250722T075513Z
LAST-MODIFIED:20251020T094621Z
UID:10000491-1764079200-1764086400@kulturini.de
SUMMARY:Boule am Dienstag
DESCRIPTION:Wir treffen uns in lockerer Runde zum gemeinsamen Boulespielen. Eine vorherige Anmeldung ist nicht nötig\, Sie können einfach dazu kommen. Die Boule-Gruppe trifft sich jeden Dienstag. \nMit Hubertus Süllow.
URL:https://kulturini.de/event/boule-am-dienstag/2025-11-25/
LOCATION:Hannover\, Fiedelerplatz\, Fiedelerplatz\, Hannover\, 30519\, Germany
CATEGORIES:Kultur Gestalten,Spiele
ATTACH;FMTTYPE=image/jpeg:https://kulturini.de/wp-content/uploads/2025/10/iStock-1479287040-scaled.jpg
ORGANIZER;CN="Kulturinitiative D%C3%B6hren-W%C3%BClfel-Mittelfeld":MAILTO:ki@kulturini.de
END:VEVENT
BEGIN:VEVENT
DTSTART;TZID=Europe/Berlin:20251128T180000
DTEND;TZID=Europe/Berlin:20251128T210000
DTSTAMP:20260422T123103
CREATED:20251020T110912Z
LAST-MODIFIED:20251020T110912Z
UID:10000753-1764352800-1764363600@kulturini.de
SUMMARY:Tablequiz mit Dirk Reinecke
DESCRIPTION:Die St. Petri Gemeinde und die Kulturinitiative Döhren laden zu einer neuen Runde des spannenden Table Quiz mit Dirk Reinecke ein. Kommt mit Freunden und testet euer Wissen! \nEs gibt Snacks und Getränke.
URL:https://kulturini.de/event/tablequiz-mit-dirk-reinecke/
LOCATION:Gemeindesaal St. Petri\, Am Lindenhofe 18\, Hannover\, 30519\, Germany
CATEGORIES:Kultur Geniessen,Unterhaltung
ATTACH;FMTTYPE=image/png:https://kulturini.de/wp-content/uploads/2025/10/Facebook-November-Dezember-Januar-1920-x-1080-px1.png
END:VEVENT
END:VCALENDAR