BEGIN:VCALENDAR
VERSION:2.0
PRODID:-//Kulturini - ECPv6.15.20//NONSGML v1.0//EN
CALSCALE:GREGORIAN
METHOD:PUBLISH
X-WR-CALNAME:Kulturini
X-ORIGINAL-URL:https://kulturini.de
X-WR-CALDESC:Veranstaltungen für Kulturini
REFRESH-INTERVAL;VALUE=DURATION:PT1H
X-Robots-Tag:noindex
X-PUBLISHED-TTL:PT1H
BEGIN:VTIMEZONE
TZID:Europe/Berlin
BEGIN:DAYLIGHT
TZOFFSETFROM:+0100
TZOFFSETTO:+0200
TZNAME:CEST
DTSTART:20240331T010000
END:DAYLIGHT
BEGIN:STANDARD
TZOFFSETFROM:+0200
TZOFFSETTO:+0100
TZNAME:CET
DTSTART:20241027T010000
END:STANDARD
BEGIN:DAYLIGHT
TZOFFSETFROM:+0100
TZOFFSETTO:+0200
TZNAME:CEST
DTSTART:20250330T010000
END:DAYLIGHT
BEGIN:STANDARD
TZOFFSETFROM:+0200
TZOFFSETTO:+0100
TZNAME:CET
DTSTART:20251026T010000
END:STANDARD
BEGIN:DAYLIGHT
TZOFFSETFROM:+0100
TZOFFSETTO:+0200
TZNAME:CEST
DTSTART:20260329T010000
END:DAYLIGHT
BEGIN:STANDARD
TZOFFSETFROM:+0200
TZOFFSETTO:+0100
TZNAME:CET
DTSTART:20261025T010000
END:STANDARD
END:VTIMEZONE
BEGIN:VEVENT
DTSTART;TZID=Europe/Berlin:20251006T180000
DTEND;TZID=Europe/Berlin:20251006T200000
DTSTAMP:20260422T140240
CREATED:20250722T083036Z
LAST-MODIFIED:20250722T083126Z
UID:10000146-1759773600-1759780800@kulturini.de
SUMMARY:Einführung und Ausstellungsbesuch: Niki. Kusama. Murakami. Love you for infinity
DESCRIPTION:Die französische Künstlerin Niki de Saint Phalle ist in Hannover durch ihre fröhlichen Nanas sowie die Grotte in Herrenhausen bekannt\, Das Sprengel Museum präsentiert ihre Arbeiten gemeinsam mit denen der japanischen Künstler Yayoi Kusama und Takashi Murakami – gemeinsam ist ihnen die Grenzüberschreitung von Kunst\, Popkultur und Kommerz.  \nAm 6.10. führt Kunsthistoriker Dr. Christian Vogel in die Ausstellung ein. Am Freitag\, dem 10.10. um 15 Uhr erfolgt der gemeinsame Ausstellungsbesuch.
URL:https://kulturini.de/event/einfuehrung-und-ausstellungsbesuch-niki-kusama-murakami-love-you-for-infinity/
LOCATION:Freizeitheim Döhren\, An der Wollebahn 1\, Hannover\, 30519\, Germany
CATEGORIES:Kultur Geniessen,Museumsbesuch
ATTACH;FMTTYPE=image/png:https://kulturini.de/wp-content/uploads/2016/03/12.png
ORGANIZER;CN="Kulturinitiative D%C3%B6hren-W%C3%BClfel-Mittelfeld":MAILTO:ki@kulturini.de
END:VEVENT
BEGIN:VEVENT
DTSTART;TZID=Europe/Berlin:20251007T140000
DTEND;TZID=Europe/Berlin:20251007T160000
DTSTAMP:20260422T140241
CREATED:20250722T075513Z
LAST-MODIFIED:20251020T094621Z
UID:10000484-1759845600-1759852800@kulturini.de
SUMMARY:Boule am Dienstag
DESCRIPTION:Wir treffen uns in lockerer Runde zum gemeinsamen Boulespielen. Eine vorherige Anmeldung ist nicht nötig\, Sie können einfach dazu kommen. Die Boule-Gruppe trifft sich jeden Dienstag. \nMit Hubertus Süllow.
URL:https://kulturini.de/event/boule-am-dienstag/2025-10-07/
LOCATION:Hannover\, Fiedelerplatz\, Fiedelerplatz\, Hannover\, 30519\, Germany
CATEGORIES:Kultur Gestalten,Spiele
ATTACH;FMTTYPE=image/jpeg:https://kulturini.de/wp-content/uploads/2025/10/iStock-1479287040-scaled.jpg
ORGANIZER;CN="Kulturinitiative D%C3%B6hren-W%C3%BClfel-Mittelfeld":MAILTO:ki@kulturini.de
END:VEVENT
BEGIN:VEVENT
DTSTART;TZID=Europe/Berlin:20251008T180000
DTEND;TZID=Europe/Berlin:20251008T193000
DTSTAMP:20260422T140241
CREATED:20250520T072555Z
LAST-MODIFIED:20251020T105709Z
UID:10000156-1759946400-1759951800@kulturini.de
SUMMARY:Klangmalerei – musikalische Improvisation
DESCRIPTION:Bei der „dirigierten Improvisation“ spielen wir keine Noten\, sondern erschaffen gemeinsam Sounds und Melodien\, die der Dirigent zu einem Musikstück formt. Jeder spielt\, was er kann und will. Neue Leute sind herzlich willkommen! \nMit Thomas Siebert (Oboist und Klarinettist). \n  \n 
URL:https://kulturini.de/event/klangmalerei-musikalische-improvisation/2025-10-08/
LOCATION:Quartierstreff\, Borgentrickstr. 13\, Hannover\, 30519\, Germany
CATEGORIES:Kultur Gestalten,Musik
ATTACH;FMTTYPE=image/png:https://kulturini.de/wp-content/uploads/2025/10/14.png
ORGANIZER;CN="Kulturinitiative D%C3%B6hren-W%C3%BClfel-Mittelfeld":MAILTO:ki@kulturini.de
END:VEVENT
BEGIN:VEVENT
DTSTART;TZID=Europe/Berlin:20251008T200000
DTEND;TZID=Europe/Berlin:20251008T220000
DTSTAMP:20260422T140241
CREATED:20250722T083754Z
LAST-MODIFIED:20250930T074428Z
UID:10000147-1759953600-1759960800@kulturini.de
SUMMARY:Konzert: „vokalensemble klangreich“
DESCRIPTION:Das Vocalensemble Klangreich\, 2011 in Hannover gegründet\, besteht aus rund 30 erfahrenen Sängerinnen und Sängern. Sie präsentieren ein vielseitiges A-cappella-Repertoire von der Renaissance bis zur Gegenwart\, das geistliche und weltliche Musik umfasst. \nAnmeldung erwünscht! \nEintritt frei\, Spenden erbeten
URL:https://kulturini.de/event/konzert-vokalensemble-klangreich/
LOCATION:Auferstehungskirche\, Helmstedter Str. 59\, Hannover\, 30519
CATEGORIES:Konzert,Kultur Geniessen
ATTACH;FMTTYPE=image/png:https://kulturini.de/wp-content/uploads/2025/07/7.png
END:VEVENT
BEGIN:VEVENT
DTSTART;TZID=Europe/Berlin:20251010T180000
DTEND;TZID=Europe/Berlin:20251010T180000
DTSTAMP:20260422T140241
CREATED:20250722T084150Z
LAST-MODIFIED:20250930T074540Z
UID:10000148-1760119200-1760119200@kulturini.de
SUMMARY:Lesereihe Hannover Pur. Jehona Kicaj: ë
DESCRIPTION:Dieses stille und zugleich sprachmächtige Debüt erzählt vom Verlust der Heimat durch Krieg\, von Schmerz und Sprachverlust. Der Titel „ë“ bezieht sich auf einen wichtigen\, oft unausgesprochenen Buchstaben im Albanischen. Als Kind von Geflüchteten aus dem Kosovo wächst die Erzählerin in Deutschland auf und sucht nach Sprache und Stimme\, stößt aber immer wieder auf Unverständnis und Ignoranz. Sie erlebt den Kosovokrieg aus sicherer Entfernung in Deutschland\, doch Krieg und Tod sind auch in der Diaspora präsent. \nDer Roman erinnert an das Leid von Familien\, die ihre Heimat verloren haben und deren Angehörige im Krieg verschollen sind. Jehona Kicaj bringt diese unverarbeitete Vergangenheit\, die tief in den Betroffenen sitzt\, eindringlich zur Sprache. \nIm Anschluss der Lesung gibt es ein moderiertes Gespräch mit der Autorin.  \nFür ihr Werk erhält sie den Literaturpreis HANNA 2025 der Landeshauptstadt Hannover am 4. Dezember 2025. Zudem steht sie mit ihrem Debütroman „ë“ auf der Shortlist für den Deutschen Buchpreis 2025\, der am 13. Oktober bekannt gegeben wird. \nAnmeldung erwünscht. \nEintritt: 10€ regulär | 8€ MG KUI | 5€ HAP
URL:https://kulturini.de/event/lesereihe-hannover-pur-jehona-kicaj-e/
LOCATION:Gemeindesaal St. Petri\, Am Lindenhofe 18\, Hannover\, 30519\, Germany
CATEGORIES:Kultur Geniessen,Lesung
ATTACH;FMTTYPE=image/jpeg:https://kulturini.de/wp-content/uploads/2025/07/25424.jpg
ORGANIZER;CN="Kulturinitiative D%C3%B6hren-W%C3%BClfel-Mittelfeld":MAILTO:ki@kulturini.de
END:VEVENT
BEGIN:VEVENT
DTSTART;TZID=Europe/Berlin:20251014T140000
DTEND;TZID=Europe/Berlin:20251014T160000
DTSTAMP:20260422T140241
CREATED:20250722T075513Z
LAST-MODIFIED:20251020T094621Z
UID:10000485-1760450400-1760457600@kulturini.de
SUMMARY:Boule am Dienstag
DESCRIPTION:Wir treffen uns in lockerer Runde zum gemeinsamen Boulespielen. Eine vorherige Anmeldung ist nicht nötig\, Sie können einfach dazu kommen. Die Boule-Gruppe trifft sich jeden Dienstag. \nMit Hubertus Süllow.
URL:https://kulturini.de/event/boule-am-dienstag/2025-10-14/
LOCATION:Hannover\, Fiedelerplatz\, Fiedelerplatz\, Hannover\, 30519\, Germany
CATEGORIES:Kultur Gestalten,Spiele
ATTACH;FMTTYPE=image/jpeg:https://kulturini.de/wp-content/uploads/2025/10/iStock-1479287040-scaled.jpg
ORGANIZER;CN="Kulturinitiative D%C3%B6hren-W%C3%BClfel-Mittelfeld":MAILTO:ki@kulturini.de
END:VEVENT
BEGIN:VEVENT
DTSTART;TZID=Europe/Berlin:20251021T140000
DTEND;TZID=Europe/Berlin:20251021T160000
DTSTAMP:20260422T140241
CREATED:20250722T075513Z
LAST-MODIFIED:20251020T094621Z
UID:10000486-1761055200-1761062400@kulturini.de
SUMMARY:Boule am Dienstag
DESCRIPTION:Wir treffen uns in lockerer Runde zum gemeinsamen Boulespielen. Eine vorherige Anmeldung ist nicht nötig\, Sie können einfach dazu kommen. Die Boule-Gruppe trifft sich jeden Dienstag. \nMit Hubertus Süllow.
URL:https://kulturini.de/event/boule-am-dienstag/2025-10-21/
LOCATION:Hannover\, Fiedelerplatz\, Fiedelerplatz\, Hannover\, 30519\, Germany
CATEGORIES:Kultur Gestalten,Spiele
ATTACH;FMTTYPE=image/jpeg:https://kulturini.de/wp-content/uploads/2025/10/iStock-1479287040-scaled.jpg
ORGANIZER;CN="Kulturinitiative D%C3%B6hren-W%C3%BClfel-Mittelfeld":MAILTO:ki@kulturini.de
END:VEVENT
BEGIN:VEVENT
DTSTART;TZID=Europe/Berlin:20251024T160000
DTEND;TZID=Europe/Berlin:20251024T190000
DTSTAMP:20260422T140241
CREATED:20250722T084547Z
LAST-MODIFIED:20250930T074337Z
UID:10000149-1761321600-1761332400@kulturini.de
SUMMARY:Oper verstehen & gemeinsam erleben: Don Giovanni
DESCRIPTION:Don Giovanni ist der ultimative Verführer – charismatisch und rücksichtslos. Sein Leben gleicht einem rauschenden Fest aus Affären und Beziehungen\, in dem er alle Grenzen auskostet. Doch dann überschreitet er die letzte Grenze: Er tötet den Komtur in einem Duell\, und sein bisher von Frauennamen gefülltes Leben wird von einer Blutspur überschattet. \nBastian Krafts Inszenierung beleuchtet Don Giovannis inneren Kampf\, während er\, vom Tod gezeichnet\, sich an das Leben klammert und mit den drängenden Erinnerungen und Stimmen seiner Vergangenheit konfrontiert wird. \nOpernkennerin Christiane Held erzählt Interessantes und Persönliches über den Komponisten Wolfgang Amadeus Mozart und so viel über die Oper\, dass wir gut vorbereitet am 25.10. die Vorstellung im Opernhaus besuchen. \nKosten: 40€ regulär | 20€ HAP \nAnmeldung bis zum 21.10. erforderlich.
URL:https://kulturini.de/event/oper-verstehen-gemeinsam-erleben-don-giovanni/
CATEGORIES:Kultur Geniessen,Opernbesuch
ATTACH;FMTTYPE=image/png:https://kulturini.de/wp-content/uploads/2025/07/8.png
ORGANIZER;CN="Kulturinitiative D%C3%B6hren-W%C3%BClfel-Mittelfeld":MAILTO:ki@kulturini.de
END:VEVENT
BEGIN:VEVENT
DTSTART;TZID=Europe/Berlin:20251028T140000
DTEND;TZID=Europe/Berlin:20251028T160000
DTSTAMP:20260422T140241
CREATED:20250722T075513Z
LAST-MODIFIED:20251020T094621Z
UID:10000487-1761660000-1761667200@kulturini.de
SUMMARY:Boule am Dienstag
DESCRIPTION:Wir treffen uns in lockerer Runde zum gemeinsamen Boulespielen. Eine vorherige Anmeldung ist nicht nötig\, Sie können einfach dazu kommen. Die Boule-Gruppe trifft sich jeden Dienstag. \nMit Hubertus Süllow.
URL:https://kulturini.de/event/boule-am-dienstag/2025-10-28/
LOCATION:Hannover\, Fiedelerplatz\, Fiedelerplatz\, Hannover\, 30519\, Germany
CATEGORIES:Kultur Gestalten,Spiele
ATTACH;FMTTYPE=image/jpeg:https://kulturini.de/wp-content/uploads/2025/10/iStock-1479287040-scaled.jpg
ORGANIZER;CN="Kulturinitiative D%C3%B6hren-W%C3%BClfel-Mittelfeld":MAILTO:ki@kulturini.de
END:VEVENT
END:VCALENDAR