BEGIN:VCALENDAR
VERSION:2.0
PRODID:-//Kulturini - ECPv6.15.20//NONSGML v1.0//EN
CALSCALE:GREGORIAN
METHOD:PUBLISH
X-WR-CALNAME:Kulturini
X-ORIGINAL-URL:https://kulturini.de
X-WR-CALDESC:Veranstaltungen für Kulturini
REFRESH-INTERVAL;VALUE=DURATION:PT1H
X-Robots-Tag:noindex
X-PUBLISHED-TTL:PT1H
BEGIN:VTIMEZONE
TZID:Europe/Berlin
BEGIN:DAYLIGHT
TZOFFSETFROM:+0100
TZOFFSETTO:+0200
TZNAME:CEST
DTSTART:20240331T010000
END:DAYLIGHT
BEGIN:STANDARD
TZOFFSETFROM:+0200
TZOFFSETTO:+0100
TZNAME:CET
DTSTART:20241027T010000
END:STANDARD
BEGIN:DAYLIGHT
TZOFFSETFROM:+0100
TZOFFSETTO:+0200
TZNAME:CEST
DTSTART:20250330T010000
END:DAYLIGHT
BEGIN:STANDARD
TZOFFSETFROM:+0200
TZOFFSETTO:+0100
TZNAME:CET
DTSTART:20251026T010000
END:STANDARD
BEGIN:DAYLIGHT
TZOFFSETFROM:+0100
TZOFFSETTO:+0200
TZNAME:CEST
DTSTART:20260329T010000
END:DAYLIGHT
BEGIN:STANDARD
TZOFFSETFROM:+0200
TZOFFSETTO:+0100
TZNAME:CET
DTSTART:20261025T010000
END:STANDARD
END:VTIMEZONE
BEGIN:VEVENT
DTSTART;TZID=Europe/Berlin:20250902T140000
DTEND;TZID=Europe/Berlin:20250902T160000
DTSTAMP:20260424T122403
CREATED:20250722T075513Z
LAST-MODIFIED:20251020T094621Z
UID:10000151-1756821600-1756828800@kulturini.de
SUMMARY:Boule am Dienstag
DESCRIPTION:Wir treffen uns in lockerer Runde zum gemeinsamen Boulespielen. Eine vorherige Anmeldung ist nicht nötig\, Sie können einfach dazu kommen. Die Boule-Gruppe trifft sich jeden Dienstag. \nMit Hubertus Süllow.
URL:https://kulturini.de/event/boule-am-dienstag/2025-09-02/
LOCATION:Hannover\, Fiedelerplatz\, Fiedelerplatz\, Hannover\, 30519\, Germany
CATEGORIES:Kultur Gestalten,Spiele
ATTACH;FMTTYPE=image/jpeg:https://kulturini.de/wp-content/uploads/2025/10/iStock-1479287040-scaled.jpg
ORGANIZER;CN="Kulturinitiative D%C3%B6hren-W%C3%BClfel-Mittelfeld":MAILTO:ki@kulturini.de
END:VEVENT
BEGIN:VEVENT
DTSTART;TZID=Europe/Berlin:20250906T130000
DTEND;TZID=Europe/Berlin:20250907T200000
DTSTAMP:20260424T122403
CREATED:20250722T080409Z
LAST-MODIFIED:20250722T080612Z
UID:10000142-1757163600-1757275200@kulturini.de
SUMMARY:KulturLustWandeln 2025
DESCRIPTION:Zum 20. Mal organisiert die Kulturinitiative Döhren-Wülfel-Mittelfeld e.V. (KUI) das beliebte KulturLustWandeln. Bürger:innen\, die künstlerisch interessiert und tätig sind\, öffnen ihre Häuser\, Gärten und Höfe und bieten an beiden Tagen Lesungen\, musikalische Darbietungen\, bildende Kunst und Kunsthandwerk an.  \nAm Samstag\, dem 6.9.\, wird die Veranstaltung auf dem Fiedelerplatz feierlich eröffnet. Zum Abschluss findet am Sonntag\, dem 7.9.\, das beliebte Kulturpicknick statt\, bei dem alle ihre Speisen und Getränke mitbringen und bei Live-Musik von BLACK-X-H gemeinsam genießen. \n Programm-Flyer liegen im Freizeitheim Döhren\, im Quartierstreff\, im Antiquariat sowie in verschiedenen Einrichtungen im Stadtteil aus oder sind über die Website der Kulturinitiative digital einsehbar. \n6.9. 13:00: Eröffnung mit Musik auf dem Fiedelerplatz  \n7.9. 17:00: Kulturpicknick mit Live-Musik von BLACK-X-H
URL:https://kulturini.de/event/kulturlustwandeln-2025/
LOCATION:Hannover\, Fiedelerplatz\, Fiedelerplatz\, Hannover\, 30519\, Germany
CATEGORIES:Kulturlust Wandeln
ATTACH;FMTTYPE=image/png:https://kulturini.de/wp-content/uploads/2016/03/4.png
END:VEVENT
BEGIN:VEVENT
DTSTART;TZID=Europe/Berlin:20250909T140000
DTEND;TZID=Europe/Berlin:20250909T160000
DTSTAMP:20260424T122403
CREATED:20250722T075513Z
LAST-MODIFIED:20251020T094621Z
UID:10000480-1757426400-1757433600@kulturini.de
SUMMARY:Boule am Dienstag
DESCRIPTION:Wir treffen uns in lockerer Runde zum gemeinsamen Boulespielen. Eine vorherige Anmeldung ist nicht nötig\, Sie können einfach dazu kommen. Die Boule-Gruppe trifft sich jeden Dienstag. \nMit Hubertus Süllow.
URL:https://kulturini.de/event/boule-am-dienstag/2025-09-09/
LOCATION:Hannover\, Fiedelerplatz\, Fiedelerplatz\, Hannover\, 30519\, Germany
CATEGORIES:Kultur Gestalten,Spiele
ATTACH;FMTTYPE=image/jpeg:https://kulturini.de/wp-content/uploads/2025/10/iStock-1479287040-scaled.jpg
ORGANIZER;CN="Kulturinitiative D%C3%B6hren-W%C3%BClfel-Mittelfeld":MAILTO:ki@kulturini.de
END:VEVENT
BEGIN:VEVENT
DTSTART;TZID=Europe/Berlin:20250910T180000
DTEND;TZID=Europe/Berlin:20250910T193000
DTSTAMP:20260424T122403
CREATED:20250520T072555Z
LAST-MODIFIED:20251020T105709Z
UID:10000155-1757527200-1757532600@kulturini.de
SUMMARY:Klangmalerei – musikalische Improvisation
DESCRIPTION:Bei der „dirigierten Improvisation“ spielen wir keine Noten\, sondern erschaffen gemeinsam Sounds und Melodien\, die der Dirigent zu einem Musikstück formt. Jeder spielt\, was er kann und will. Neue Leute sind herzlich willkommen! \nMit Thomas Siebert (Oboist und Klarinettist). \n  \n 
URL:https://kulturini.de/event/klangmalerei-musikalische-improvisation/2025-09-10/
LOCATION:Quartierstreff\, Borgentrickstr. 13\, Hannover\, 30519\, Germany
CATEGORIES:Kultur Gestalten,Musik
ATTACH;FMTTYPE=image/png:https://kulturini.de/wp-content/uploads/2025/10/14.png
ORGANIZER;CN="Kulturinitiative D%C3%B6hren-W%C3%BClfel-Mittelfeld":MAILTO:ki@kulturini.de
END:VEVENT
BEGIN:VEVENT
DTSTART;TZID=Europe/Berlin:20250916T140000
DTEND;TZID=Europe/Berlin:20250916T160000
DTSTAMP:20260424T122403
CREATED:20250722T075513Z
LAST-MODIFIED:20251020T094621Z
UID:10000481-1758031200-1758038400@kulturini.de
SUMMARY:Boule am Dienstag
DESCRIPTION:Wir treffen uns in lockerer Runde zum gemeinsamen Boulespielen. Eine vorherige Anmeldung ist nicht nötig\, Sie können einfach dazu kommen. Die Boule-Gruppe trifft sich jeden Dienstag. \nMit Hubertus Süllow.
URL:https://kulturini.de/event/boule-am-dienstag/2025-09-16/
LOCATION:Hannover\, Fiedelerplatz\, Fiedelerplatz\, Hannover\, 30519\, Germany
CATEGORIES:Kultur Gestalten,Spiele
ATTACH;FMTTYPE=image/jpeg:https://kulturini.de/wp-content/uploads/2025/10/iStock-1479287040-scaled.jpg
ORGANIZER;CN="Kulturinitiative D%C3%B6hren-W%C3%BClfel-Mittelfeld":MAILTO:ki@kulturini.de
END:VEVENT
BEGIN:VEVENT
DTSTART;TZID=Europe/Berlin:20250919T160000
DTEND;TZID=Europe/Berlin:20250919T190000
DTSTAMP:20260424T122403
CREATED:20250722T081657Z
LAST-MODIFIED:20250722T081829Z
UID:10000143-1758297600-1758308400@kulturini.de
SUMMARY:Operneinführung: Lohengrin
DESCRIPTION:Richard Wagners Oper Lohengrin erzählt die Geschichte einer geheimnisvollen Gestalt\, die für die des Brudermordes unschuldig angeklagte Elsa kämpft und die politische Ordnung in Brabant wiederherstellt. Lohengrins Erscheinen ist jedoch nur temporär: Sobald die Wahrheit ans Licht kommt und ein Geständnis abgelegt wird\, verschwindet er wieder\, was auch das Ende seiner Liebe zu Elsa bedeutet. \nKnapp 40 Jahre nach der letzten bekannten Aufführung wird die Staatsoper Hannover eine neue Produktion von Lohengrin präsentieren. Regisseur Richard Brunel verbindet in seiner Inszenierung die historische Figur Heinrich I. mit der Legende um den Heiligen Gral und Wagners musikalischen Kontraste von martialischen Chören und ätherischen Klängen. Dabei legt er einen Fokus auf die Verbindung von Macht und Gerechtigkeit und nutzt tiefenpsychologisch inspirierte Bilder.  \nOpernkennerin Christiane Held erzählt Interessantes und Persönliches über den Komponisten Richard Wagner und so viel über die Oper\, dass wir gut vorbereitet am 21.9. die Vorstellung im Opernhaus besuchen. \nKosten: 40€ regulär | 20€ HAP \nAnmeldung bis zum 15.9. erforderlich
URL:https://kulturini.de/event/operneinfuehrung-lohengrin/
LOCATION:Freizeitheim Döhren\, An der Wollebahn 1\, Hannover\, 30519\, Germany
CATEGORIES:Kultur Geniessen,Opernbesuch
ATTACH;FMTTYPE=image/png:https://kulturini.de/wp-content/uploads/2025/07/6.png
ORGANIZER;CN="Kulturinitiative D%C3%B6hren-W%C3%BClfel-Mittelfeld":MAILTO:ki@kulturini.de
END:VEVENT
BEGIN:VEVENT
DTSTART;TZID=Europe/Berlin:20250923T140000
DTEND;TZID=Europe/Berlin:20250923T160000
DTSTAMP:20260424T122403
CREATED:20250722T075513Z
LAST-MODIFIED:20251020T094621Z
UID:10000482-1758636000-1758643200@kulturini.de
SUMMARY:Boule am Dienstag
DESCRIPTION:Wir treffen uns in lockerer Runde zum gemeinsamen Boulespielen. Eine vorherige Anmeldung ist nicht nötig\, Sie können einfach dazu kommen. Die Boule-Gruppe trifft sich jeden Dienstag. \nMit Hubertus Süllow.
URL:https://kulturini.de/event/boule-am-dienstag/2025-09-23/
LOCATION:Hannover\, Fiedelerplatz\, Fiedelerplatz\, Hannover\, 30519\, Germany
CATEGORIES:Kultur Gestalten,Spiele
ATTACH;FMTTYPE=image/jpeg:https://kulturini.de/wp-content/uploads/2025/10/iStock-1479287040-scaled.jpg
ORGANIZER;CN="Kulturinitiative D%C3%B6hren-W%C3%BClfel-Mittelfeld":MAILTO:ki@kulturini.de
END:VEVENT
BEGIN:VEVENT
DTSTART;TZID=Europe/Berlin:20250924T090000
DTEND;TZID=Europe/Berlin:20250924T170000
DTSTAMP:20260424T122403
CREATED:20250722T082241Z
LAST-MODIFIED:20250722T084749Z
UID:10000144-1758704400-1758733200@kulturini.de
SUMMARY:Willkommen im Kloster Ebstorf
DESCRIPTION:Das um 1160 gegründete Kloster Ebstorf gehört zu den sechs „Lüneburger Klöstern“\, die sich seit dem Mittelalter bis heute erhalten haben. Die Klostergebäude im Stil der norddeutschen Backsteingotik und die berühmte mittelalterliche Erbstorfer Weltkarte laden ein\, auf Entdeckungsreise zu gehen. \nWir genießen eine exklusive Führung und stärken uns im Anschluss im Klostercafé. \n  \nAnmeldung bis 21.9. erforderlich. \nFahrtkosten: Deutschlandticket oder Niedersachsenticket (Umlage) \nTreffpunkt 9 Uhr\, Haltestelle Peiner Straße\, stadteinwärts
URL:https://kulturini.de/event/willkommen-im-kloster-ebstorf/
LOCATION:Haltestelle Peiner Straße\, Hildesheimer Straße 265\, Hannover\, 30519
CATEGORIES:Ausflüge,Kultur Geniessen
ATTACH;FMTTYPE=image/png:https://kulturini.de/wp-content/uploads/2016/03/11.png
ORGANIZER;CN="Kulturinitiative D%C3%B6hren-W%C3%BClfel-Mittelfeld":MAILTO:ki@kulturini.de
END:VEVENT
BEGIN:VEVENT
DTSTART;TZID=Europe/Berlin:20250927T113000
DTEND;TZID=Europe/Berlin:20250927T170000
DTSTAMP:20260424T122403
CREATED:20250722T082723Z
LAST-MODIFIED:20250722T082817Z
UID:10000145-1758972600-1758992400@kulturini.de
SUMMARY:Besuch des Walberges Empelde
DESCRIPTION:Der Waldberg Empelde vor Hannovers Toren ist ein renaturierter Kaliberg\, der seit über 30 Jahren begrünt wird. Heute ist er ein Wald mit vielfältiger Flora und Fauna und ein Lebensraum für Tiere. Ebenso gibt es eine Spielstätte für Musik\, Theater\, Literatur und Umweltaktionen im Freien. Wir lernen wissenswertes über die Geschichte und die Entwicklung des Kaliberges. Anschließend kehren wir in die „Bergmannsschenke“ ein und klönen ein wenig.   \nAnmeldung erforderlich \nEintritt frei – Spenden erwünscht  – zzgl. Fahrkosten
URL:https://kulturini.de/event/besuch-des-walberges-empelde/
LOCATION:Waldberg Empelde\, Heinrich-Heine-Str. 21\, Ronnenberg
CATEGORIES:Ausflüge,Kultur Geniessen
ATTACH;FMTTYPE=image/png:https://kulturini.de/wp-content/uploads/2025/07/10.png
END:VEVENT
BEGIN:VEVENT
DTSTART;TZID=Europe/Berlin:20250930T140000
DTEND;TZID=Europe/Berlin:20250930T160000
DTSTAMP:20260424T122403
CREATED:20250722T075513Z
LAST-MODIFIED:20251020T094621Z
UID:10000483-1759240800-1759248000@kulturini.de
SUMMARY:Boule am Dienstag
DESCRIPTION:Wir treffen uns in lockerer Runde zum gemeinsamen Boulespielen. Eine vorherige Anmeldung ist nicht nötig\, Sie können einfach dazu kommen. Die Boule-Gruppe trifft sich jeden Dienstag. \nMit Hubertus Süllow.
URL:https://kulturini.de/event/boule-am-dienstag/2025-09-30/
LOCATION:Hannover\, Fiedelerplatz\, Fiedelerplatz\, Hannover\, 30519\, Germany
CATEGORIES:Kultur Gestalten,Spiele
ATTACH;FMTTYPE=image/jpeg:https://kulturini.de/wp-content/uploads/2025/10/iStock-1479287040-scaled.jpg
ORGANIZER;CN="Kulturinitiative D%C3%B6hren-W%C3%BClfel-Mittelfeld":MAILTO:ki@kulturini.de
END:VEVENT
END:VCALENDAR