BEGIN:VCALENDAR
VERSION:2.0
PRODID:-//Kulturini - ECPv6.15.20//NONSGML v1.0//EN
CALSCALE:GREGORIAN
METHOD:PUBLISH
X-ORIGINAL-URL:https://kulturini.de
X-WR-CALDESC:Veranstaltungen für Kulturini
REFRESH-INTERVAL;VALUE=DURATION:PT1H
X-Robots-Tag:noindex
X-PUBLISHED-TTL:PT1H
BEGIN:VTIMEZONE
TZID:Europe/Berlin
BEGIN:DAYLIGHT
TZOFFSETFROM:+0100
TZOFFSETTO:+0200
TZNAME:CEST
DTSTART:20250330T010000
END:DAYLIGHT
BEGIN:STANDARD
TZOFFSETFROM:+0200
TZOFFSETTO:+0100
TZNAME:CET
DTSTART:20251026T010000
END:STANDARD
BEGIN:DAYLIGHT
TZOFFSETFROM:+0100
TZOFFSETTO:+0200
TZNAME:CEST
DTSTART:20260329T010000
END:DAYLIGHT
BEGIN:STANDARD
TZOFFSETFROM:+0200
TZOFFSETTO:+0100
TZNAME:CET
DTSTART:20261025T010000
END:STANDARD
BEGIN:DAYLIGHT
TZOFFSETFROM:+0100
TZOFFSETTO:+0200
TZNAME:CEST
DTSTART:20270328T010000
END:DAYLIGHT
BEGIN:STANDARD
TZOFFSETFROM:+0200
TZOFFSETTO:+0100
TZNAME:CET
DTSTART:20271031T010000
END:STANDARD
BEGIN:DAYLIGHT
TZOFFSETFROM:+0100
TZOFFSETTO:+0200
TZNAME:CEST
DTSTART:20280326T010000
END:DAYLIGHT
BEGIN:STANDARD
TZOFFSETFROM:+0200
TZOFFSETTO:+0100
TZNAME:CET
DTSTART:20281029T010000
END:STANDARD
END:VTIMEZONE
BEGIN:VEVENT
DTSTART;TZID=Europe/Berlin:20261013T140000
DTEND;TZID=Europe/Berlin:20261013T160000
DTSTAMP:20260424T122635
CREATED:20250722T075513Z
LAST-MODIFIED:20251020T094621Z
UID:10000537-1791900000-1791907200@kulturini.de
SUMMARY:Boule am Dienstag
DESCRIPTION:Wir treffen uns in lockerer Runde zum gemeinsamen Boulespielen. Eine vorherige Anmeldung ist nicht nötig\, Sie können einfach dazu kommen. Die Boule-Gruppe trifft sich jeden Dienstag. \nMit Hubertus Süllow.
URL:https://kulturini.de/event/boule-am-dienstag/2026-10-13/
LOCATION:Hannover\, Fiedelerplatz\, Fiedelerplatz\, Hannover\, 30519\, Germany
CATEGORIES:Kultur Gestalten,Spiele
ATTACH;FMTTYPE=image/jpeg:https://kulturini.de/wp-content/uploads/2025/10/iStock-1479287040-scaled.jpg
ORGANIZER;CN="Kulturinitiative D%C3%B6hren-W%C3%BClfel-Mittelfeld":MAILTO:ki@kulturini.de
END:VEVENT
BEGIN:VEVENT
DTSTART;TZID=Europe/Berlin:20261014T180000
DTEND;TZID=Europe/Berlin:20261014T193000
DTSTAMP:20260424T122635
CREATED:20250520T072555Z
LAST-MODIFIED:20251020T105709Z
UID:10000168-1792000800-1792006200@kulturini.de
SUMMARY:Klangmalerei – musikalische Improvisation
DESCRIPTION:Bei der „dirigierten Improvisation“ spielen wir keine Noten\, sondern erschaffen gemeinsam Sounds und Melodien\, die der Dirigent zu einem Musikstück formt. Jeder spielt\, was er kann und will. Neue Leute sind herzlich willkommen! \nMit Thomas Siebert (Oboist und Klarinettist). \n  \n 
URL:https://kulturini.de/event/klangmalerei-musikalische-improvisation/2026-10-14/
LOCATION:Quartierstreff\, Borgentrickstr. 13\, Hannover\, 30519\, Germany
CATEGORIES:Kultur Gestalten,Musik
ATTACH;FMTTYPE=image/png:https://kulturini.de/wp-content/uploads/2025/10/14.png
ORGANIZER;CN="Kulturinitiative D%C3%B6hren-W%C3%BClfel-Mittelfeld":MAILTO:ki@kulturini.de
END:VEVENT
BEGIN:VEVENT
DTSTART;TZID=Europe/Berlin:20261020T140000
DTEND;TZID=Europe/Berlin:20261020T160000
DTSTAMP:20260424T122635
CREATED:20250722T075513Z
LAST-MODIFIED:20251020T094621Z
UID:10000538-1792504800-1792512000@kulturini.de
SUMMARY:Boule am Dienstag
DESCRIPTION:Wir treffen uns in lockerer Runde zum gemeinsamen Boulespielen. Eine vorherige Anmeldung ist nicht nötig\, Sie können einfach dazu kommen. Die Boule-Gruppe trifft sich jeden Dienstag. \nMit Hubertus Süllow.
URL:https://kulturini.de/event/boule-am-dienstag/2026-10-20/
LOCATION:Hannover\, Fiedelerplatz\, Fiedelerplatz\, Hannover\, 30519\, Germany
CATEGORIES:Kultur Gestalten,Spiele
ATTACH;FMTTYPE=image/jpeg:https://kulturini.de/wp-content/uploads/2025/10/iStock-1479287040-scaled.jpg
ORGANIZER;CN="Kulturinitiative D%C3%B6hren-W%C3%BClfel-Mittelfeld":MAILTO:ki@kulturini.de
END:VEVENT
BEGIN:VEVENT
DTSTART;TZID=Europe/Berlin:20261027T140000
DTEND;TZID=Europe/Berlin:20261027T160000
DTSTAMP:20260424T122635
CREATED:20250722T075513Z
LAST-MODIFIED:20251020T094621Z
UID:10000539-1793109600-1793116800@kulturini.de
SUMMARY:Boule am Dienstag
DESCRIPTION:Wir treffen uns in lockerer Runde zum gemeinsamen Boulespielen. Eine vorherige Anmeldung ist nicht nötig\, Sie können einfach dazu kommen. Die Boule-Gruppe trifft sich jeden Dienstag. \nMit Hubertus Süllow.
URL:https://kulturini.de/event/boule-am-dienstag/2026-10-27/
LOCATION:Hannover\, Fiedelerplatz\, Fiedelerplatz\, Hannover\, 30519\, Germany
CATEGORIES:Kultur Gestalten,Spiele
ATTACH;FMTTYPE=image/jpeg:https://kulturini.de/wp-content/uploads/2025/10/iStock-1479287040-scaled.jpg
ORGANIZER;CN="Kulturinitiative D%C3%B6hren-W%C3%BClfel-Mittelfeld":MAILTO:ki@kulturini.de
END:VEVENT
BEGIN:VEVENT
DTSTART;TZID=Europe/Berlin:20261103T140000
DTEND;TZID=Europe/Berlin:20261103T160000
DTSTAMP:20260424T122635
CREATED:20250722T075513Z
LAST-MODIFIED:20251020T094621Z
UID:10000540-1793714400-1793721600@kulturini.de
SUMMARY:Boule am Dienstag
DESCRIPTION:Wir treffen uns in lockerer Runde zum gemeinsamen Boulespielen. Eine vorherige Anmeldung ist nicht nötig\, Sie können einfach dazu kommen. Die Boule-Gruppe trifft sich jeden Dienstag. \nMit Hubertus Süllow.
URL:https://kulturini.de/event/boule-am-dienstag/2026-11-03/
LOCATION:Hannover\, Fiedelerplatz\, Fiedelerplatz\, Hannover\, 30519\, Germany
CATEGORIES:Kultur Gestalten,Spiele
ATTACH;FMTTYPE=image/jpeg:https://kulturini.de/wp-content/uploads/2025/10/iStock-1479287040-scaled.jpg
ORGANIZER;CN="Kulturinitiative D%C3%B6hren-W%C3%BClfel-Mittelfeld":MAILTO:ki@kulturini.de
END:VEVENT
BEGIN:VEVENT
DTSTART;TZID=Europe/Berlin:20261110T140000
DTEND;TZID=Europe/Berlin:20261110T160000
DTSTAMP:20260424T122635
CREATED:20250722T075513Z
LAST-MODIFIED:20251020T094621Z
UID:10000541-1794319200-1794326400@kulturini.de
SUMMARY:Boule am Dienstag
DESCRIPTION:Wir treffen uns in lockerer Runde zum gemeinsamen Boulespielen. Eine vorherige Anmeldung ist nicht nötig\, Sie können einfach dazu kommen. Die Boule-Gruppe trifft sich jeden Dienstag. \nMit Hubertus Süllow.
URL:https://kulturini.de/event/boule-am-dienstag/2026-11-10/
LOCATION:Hannover\, Fiedelerplatz\, Fiedelerplatz\, Hannover\, 30519\, Germany
CATEGORIES:Kultur Gestalten,Spiele
ATTACH;FMTTYPE=image/jpeg:https://kulturini.de/wp-content/uploads/2025/10/iStock-1479287040-scaled.jpg
ORGANIZER;CN="Kulturinitiative D%C3%B6hren-W%C3%BClfel-Mittelfeld":MAILTO:ki@kulturini.de
END:VEVENT
BEGIN:VEVENT
DTSTART;TZID=Europe/Berlin:20261111T180000
DTEND;TZID=Europe/Berlin:20261111T193000
DTSTAMP:20260424T122635
CREATED:20250520T072555Z
LAST-MODIFIED:20251020T105709Z
UID:10000169-1794420000-1794425400@kulturini.de
SUMMARY:Klangmalerei – musikalische Improvisation
DESCRIPTION:Bei der „dirigierten Improvisation“ spielen wir keine Noten\, sondern erschaffen gemeinsam Sounds und Melodien\, die der Dirigent zu einem Musikstück formt. Jeder spielt\, was er kann und will. Neue Leute sind herzlich willkommen! \nMit Thomas Siebert (Oboist und Klarinettist). \n  \n 
URL:https://kulturini.de/event/klangmalerei-musikalische-improvisation/2026-11-11/
LOCATION:Quartierstreff\, Borgentrickstr. 13\, Hannover\, 30519\, Germany
CATEGORIES:Kultur Gestalten,Musik
ATTACH;FMTTYPE=image/png:https://kulturini.de/wp-content/uploads/2025/10/14.png
ORGANIZER;CN="Kulturinitiative D%C3%B6hren-W%C3%BClfel-Mittelfeld":MAILTO:ki@kulturini.de
END:VEVENT
BEGIN:VEVENT
DTSTART;TZID=Europe/Berlin:20261113T153000
DTEND;TZID=Europe/Berlin:20261113T173000
DTSTAMP:20260424T122635
CREATED:20260219T193151Z
LAST-MODIFIED:20260219T193152Z
UID:10000821-1794583800-1794591000@kulturini.de
SUMMARY:Damals in Döhren\, Wülfel\, Seelhorst
DESCRIPTION:Wir treffen uns einmal im Monat zum Austausch über das Leben in diesen Stadtteilen während der letzten Jahrzehnte. Bereichern Sie unsere Arbeit und bringen Sie gern Fotos oder Schriftstücke mit. Vielleicht können wir gemeinsam kleine Stadtgeschichten erstellen.
URL:https://kulturini.de/event/damals-in-doehren-wuelfel-seelhorst-2/2026-11-13/
LOCATION:Quartierstreff\, Borgentrickstr. 13\, Hannover\, 30519\, Germany
CATEGORIES:Kultur Gestalten
ATTACH;FMTTYPE=image/jpeg:https://kulturini.de/wp-content/uploads/2026/01/Damals-in-Doehren.jpg
ORGANIZER;CN="Kulturinitiative D%C3%B6hren-W%C3%BClfel-Mittelfeld":MAILTO:ki@kulturini.de
END:VEVENT
BEGIN:VEVENT
DTSTART;TZID=Europe/Berlin:20261117T140000
DTEND;TZID=Europe/Berlin:20261117T160000
DTSTAMP:20260424T122635
CREATED:20250722T075513Z
LAST-MODIFIED:20251020T094621Z
UID:10000542-1794924000-1794931200@kulturini.de
SUMMARY:Boule am Dienstag
DESCRIPTION:Wir treffen uns in lockerer Runde zum gemeinsamen Boulespielen. Eine vorherige Anmeldung ist nicht nötig\, Sie können einfach dazu kommen. Die Boule-Gruppe trifft sich jeden Dienstag. \nMit Hubertus Süllow.
URL:https://kulturini.de/event/boule-am-dienstag/2026-11-17/
LOCATION:Hannover\, Fiedelerplatz\, Fiedelerplatz\, Hannover\, 30519\, Germany
CATEGORIES:Kultur Gestalten,Spiele
ATTACH;FMTTYPE=image/jpeg:https://kulturini.de/wp-content/uploads/2025/10/iStock-1479287040-scaled.jpg
ORGANIZER;CN="Kulturinitiative D%C3%B6hren-W%C3%BClfel-Mittelfeld":MAILTO:ki@kulturini.de
END:VEVENT
BEGIN:VEVENT
DTSTART;TZID=Europe/Berlin:20261124T140000
DTEND;TZID=Europe/Berlin:20261124T160000
DTSTAMP:20260424T122635
CREATED:20250722T075513Z
LAST-MODIFIED:20251020T094621Z
UID:10000543-1795528800-1795536000@kulturini.de
SUMMARY:Boule am Dienstag
DESCRIPTION:Wir treffen uns in lockerer Runde zum gemeinsamen Boulespielen. Eine vorherige Anmeldung ist nicht nötig\, Sie können einfach dazu kommen. Die Boule-Gruppe trifft sich jeden Dienstag. \nMit Hubertus Süllow.
URL:https://kulturini.de/event/boule-am-dienstag/2026-11-24/
LOCATION:Hannover\, Fiedelerplatz\, Fiedelerplatz\, Hannover\, 30519\, Germany
CATEGORIES:Kultur Gestalten,Spiele
ATTACH;FMTTYPE=image/jpeg:https://kulturini.de/wp-content/uploads/2025/10/iStock-1479287040-scaled.jpg
ORGANIZER;CN="Kulturinitiative D%C3%B6hren-W%C3%BClfel-Mittelfeld":MAILTO:ki@kulturini.de
END:VEVENT
BEGIN:VEVENT
DTSTART;TZID=Europe/Berlin:20261201T140000
DTEND;TZID=Europe/Berlin:20261201T160000
DTSTAMP:20260424T122635
CREATED:20250722T075513Z
LAST-MODIFIED:20251020T094621Z
UID:10000544-1796133600-1796140800@kulturini.de
SUMMARY:Boule am Dienstag
DESCRIPTION:Wir treffen uns in lockerer Runde zum gemeinsamen Boulespielen. Eine vorherige Anmeldung ist nicht nötig\, Sie können einfach dazu kommen. Die Boule-Gruppe trifft sich jeden Dienstag. \nMit Hubertus Süllow.
URL:https://kulturini.de/event/boule-am-dienstag/2026-12-01/
LOCATION:Hannover\, Fiedelerplatz\, Fiedelerplatz\, Hannover\, 30519\, Germany
CATEGORIES:Kultur Gestalten,Spiele
ATTACH;FMTTYPE=image/jpeg:https://kulturini.de/wp-content/uploads/2025/10/iStock-1479287040-scaled.jpg
ORGANIZER;CN="Kulturinitiative D%C3%B6hren-W%C3%BClfel-Mittelfeld":MAILTO:ki@kulturini.de
END:VEVENT
BEGIN:VEVENT
DTSTART;TZID=Europe/Berlin:20261208T140000
DTEND;TZID=Europe/Berlin:20261208T160000
DTSTAMP:20260424T122635
CREATED:20250722T075513Z
LAST-MODIFIED:20251020T094621Z
UID:10000545-1796738400-1796745600@kulturini.de
SUMMARY:Boule am Dienstag
DESCRIPTION:Wir treffen uns in lockerer Runde zum gemeinsamen Boulespielen. Eine vorherige Anmeldung ist nicht nötig\, Sie können einfach dazu kommen. Die Boule-Gruppe trifft sich jeden Dienstag. \nMit Hubertus Süllow.
URL:https://kulturini.de/event/boule-am-dienstag/2026-12-08/
LOCATION:Hannover\, Fiedelerplatz\, Fiedelerplatz\, Hannover\, 30519\, Germany
CATEGORIES:Kultur Gestalten,Spiele
ATTACH;FMTTYPE=image/jpeg:https://kulturini.de/wp-content/uploads/2025/10/iStock-1479287040-scaled.jpg
ORGANIZER;CN="Kulturinitiative D%C3%B6hren-W%C3%BClfel-Mittelfeld":MAILTO:ki@kulturini.de
END:VEVENT
BEGIN:VEVENT
DTSTART;TZID=Europe/Berlin:20261209T180000
DTEND;TZID=Europe/Berlin:20261209T193000
DTSTAMP:20260424T122635
CREATED:20250520T072555Z
LAST-MODIFIED:20251020T105709Z
UID:10000170-1796839200-1796844600@kulturini.de
SUMMARY:Klangmalerei – musikalische Improvisation
DESCRIPTION:Bei der „dirigierten Improvisation“ spielen wir keine Noten\, sondern erschaffen gemeinsam Sounds und Melodien\, die der Dirigent zu einem Musikstück formt. Jeder spielt\, was er kann und will. Neue Leute sind herzlich willkommen! \nMit Thomas Siebert (Oboist und Klarinettist). \n  \n 
URL:https://kulturini.de/event/klangmalerei-musikalische-improvisation/2026-12-09/
LOCATION:Quartierstreff\, Borgentrickstr. 13\, Hannover\, 30519\, Germany
CATEGORIES:Kultur Gestalten,Musik
ATTACH;FMTTYPE=image/png:https://kulturini.de/wp-content/uploads/2025/10/14.png
ORGANIZER;CN="Kulturinitiative D%C3%B6hren-W%C3%BClfel-Mittelfeld":MAILTO:ki@kulturini.de
END:VEVENT
BEGIN:VEVENT
DTSTART;TZID=Europe/Berlin:20261215T140000
DTEND;TZID=Europe/Berlin:20261215T160000
DTSTAMP:20260424T122635
CREATED:20250722T075513Z
LAST-MODIFIED:20251020T094621Z
UID:10000546-1797343200-1797350400@kulturini.de
SUMMARY:Boule am Dienstag
DESCRIPTION:Wir treffen uns in lockerer Runde zum gemeinsamen Boulespielen. Eine vorherige Anmeldung ist nicht nötig\, Sie können einfach dazu kommen. Die Boule-Gruppe trifft sich jeden Dienstag. \nMit Hubertus Süllow.
URL:https://kulturini.de/event/boule-am-dienstag/2026-12-15/
LOCATION:Hannover\, Fiedelerplatz\, Fiedelerplatz\, Hannover\, 30519\, Germany
CATEGORIES:Kultur Gestalten,Spiele
ATTACH;FMTTYPE=image/jpeg:https://kulturini.de/wp-content/uploads/2025/10/iStock-1479287040-scaled.jpg
ORGANIZER;CN="Kulturinitiative D%C3%B6hren-W%C3%BClfel-Mittelfeld":MAILTO:ki@kulturini.de
END:VEVENT
BEGIN:VEVENT
DTSTART;TZID=Europe/Berlin:20261222T140000
DTEND;TZID=Europe/Berlin:20261222T160000
DTSTAMP:20260424T122636
CREATED:20250722T075513Z
LAST-MODIFIED:20251020T094621Z
UID:10000547-1797948000-1797955200@kulturini.de
SUMMARY:Boule am Dienstag
DESCRIPTION:Wir treffen uns in lockerer Runde zum gemeinsamen Boulespielen. Eine vorherige Anmeldung ist nicht nötig\, Sie können einfach dazu kommen. Die Boule-Gruppe trifft sich jeden Dienstag. \nMit Hubertus Süllow.
URL:https://kulturini.de/event/boule-am-dienstag/2026-12-22/
LOCATION:Hannover\, Fiedelerplatz\, Fiedelerplatz\, Hannover\, 30519\, Germany
CATEGORIES:Kultur Gestalten,Spiele
ATTACH;FMTTYPE=image/jpeg:https://kulturini.de/wp-content/uploads/2025/10/iStock-1479287040-scaled.jpg
ORGANIZER;CN="Kulturinitiative D%C3%B6hren-W%C3%BClfel-Mittelfeld":MAILTO:ki@kulturini.de
END:VEVENT
BEGIN:VEVENT
DTSTART;TZID=Europe/Berlin:20261229T140000
DTEND;TZID=Europe/Berlin:20261229T160000
DTSTAMP:20260424T122636
CREATED:20250722T075513Z
LAST-MODIFIED:20251020T094621Z
UID:10000548-1798552800-1798560000@kulturini.de
SUMMARY:Boule am Dienstag
DESCRIPTION:Wir treffen uns in lockerer Runde zum gemeinsamen Boulespielen. Eine vorherige Anmeldung ist nicht nötig\, Sie können einfach dazu kommen. Die Boule-Gruppe trifft sich jeden Dienstag. \nMit Hubertus Süllow.
URL:https://kulturini.de/event/boule-am-dienstag/2026-12-29/
LOCATION:Hannover\, Fiedelerplatz\, Fiedelerplatz\, Hannover\, 30519\, Germany
CATEGORIES:Kultur Gestalten,Spiele
ATTACH;FMTTYPE=image/jpeg:https://kulturini.de/wp-content/uploads/2025/10/iStock-1479287040-scaled.jpg
ORGANIZER;CN="Kulturinitiative D%C3%B6hren-W%C3%BClfel-Mittelfeld":MAILTO:ki@kulturini.de
END:VEVENT
BEGIN:VEVENT
DTSTART;TZID=Europe/Berlin:20270105T140000
DTEND;TZID=Europe/Berlin:20270105T160000
DTSTAMP:20260424T122636
CREATED:20250722T075513Z
LAST-MODIFIED:20251020T094621Z
UID:10000549-1799157600-1799164800@kulturini.de
SUMMARY:Boule am Dienstag
DESCRIPTION:Wir treffen uns in lockerer Runde zum gemeinsamen Boulespielen. Eine vorherige Anmeldung ist nicht nötig\, Sie können einfach dazu kommen. Die Boule-Gruppe trifft sich jeden Dienstag. \nMit Hubertus Süllow.
URL:https://kulturini.de/event/boule-am-dienstag/2027-01-05/
LOCATION:Hannover\, Fiedelerplatz\, Fiedelerplatz\, Hannover\, 30519\, Germany
CATEGORIES:Kultur Gestalten,Spiele
ATTACH;FMTTYPE=image/jpeg:https://kulturini.de/wp-content/uploads/2025/10/iStock-1479287040-scaled.jpg
ORGANIZER;CN="Kulturinitiative D%C3%B6hren-W%C3%BClfel-Mittelfeld":MAILTO:ki@kulturini.de
END:VEVENT
BEGIN:VEVENT
DTSTART;TZID=Europe/Berlin:20270112T140000
DTEND;TZID=Europe/Berlin:20270112T160000
DTSTAMP:20260424T122636
CREATED:20250722T075513Z
LAST-MODIFIED:20251020T094621Z
UID:10000550-1799762400-1799769600@kulturini.de
SUMMARY:Boule am Dienstag
DESCRIPTION:Wir treffen uns in lockerer Runde zum gemeinsamen Boulespielen. Eine vorherige Anmeldung ist nicht nötig\, Sie können einfach dazu kommen. Die Boule-Gruppe trifft sich jeden Dienstag. \nMit Hubertus Süllow.
URL:https://kulturini.de/event/boule-am-dienstag/2027-01-12/
LOCATION:Hannover\, Fiedelerplatz\, Fiedelerplatz\, Hannover\, 30519\, Germany
CATEGORIES:Kultur Gestalten,Spiele
ATTACH;FMTTYPE=image/jpeg:https://kulturini.de/wp-content/uploads/2025/10/iStock-1479287040-scaled.jpg
ORGANIZER;CN="Kulturinitiative D%C3%B6hren-W%C3%BClfel-Mittelfeld":MAILTO:ki@kulturini.de
END:VEVENT
BEGIN:VEVENT
DTSTART;TZID=Europe/Berlin:20270113T180000
DTEND;TZID=Europe/Berlin:20270113T193000
DTSTAMP:20260424T122636
CREATED:20250520T072555Z
LAST-MODIFIED:20251020T105709Z
UID:10000171-1799863200-1799868600@kulturini.de
SUMMARY:Klangmalerei – musikalische Improvisation
DESCRIPTION:Bei der „dirigierten Improvisation“ spielen wir keine Noten\, sondern erschaffen gemeinsam Sounds und Melodien\, die der Dirigent zu einem Musikstück formt. Jeder spielt\, was er kann und will. Neue Leute sind herzlich willkommen! \nMit Thomas Siebert (Oboist und Klarinettist). \n  \n 
URL:https://kulturini.de/event/klangmalerei-musikalische-improvisation/2027-01-13/
LOCATION:Quartierstreff\, Borgentrickstr. 13\, Hannover\, 30519\, Germany
CATEGORIES:Kultur Gestalten,Musik
ATTACH;FMTTYPE=image/png:https://kulturini.de/wp-content/uploads/2025/10/14.png
ORGANIZER;CN="Kulturinitiative D%C3%B6hren-W%C3%BClfel-Mittelfeld":MAILTO:ki@kulturini.de
END:VEVENT
BEGIN:VEVENT
DTSTART;TZID=Europe/Berlin:20270119T140000
DTEND;TZID=Europe/Berlin:20270119T160000
DTSTAMP:20260424T122636
CREATED:20250722T075513Z
LAST-MODIFIED:20251020T094621Z
UID:10000551-1800367200-1800374400@kulturini.de
SUMMARY:Boule am Dienstag
DESCRIPTION:Wir treffen uns in lockerer Runde zum gemeinsamen Boulespielen. Eine vorherige Anmeldung ist nicht nötig\, Sie können einfach dazu kommen. Die Boule-Gruppe trifft sich jeden Dienstag. \nMit Hubertus Süllow.
URL:https://kulturini.de/event/boule-am-dienstag/2027-01-19/
LOCATION:Hannover\, Fiedelerplatz\, Fiedelerplatz\, Hannover\, 30519\, Germany
CATEGORIES:Kultur Gestalten,Spiele
ATTACH;FMTTYPE=image/jpeg:https://kulturini.de/wp-content/uploads/2025/10/iStock-1479287040-scaled.jpg
ORGANIZER;CN="Kulturinitiative D%C3%B6hren-W%C3%BClfel-Mittelfeld":MAILTO:ki@kulturini.de
END:VEVENT
BEGIN:VEVENT
DTSTART;TZID=Europe/Berlin:20270126T140000
DTEND;TZID=Europe/Berlin:20270126T160000
DTSTAMP:20260424T122636
CREATED:20250722T075513Z
LAST-MODIFIED:20251020T094621Z
UID:10000552-1800972000-1800979200@kulturini.de
SUMMARY:Boule am Dienstag
DESCRIPTION:Wir treffen uns in lockerer Runde zum gemeinsamen Boulespielen. Eine vorherige Anmeldung ist nicht nötig\, Sie können einfach dazu kommen. Die Boule-Gruppe trifft sich jeden Dienstag. \nMit Hubertus Süllow.
URL:https://kulturini.de/event/boule-am-dienstag/2027-01-26/
LOCATION:Hannover\, Fiedelerplatz\, Fiedelerplatz\, Hannover\, 30519\, Germany
CATEGORIES:Kultur Gestalten,Spiele
ATTACH;FMTTYPE=image/jpeg:https://kulturini.de/wp-content/uploads/2025/10/iStock-1479287040-scaled.jpg
ORGANIZER;CN="Kulturinitiative D%C3%B6hren-W%C3%BClfel-Mittelfeld":MAILTO:ki@kulturini.de
END:VEVENT
BEGIN:VEVENT
DTSTART;TZID=Europe/Berlin:20270202T140000
DTEND;TZID=Europe/Berlin:20270202T160000
DTSTAMP:20260424T122636
CREATED:20250722T075513Z
LAST-MODIFIED:20251020T094621Z
UID:10000553-1801576800-1801584000@kulturini.de
SUMMARY:Boule am Dienstag
DESCRIPTION:Wir treffen uns in lockerer Runde zum gemeinsamen Boulespielen. Eine vorherige Anmeldung ist nicht nötig\, Sie können einfach dazu kommen. Die Boule-Gruppe trifft sich jeden Dienstag. \nMit Hubertus Süllow.
URL:https://kulturini.de/event/boule-am-dienstag/2027-02-02/
LOCATION:Hannover\, Fiedelerplatz\, Fiedelerplatz\, Hannover\, 30519\, Germany
CATEGORIES:Kultur Gestalten,Spiele
ATTACH;FMTTYPE=image/jpeg:https://kulturini.de/wp-content/uploads/2025/10/iStock-1479287040-scaled.jpg
ORGANIZER;CN="Kulturinitiative D%C3%B6hren-W%C3%BClfel-Mittelfeld":MAILTO:ki@kulturini.de
END:VEVENT
BEGIN:VEVENT
DTSTART;TZID=Europe/Berlin:20270209T140000
DTEND;TZID=Europe/Berlin:20270209T160000
DTSTAMP:20260424T122636
CREATED:20250722T075513Z
LAST-MODIFIED:20251020T094621Z
UID:10000554-1802181600-1802188800@kulturini.de
SUMMARY:Boule am Dienstag
DESCRIPTION:Wir treffen uns in lockerer Runde zum gemeinsamen Boulespielen. Eine vorherige Anmeldung ist nicht nötig\, Sie können einfach dazu kommen. Die Boule-Gruppe trifft sich jeden Dienstag. \nMit Hubertus Süllow.
URL:https://kulturini.de/event/boule-am-dienstag/2027-02-09/
LOCATION:Hannover\, Fiedelerplatz\, Fiedelerplatz\, Hannover\, 30519\, Germany
CATEGORIES:Kultur Gestalten,Spiele
ATTACH;FMTTYPE=image/jpeg:https://kulturini.de/wp-content/uploads/2025/10/iStock-1479287040-scaled.jpg
ORGANIZER;CN="Kulturinitiative D%C3%B6hren-W%C3%BClfel-Mittelfeld":MAILTO:ki@kulturini.de
END:VEVENT
BEGIN:VEVENT
DTSTART;TZID=Europe/Berlin:20270210T180000
DTEND;TZID=Europe/Berlin:20270210T193000
DTSTAMP:20260424T122636
CREATED:20250520T072555Z
LAST-MODIFIED:20251020T105709Z
UID:10000172-1802282400-1802287800@kulturini.de
SUMMARY:Klangmalerei – musikalische Improvisation
DESCRIPTION:Bei der „dirigierten Improvisation“ spielen wir keine Noten\, sondern erschaffen gemeinsam Sounds und Melodien\, die der Dirigent zu einem Musikstück formt. Jeder spielt\, was er kann und will. Neue Leute sind herzlich willkommen! \nMit Thomas Siebert (Oboist und Klarinettist). \n  \n 
URL:https://kulturini.de/event/klangmalerei-musikalische-improvisation/2027-02-10/
LOCATION:Quartierstreff\, Borgentrickstr. 13\, Hannover\, 30519\, Germany
CATEGORIES:Kultur Gestalten,Musik
ATTACH;FMTTYPE=image/png:https://kulturini.de/wp-content/uploads/2025/10/14.png
ORGANIZER;CN="Kulturinitiative D%C3%B6hren-W%C3%BClfel-Mittelfeld":MAILTO:ki@kulturini.de
END:VEVENT
BEGIN:VEVENT
DTSTART;TZID=Europe/Berlin:20270216T140000
DTEND;TZID=Europe/Berlin:20270216T160000
DTSTAMP:20260424T122636
CREATED:20250722T075513Z
LAST-MODIFIED:20251020T094621Z
UID:10000555-1802786400-1802793600@kulturini.de
SUMMARY:Boule am Dienstag
DESCRIPTION:Wir treffen uns in lockerer Runde zum gemeinsamen Boulespielen. Eine vorherige Anmeldung ist nicht nötig\, Sie können einfach dazu kommen. Die Boule-Gruppe trifft sich jeden Dienstag. \nMit Hubertus Süllow.
URL:https://kulturini.de/event/boule-am-dienstag/2027-02-16/
LOCATION:Hannover\, Fiedelerplatz\, Fiedelerplatz\, Hannover\, 30519\, Germany
CATEGORIES:Kultur Gestalten,Spiele
ATTACH;FMTTYPE=image/jpeg:https://kulturini.de/wp-content/uploads/2025/10/iStock-1479287040-scaled.jpg
ORGANIZER;CN="Kulturinitiative D%C3%B6hren-W%C3%BClfel-Mittelfeld":MAILTO:ki@kulturini.de
END:VEVENT
BEGIN:VEVENT
DTSTART;TZID=Europe/Berlin:20270223T140000
DTEND;TZID=Europe/Berlin:20270223T160000
DTSTAMP:20260424T122636
CREATED:20250722T075513Z
LAST-MODIFIED:20251020T094621Z
UID:10000556-1803391200-1803398400@kulturini.de
SUMMARY:Boule am Dienstag
DESCRIPTION:Wir treffen uns in lockerer Runde zum gemeinsamen Boulespielen. Eine vorherige Anmeldung ist nicht nötig\, Sie können einfach dazu kommen. Die Boule-Gruppe trifft sich jeden Dienstag. \nMit Hubertus Süllow.
URL:https://kulturini.de/event/boule-am-dienstag/2027-02-23/
LOCATION:Hannover\, Fiedelerplatz\, Fiedelerplatz\, Hannover\, 30519\, Germany
CATEGORIES:Kultur Gestalten,Spiele
ATTACH;FMTTYPE=image/jpeg:https://kulturini.de/wp-content/uploads/2025/10/iStock-1479287040-scaled.jpg
ORGANIZER;CN="Kulturinitiative D%C3%B6hren-W%C3%BClfel-Mittelfeld":MAILTO:ki@kulturini.de
END:VEVENT
BEGIN:VEVENT
DTSTART;TZID=Europe/Berlin:20270302T140000
DTEND;TZID=Europe/Berlin:20270302T160000
DTSTAMP:20260424T122636
CREATED:20250722T075513Z
LAST-MODIFIED:20251020T094621Z
UID:10000557-1803996000-1804003200@kulturini.de
SUMMARY:Boule am Dienstag
DESCRIPTION:Wir treffen uns in lockerer Runde zum gemeinsamen Boulespielen. Eine vorherige Anmeldung ist nicht nötig\, Sie können einfach dazu kommen. Die Boule-Gruppe trifft sich jeden Dienstag. \nMit Hubertus Süllow.
URL:https://kulturini.de/event/boule-am-dienstag/2027-03-02/
LOCATION:Hannover\, Fiedelerplatz\, Fiedelerplatz\, Hannover\, 30519\, Germany
CATEGORIES:Kultur Gestalten,Spiele
ATTACH;FMTTYPE=image/jpeg:https://kulturini.de/wp-content/uploads/2025/10/iStock-1479287040-scaled.jpg
ORGANIZER;CN="Kulturinitiative D%C3%B6hren-W%C3%BClfel-Mittelfeld":MAILTO:ki@kulturini.de
END:VEVENT
BEGIN:VEVENT
DTSTART;TZID=Europe/Berlin:20270309T140000
DTEND;TZID=Europe/Berlin:20270309T160000
DTSTAMP:20260424T122636
CREATED:20250722T075513Z
LAST-MODIFIED:20251020T094621Z
UID:10000558-1804600800-1804608000@kulturini.de
SUMMARY:Boule am Dienstag
DESCRIPTION:Wir treffen uns in lockerer Runde zum gemeinsamen Boulespielen. Eine vorherige Anmeldung ist nicht nötig\, Sie können einfach dazu kommen. Die Boule-Gruppe trifft sich jeden Dienstag. \nMit Hubertus Süllow.
URL:https://kulturini.de/event/boule-am-dienstag/2027-03-09/
LOCATION:Hannover\, Fiedelerplatz\, Fiedelerplatz\, Hannover\, 30519\, Germany
CATEGORIES:Kultur Gestalten,Spiele
ATTACH;FMTTYPE=image/jpeg:https://kulturini.de/wp-content/uploads/2025/10/iStock-1479287040-scaled.jpg
ORGANIZER;CN="Kulturinitiative D%C3%B6hren-W%C3%BClfel-Mittelfeld":MAILTO:ki@kulturini.de
END:VEVENT
BEGIN:VEVENT
DTSTART;TZID=Europe/Berlin:20270310T180000
DTEND;TZID=Europe/Berlin:20270310T193000
DTSTAMP:20260424T122636
CREATED:20250520T072555Z
LAST-MODIFIED:20251020T105709Z
UID:10000173-1804701600-1804707000@kulturini.de
SUMMARY:Klangmalerei – musikalische Improvisation
DESCRIPTION:Bei der „dirigierten Improvisation“ spielen wir keine Noten\, sondern erschaffen gemeinsam Sounds und Melodien\, die der Dirigent zu einem Musikstück formt. Jeder spielt\, was er kann und will. Neue Leute sind herzlich willkommen! \nMit Thomas Siebert (Oboist und Klarinettist). \n  \n 
URL:https://kulturini.de/event/klangmalerei-musikalische-improvisation/2027-03-10/
LOCATION:Quartierstreff\, Borgentrickstr. 13\, Hannover\, 30519\, Germany
CATEGORIES:Kultur Gestalten,Musik
ATTACH;FMTTYPE=image/png:https://kulturini.de/wp-content/uploads/2025/10/14.png
ORGANIZER;CN="Kulturinitiative D%C3%B6hren-W%C3%BClfel-Mittelfeld":MAILTO:ki@kulturini.de
END:VEVENT
BEGIN:VEVENT
DTSTART;TZID=Europe/Berlin:20270316T140000
DTEND;TZID=Europe/Berlin:20270316T160000
DTSTAMP:20260424T122636
CREATED:20250722T075513Z
LAST-MODIFIED:20251020T094621Z
UID:10000559-1805205600-1805212800@kulturini.de
SUMMARY:Boule am Dienstag
DESCRIPTION:Wir treffen uns in lockerer Runde zum gemeinsamen Boulespielen. Eine vorherige Anmeldung ist nicht nötig\, Sie können einfach dazu kommen. Die Boule-Gruppe trifft sich jeden Dienstag. \nMit Hubertus Süllow.
URL:https://kulturini.de/event/boule-am-dienstag/2027-03-16/
LOCATION:Hannover\, Fiedelerplatz\, Fiedelerplatz\, Hannover\, 30519\, Germany
CATEGORIES:Kultur Gestalten,Spiele
ATTACH;FMTTYPE=image/jpeg:https://kulturini.de/wp-content/uploads/2025/10/iStock-1479287040-scaled.jpg
ORGANIZER;CN="Kulturinitiative D%C3%B6hren-W%C3%BClfel-Mittelfeld":MAILTO:ki@kulturini.de
END:VEVENT
END:VCALENDAR