BEGIN:VCALENDAR
VERSION:2.0
PRODID:-//Kulturini - ECPv6.15.20//NONSGML v1.0//EN
CALSCALE:GREGORIAN
METHOD:PUBLISH
X-WR-CALNAME:Kulturini
X-ORIGINAL-URL:https://kulturini.de
X-WR-CALDESC:Veranstaltungen für Kulturini
REFRESH-INTERVAL;VALUE=DURATION:PT1H
X-Robots-Tag:noindex
X-PUBLISHED-TTL:PT1H
BEGIN:VTIMEZONE
TZID:Europe/Berlin
BEGIN:DAYLIGHT
TZOFFSETFROM:+0100
TZOFFSETTO:+0200
TZNAME:CEST
DTSTART:20250330T010000
END:DAYLIGHT
BEGIN:STANDARD
TZOFFSETFROM:+0200
TZOFFSETTO:+0100
TZNAME:CET
DTSTART:20251026T010000
END:STANDARD
BEGIN:DAYLIGHT
TZOFFSETFROM:+0100
TZOFFSETTO:+0200
TZNAME:CEST
DTSTART:20260329T010000
END:DAYLIGHT
BEGIN:STANDARD
TZOFFSETFROM:+0200
TZOFFSETTO:+0100
TZNAME:CET
DTSTART:20261025T010000
END:STANDARD
BEGIN:DAYLIGHT
TZOFFSETFROM:+0100
TZOFFSETTO:+0200
TZNAME:CEST
DTSTART:20270328T010000
END:DAYLIGHT
BEGIN:STANDARD
TZOFFSETFROM:+0200
TZOFFSETTO:+0100
TZNAME:CET
DTSTART:20271031T010000
END:STANDARD
END:VTIMEZONE
BEGIN:VEVENT
DTSTART;TZID=Europe/Berlin:20260530T110000
DTEND;TZID=Europe/Berlin:20260530T150000
DTSTAMP:20260422T135938
CREATED:20260421T085538Z
LAST-MODIFIED:20260421T085538Z
UID:10000842-1780138800-1780153200@kulturini.de
SUMMARY:Handlettering – wir schnörkeln!
DESCRIPTION:Mit Pinselfilzstiften\, Schwung und Phantasie entstehen liebevoll gestaltete Worte oder kurze Texte. Nach der Einführung in ein Basis-Alphabet verzieren wir unsere Letterings mit individuellen Schnörkeln und runden so die Gestaltungen ab. Vorkenntnisse sind nicht erforderlich. \nAnmeldung erforderlich – max. 16 Personen \nBitte mitbringen: einige Lieblingswörter \nHannover-Aktiv-Pass möglich
URL:https://kulturini.de/event/handlettering-wir-schnoerkeln/
LOCATION:Gemeindesaal St. Petri\, Am Lindenhofe 18\, Hannover\, 30519\, Germany
CATEGORIES:Kultur Gestalten,Zeichnen
ATTACH;FMTTYPE=image/jpeg:https://kulturini.de/wp-content/uploads/2026/04/17.8.-11-15-Uhr-Handlettering-–-wir-schnoerkeln.jpg
ORGANIZER;CN="Kulturinitiative D%C3%B6hren-W%C3%BClfel-Mittelfeld":MAILTO:ki@kulturini.de
END:VEVENT
END:VCALENDAR