BEGIN:VCALENDAR
VERSION:2.0
PRODID:-//Kulturini - ECPv6.15.20//NONSGML v1.0//EN
CALSCALE:GREGORIAN
METHOD:PUBLISH
X-WR-CALNAME:Kulturini
X-ORIGINAL-URL:https://kulturini.de
X-WR-CALDESC:Veranstaltungen für Kulturini
REFRESH-INTERVAL;VALUE=DURATION:PT1H
X-Robots-Tag:noindex
X-PUBLISHED-TTL:PT1H
BEGIN:VTIMEZONE
TZID:Europe/Berlin
BEGIN:DAYLIGHT
TZOFFSETFROM:+0100
TZOFFSETTO:+0200
TZNAME:CEST
DTSTART:20250330T010000
END:DAYLIGHT
BEGIN:STANDARD
TZOFFSETFROM:+0200
TZOFFSETTO:+0100
TZNAME:CET
DTSTART:20251026T010000
END:STANDARD
BEGIN:DAYLIGHT
TZOFFSETFROM:+0100
TZOFFSETTO:+0200
TZNAME:CEST
DTSTART:20260329T010000
END:DAYLIGHT
BEGIN:STANDARD
TZOFFSETFROM:+0200
TZOFFSETTO:+0100
TZNAME:CET
DTSTART:20261025T010000
END:STANDARD
BEGIN:DAYLIGHT
TZOFFSETFROM:+0100
TZOFFSETTO:+0200
TZNAME:CEST
DTSTART:20270328T010000
END:DAYLIGHT
BEGIN:STANDARD
TZOFFSETFROM:+0200
TZOFFSETTO:+0100
TZNAME:CET
DTSTART:20271031T010000
END:STANDARD
END:VTIMEZONE
BEGIN:VEVENT
DTSTART;TZID=Europe/Berlin:20260218T183000
DTEND;TZID=Europe/Berlin:20260218T200000
DTSTAMP:20260422T122322
CREATED:20260120T114143Z
LAST-MODIFIED:20260120T114450Z
UID:10000805-1771439400-1771444800@kulturini.de
SUMMARY:Oper verstehen und gemeinsam erleben: Puccini - „Turandot“
DESCRIPTION:Peking\, in märchenhafter Zeit: Wer Prinzessin Turandot heiraten möchte\, muss drei Rätsel richtig beantworten\, wer scheitert\, wird hingerichtet. Ein Abend mit ungemein verführerischen Arien und großen\, subtil gezeichneten Chorszenen. Gemeinsam besuchen wir die Einführung „Hör’n Sie mal!“ in der Staatsoper: Der Dirigent erläutert im Gespräch mit der Dramaturgin die Besonderheiten der Musik. Ein Angebot für alle\, die mehr wissen wollen. Gut informiert besuchen wir am 07.03.2026 gemeinsam die Vorstellung.
URL:https://kulturini.de/event/oper-verstehen-und-gemeinsam-erleben-puccini-turandot/
LOCATION:Staatsoper Hannover\, Opernplatz 1\, Hannover\, 30159\, Germany
CATEGORIES:Kultur Geniessen,Opernbesuch
ATTACH;FMTTYPE=image/png:https://kulturini.de/wp-content/uploads/2025/07/6.png
END:VEVENT
END:VCALENDAR