BEGIN:VCALENDAR
VERSION:2.0
PRODID:-//Kulturini - ECPv6.15.20//NONSGML v1.0//EN
CALSCALE:GREGORIAN
METHOD:PUBLISH
X-ORIGINAL-URL:https://kulturini.de
X-WR-CALDESC:Veranstaltungen für Kulturini
REFRESH-INTERVAL;VALUE=DURATION:PT1H
X-Robots-Tag:noindex
X-PUBLISHED-TTL:PT1H
BEGIN:VTIMEZONE
TZID:Europe/Berlin
BEGIN:DAYLIGHT
TZOFFSETFROM:+0100
TZOFFSETTO:+0200
TZNAME:CEST
DTSTART:20240331T010000
END:DAYLIGHT
BEGIN:STANDARD
TZOFFSETFROM:+0200
TZOFFSETTO:+0100
TZNAME:CET
DTSTART:20241027T010000
END:STANDARD
BEGIN:DAYLIGHT
TZOFFSETFROM:+0100
TZOFFSETTO:+0200
TZNAME:CEST
DTSTART:20250330T010000
END:DAYLIGHT
BEGIN:STANDARD
TZOFFSETFROM:+0200
TZOFFSETTO:+0100
TZNAME:CET
DTSTART:20251026T010000
END:STANDARD
BEGIN:DAYLIGHT
TZOFFSETFROM:+0100
TZOFFSETTO:+0200
TZNAME:CEST
DTSTART:20260329T010000
END:DAYLIGHT
BEGIN:STANDARD
TZOFFSETFROM:+0200
TZOFFSETTO:+0100
TZNAME:CET
DTSTART:20261025T010000
END:STANDARD
END:VTIMEZONE
BEGIN:VEVENT
DTSTART;TZID=Europe/Berlin:20251120T153000
DTEND;TZID=Europe/Berlin:20251120T183000
DTSTAMP:20260422T122625
CREATED:20251020T102140Z
LAST-MODIFIED:20251020T102140Z
UID:10000747-1763652600-1763663400@kulturini.de
SUMMARY:1. Bastelbasar
DESCRIPTION:An mehreren Tischen gibt es Basteleien  aus verschiedenen Materialien zum Ausprobieren. Mitmachen ist jederzeit möglich – solange der Vorrat reicht und Sitzplätze verfügbar sind. Außerdem am Stand der Kulturinitiative allerlei weihnachtliches zum Mitnehmen gegen Spende. \nMit Kathrin Lippel\, Ursula Klein und Christine Braune
URL:https://kulturini.de/event/1-bastelbasar/
LOCATION:Freizeitheim Döhren\, An der Wollebahn 1\, Hannover\, 30519\, Germany
CATEGORIES:Basteln,Kultur Gestalten
ATTACH;FMTTYPE=image/png:https://kulturini.de/wp-content/uploads/2025/10/16.png
END:VEVENT
END:VCALENDAR