BEGIN:VCALENDAR
VERSION:2.0
PRODID:-//Kulturini - ECPv6.15.20//NONSGML v1.0//EN
CALSCALE:GREGORIAN
METHOD:PUBLISH
X-WR-CALNAME:Kulturini
X-ORIGINAL-URL:https://kulturini.de
X-WR-CALDESC:Veranstaltungen für Kulturini
REFRESH-INTERVAL;VALUE=DURATION:PT1H
X-Robots-Tag:noindex
X-PUBLISHED-TTL:PT1H
BEGIN:VTIMEZONE
TZID:Europe/Berlin
BEGIN:DAYLIGHT
TZOFFSETFROM:+0100
TZOFFSETTO:+0200
TZNAME:CEST
DTSTART:20240331T010000
END:DAYLIGHT
BEGIN:STANDARD
TZOFFSETFROM:+0200
TZOFFSETTO:+0100
TZNAME:CET
DTSTART:20241027T010000
END:STANDARD
BEGIN:DAYLIGHT
TZOFFSETFROM:+0100
TZOFFSETTO:+0200
TZNAME:CEST
DTSTART:20250330T010000
END:DAYLIGHT
BEGIN:STANDARD
TZOFFSETFROM:+0200
TZOFFSETTO:+0100
TZNAME:CET
DTSTART:20251026T010000
END:STANDARD
BEGIN:DAYLIGHT
TZOFFSETFROM:+0100
TZOFFSETTO:+0200
TZNAME:CEST
DTSTART:20260329T010000
END:DAYLIGHT
BEGIN:STANDARD
TZOFFSETFROM:+0200
TZOFFSETTO:+0100
TZNAME:CET
DTSTART:20261025T010000
END:STANDARD
END:VTIMEZONE
BEGIN:VEVENT
DTSTART;TZID=Europe/Berlin:20251103T180000
DTEND;TZID=Europe/Berlin:20251103T193000
DTSTAMP:20260422T153441
CREATED:20251020T091959Z
LAST-MODIFIED:20251020T112806Z
UID:10000218-1762192800-1762198200@kulturini.de
SUMMARY:Einführung & Ausstellung: Christopher Balassa: Transfigura - Die Verklärung des Bildes
DESCRIPTION:Heute beschäftigen wir uns mit der Lindner Galerie metavier\, in der ein Bestattungsunternehmer Kunst präsentiert\, die Tod\, Vergänglichkeit und Transzendenz reflektiert. Es ist eine ungewöhnliche und spannende Auseinandersetzung mit diesen Themen in Hannovers Galerieszene. Die Ausstellung zeigt Kunstwerke von Christopher Balassa\, in denen er die spirituelle Kraft von Bildern und die Erleuchtung des Augenblicks beschwört. Kunsthistoriker Dr. Christian Vogel führt in das Werk ein. \nAm Sonntag\, dem 9.11.25 um 15 Uhr erfolgt der gemeinsame Ausstellungsbesuch.  \n\n 
URL:https://kulturini.de/event/einfuehrung-ausstellung-christopher-balassa-transfigura-die-verklaerung-des-bildes/
LOCATION:Gemeindesaal Auferstehungskirche\, Helmstedter Str. 59\, Hannover\, 30519
CATEGORIES:Ausstellungen,Kultur Geniessen
ATTACH;FMTTYPE=image/png:https://kulturini.de/wp-content/uploads/2025/10/Facebook-November-Dezember-Januar-1920-x-1080-px2-1.png
END:VEVENT
END:VCALENDAR