BEGIN:VCALENDAR
VERSION:2.0
PRODID:-//Kulturini - ECPv6.15.20//NONSGML v1.0//EN
CALSCALE:GREGORIAN
METHOD:PUBLISH
X-ORIGINAL-URL:https://kulturini.de
X-WR-CALDESC:Veranstaltungen für Kulturini
REFRESH-INTERVAL;VALUE=DURATION:PT1H
X-Robots-Tag:noindex
X-PUBLISHED-TTL:PT1H
BEGIN:VTIMEZONE
TZID:Europe/Berlin
BEGIN:DAYLIGHT
TZOFFSETFROM:+0100
TZOFFSETTO:+0200
TZNAME:CEST
DTSTART:20240331T010000
END:DAYLIGHT
BEGIN:STANDARD
TZOFFSETFROM:+0200
TZOFFSETTO:+0100
TZNAME:CET
DTSTART:20241027T010000
END:STANDARD
BEGIN:DAYLIGHT
TZOFFSETFROM:+0100
TZOFFSETTO:+0200
TZNAME:CEST
DTSTART:20250330T010000
END:DAYLIGHT
BEGIN:STANDARD
TZOFFSETFROM:+0200
TZOFFSETTO:+0100
TZNAME:CET
DTSTART:20251026T010000
END:STANDARD
BEGIN:DAYLIGHT
TZOFFSETFROM:+0100
TZOFFSETTO:+0200
TZNAME:CEST
DTSTART:20260329T010000
END:DAYLIGHT
BEGIN:STANDARD
TZOFFSETFROM:+0200
TZOFFSETTO:+0100
TZNAME:CET
DTSTART:20261025T010000
END:STANDARD
END:VTIMEZONE
BEGIN:VEVENT
DTSTART;TZID=Europe/Berlin:20250906T130000
DTEND;TZID=Europe/Berlin:20250907T200000
DTSTAMP:20260424T151010
CREATED:20250722T080409Z
LAST-MODIFIED:20250722T080612Z
UID:10000142-1757163600-1757275200@kulturini.de
SUMMARY:KulturLustWandeln 2025
DESCRIPTION:Zum 20. Mal organisiert die Kulturinitiative Döhren-Wülfel-Mittelfeld e.V. (KUI) das beliebte KulturLustWandeln. Bürger:innen\, die künstlerisch interessiert und tätig sind\, öffnen ihre Häuser\, Gärten und Höfe und bieten an beiden Tagen Lesungen\, musikalische Darbietungen\, bildende Kunst und Kunsthandwerk an.  \nAm Samstag\, dem 6.9.\, wird die Veranstaltung auf dem Fiedelerplatz feierlich eröffnet. Zum Abschluss findet am Sonntag\, dem 7.9.\, das beliebte Kulturpicknick statt\, bei dem alle ihre Speisen und Getränke mitbringen und bei Live-Musik von BLACK-X-H gemeinsam genießen. \n Programm-Flyer liegen im Freizeitheim Döhren\, im Quartierstreff\, im Antiquariat sowie in verschiedenen Einrichtungen im Stadtteil aus oder sind über die Website der Kulturinitiative digital einsehbar. \n6.9. 13:00: Eröffnung mit Musik auf dem Fiedelerplatz  \n7.9. 17:00: Kulturpicknick mit Live-Musik von BLACK-X-H
URL:https://kulturini.de/event/kulturlustwandeln-2025/
LOCATION:Hannover\, Fiedelerplatz\, Fiedelerplatz\, Hannover\, 30519\, Germany
CATEGORIES:Kulturlust Wandeln
ATTACH;FMTTYPE=image/png:https://kulturini.de/wp-content/uploads/2016/03/4.png
END:VEVENT
END:VCALENDAR