BEGIN:VCALENDAR
VERSION:2.0
PRODID:-//Kulturini - ECPv6.15.20//NONSGML v1.0//EN
CALSCALE:GREGORIAN
METHOD:PUBLISH
X-ORIGINAL-URL:https://kulturini.de
X-WR-CALDESC:Veranstaltungen für Kulturini
REFRESH-INTERVAL;VALUE=DURATION:PT1H
X-Robots-Tag:noindex
X-PUBLISHED-TTL:PT1H
BEGIN:VTIMEZONE
TZID:Europe/Berlin
BEGIN:DAYLIGHT
TZOFFSETFROM:+0100
TZOFFSETTO:+0200
TZNAME:CEST
DTSTART:20240331T010000
END:DAYLIGHT
BEGIN:STANDARD
TZOFFSETFROM:+0200
TZOFFSETTO:+0100
TZNAME:CET
DTSTART:20241027T010000
END:STANDARD
BEGIN:DAYLIGHT
TZOFFSETFROM:+0100
TZOFFSETTO:+0200
TZNAME:CEST
DTSTART:20250330T010000
END:DAYLIGHT
BEGIN:STANDARD
TZOFFSETFROM:+0200
TZOFFSETTO:+0100
TZNAME:CET
DTSTART:20251026T010000
END:STANDARD
BEGIN:DAYLIGHT
TZOFFSETFROM:+0100
TZOFFSETTO:+0200
TZNAME:CEST
DTSTART:20260329T010000
END:DAYLIGHT
BEGIN:STANDARD
TZOFFSETFROM:+0200
TZOFFSETTO:+0100
TZNAME:CET
DTSTART:20261025T010000
END:STANDARD
END:VTIMEZONE
BEGIN:VEVENT
DTSTART;TZID=Europe/Berlin:20250822T190000
DTEND;TZID=Europe/Berlin:20250822T230000
DTSTAMP:20260424T134558
CREATED:20250715T131557Z
LAST-MODIFIED:20250715T132219Z
UID:10000139-1755889200-1755903600@kulturini.de
SUMMARY:Table Quiz mit Dirk Reinecke
DESCRIPTION:Die St. Petri Gemeinde und die Kulturinitiative Döhren laden zur dritten Runde des spannenden Table Quiz mit Dirk Reinecke ein! \nKommt mit Freunden und testet euer Wissen in verschiedenen Kategorien\, von Allgemeinwissen über Musik bis hin zu Filmen – hier ist für jeden etwas dabei. Die Fragen sind herausfordernd gestellt und man muss um die Ecke denken\, um sie zu lösen. \nEs gibt Snacks und Getränke. \n  \nEintritt frei – Spenden erbeten \nAnmeldung bis 19.8.
URL:https://kulturini.de/event/table-quiz-mit-dirk-reinecke-2/
LOCATION:Gemeindesaal St. Petri\, Am Lindenhofe 18\, Hannover\, 30519\, Germany
CATEGORIES:Kultur Geniessen,Unterhaltung
ATTACH;FMTTYPE=image/png:https://kulturini.de/wp-content/uploads/2016/03/2.png
ORGANIZER;CN="Kulturinitiative D%C3%B6hren-W%C3%BClfel-Mittelfeld":MAILTO:ki@kulturini.de
END:VEVENT
END:VCALENDAR